Workbook
Name ·······: Equipos!$A$2:$D$13
Name egc: 'COPA AMERICA'!$JBH$3
Name gwgvftwvn: Equipos!$A$2:$D$13
Name mat: 'COPA AMERICA'!$BM$13
Name Nivell: Equipos!$C$2:$C$13
Name NombreEquipo: Equipos!$B$2:$B$13
Name OK: Equipos!$A$2:$A$13
Name otro: [1]!Tabla3[#Data]
Name Rank: Equipos!$D$2:$D$13

Sheet Inicio
F19: Foto: @conmebol

Sheet COPA AMERICA
E1: Selecciona Horario: | G1: Brasil | I1: Rellenar los cuadros grises
G2: =IFERROR(VLOOKUP(G1,BP39:BQ51,2,0),10) -> 3 | AH2: AUXILIARES | AV2: TOPIC | AW2: VALUE | CL2: no
F3: Fecha | G3: Hora | H3: Jor. | I3: Casa | K3: Gol | L3: Gol | N3: Fuera | AV3: SIN EMPEZAR | AW3: =AW4*2 -> 2000000000 | CD3: 1 | CE3: 12 | CF3: 18 | CG3: 19 | CH3: 13 | CI3: 20 | CJ3: 21 | CK3: 22 | CL3: 3 | CM3: 2 | CN3: 14 | CO3: 17 | CP3: 16 | CQ3: 15 | CR3: 4 | CS3: 5 | CT3: 10 | CU3: 8 | CV3: 6 | CW3: 11 | CX3: 7 | CY3: 9 | CZ3: - | DA3: - | DF3: OP1 | DG3: OP2 | DH3: OP3 | DI3: OP4 | DJ3: OP5 | DK3: OP6 | DL3: OP7 | DM3: OP8 | DN3: OP9 | DO3: OP10 | JBH3: matejero
A4: NombreEquipo | B4: A | C4: =COUNTIF(Equipos!$C$2:$C$13,'COPA AMERICA'!B4) -> 4 | E4: A | F4: 43630 | G4: =BV39+VLOOKUP($G$2,$BO$39:$BS$51,4,0)*VLOOKUP($G$2,$BO$39:$BS$51,5,0) -> 43630.896 | H4: J1 | I4: =A5 -> Brasil | K4: 3 | L4: 0 | N4: =A6 -> Bolivia | O4: =IF(NOT(OR(ISBLANK(K4),ISBLANK(L4))),1,0) -> 1 | Q4: =CONCATENATE("Grupo"," ",B4) -> Grupo A | AB4: ¡EMPATE! Puedes seleccionar el orden de los empatados. | AH4: =CONCATENATE("Auxiliar - ",Q4) -> Auxiliar - Grupo A | AU4: NR | AV4: MÁS PUNTOS General | AW4: =AW5*100 -> 1000000000 | AY4: =CONCATENATE(Q4," - GOLAVERAGE") -> Grupo A - GOLAVERAGE | BB4: Goles - Partidos Cruzados | BH4: Diferencia de Goles - Partidos Cruzados | CB4: Valor | CC4: Sum | CD4: =SUM(CD6:CD9) -> 0 | CE4: =SUM(CE6:CE9) -> 0 | CF4: =SUM(CF6:CF9) -> 0 | CG4: =SUM(CG6:CG9) -> 2 | CH4: =SUM(CH6:CH9) -> 0 | CI4: =SUM(CI6:CI9) -> 2 | CJ4: =SUM(CJ6:CJ9) -> 2 | CK4: =SUM(CK6:CK9) -> 4 | ... DA4: =SUM(DA6:DA9) -> 0 | DF4: 1234 | DG4: 123 | DH4: 12 | DI4: 234 | DJ4: 34 | DK4: 23 | DL4: 1 | DM4: 2 | DN4: 3 | DO4: 4
A5: {=IF(ROWS(A$5:A5)<=$C$4,INDEX(INDIRECT(A$4),SMALL(IF(Nivell=$B$4,ROW(Nivell)-ROW(Equipos!$C$2)+1),ROWS(B$4:B4))),"")} -> Brasil | F5: 43631 | G5: =BV40+VLOOKUP($G$2,$BO$39:$BS$51,4,0)*VLOOKUP($G$2,$BO$39:$BS$51,5,0) -> 43631.667 | H5: J1 | I5: =A7 -> Venezuela | K5: 0 | L5: 0 | N5: =A8 -> Perú | O5: =IF(NOT(OR(ISBLANK(K5),ISBLANK(L5))),1,0) -> 1 | Q5: Pos | R5: Selección | S5: Pts | T5: J | U5: G | V5: E | W5: P | X5: GF | Y5: GC | Z5: DG | AA5: =COUNTIF(AA6:AA9,"<100") -> 0 | AG5: NR | AH5: Puesto | AI5: Equipo | AJ5: Ptos | AK5: J | AL5: G | AM5: E | AN5: P | AO5: GF | AP5: GC | AQ5: Dif | AR5: Rank | AS5: Puesto | AV5: MÁS DIF GOLES General | AW5: =AW6*100 -> 10000000 | AY5: Equipo | AZ5: NEquipEqual | BA5: PUNTOS | BB5: Ranking Inv | BC5: Entre Iguales | BD5: =AY6 -> Brasil | BE5: =AY7 -> Bolivia | BF5: =AY8 -> Venezuela | BG5: =AY9 -> Perú | BH5: Ranking Inv | BI5: Entre Iguales | BJ5: =BD5 -> Brasil | BK5: =BE5 -> Bolivia | BL5: =BF5 -> Venezuela | BM5: =BG5 -> Perú | BP5: Inicio | BR5: 1R | BV5: Equipo | BW5: Ptos | BX5: Signo | BY5: Dif | BZ5: Gf | CC5: Com | CD5: COM_1 | CE5: COM_2 | CF5: COM_3 | CG5: COM_4 | CH5: COM_5 | CI5: COM_6 | CJ5: COM_7 | CK5: COM_8 | CL5: COM_3 | CM5: COM_3 | CN5: COM_4 | CO5: COM_7 | CP5: COM_6 | CQ5: COM_6 | CR5: COM_5 | CS5: COM_2 | CT5: COM_7 | CU5: COM_6 | CV5: COM_4 | CW5: COM_7 | CX5: COM_4 | CY5: COM_6 | DF5: 1 | DG5: 1 | DH5: 1 | DI5: 2 | DJ5: 3 | DK5: 2 | DL5: 1 | DM5: 2 | DN5: 3 | DO5: 4
A6: {=IF(ROWS(A$5:A6)<=$C$4,INDEX(INDIRECT(A$4),SMALL(IF(Nivell=$B$4,ROW(Nivell)-ROW(Equipos!$C$2)+1),ROWS(B$4:B5))),"")} -> Bolivia | F6: 43634 | G6: =BV41+VLOOKUP($G$2,$BO$39:$BS$51,4,0)*VLOOKUP($G$2,$BO$39:$BS$51,5,0) -> 43634.896 | H6: J2 | I6: =A5 -> Brasil | K6: 0 | L6: 0 | N6: =A7 -> Venezuela | O6: =IF(NOT(OR(ISBLANK(K6),ISBLANK(L6))),1,0) -> 1 | Q6: 1 | R6: =VLOOKUP(Q6,$AG$6:$AI$9,3,0) -> Brasil | S6: =VLOOKUP(R6,$AI$6:$AR$9,2,FALSE) -> 7 | T6: =VLOOKUP($R6,$AI$6:$AR$9,3,FALSE) -> 3 | U6: =VLOOKUP($R6,$AI$6:$AR$9,4,FALSE) -> 2 | V6: =VLOOKUP($R6,$AI$6:$AR$9,5,FALSE) -> 1 | W6: =VLOOKUP($R6,$AI$6:$AR$9,6,FALSE) -> 0 | X6: =VLOOKUP($R6,$AI$6:$AR$9,7,FALSE) -> 8 | Y6: =VLOOKUP($R6,$AI$6:$AR$9,8,FALSE) -> 0 | Z6: =VLOOKUP($R6,$AI$6:$AR$9,9,FALSE) -> 8 | AA6: =IF(SUM($AK$6:$AK$9)=12,MIN(ABS(BS5-BS6),ABS(BS6-BS7)),100) -> 2.0605e+09 | AB6: =IF(AND(AA6>=0,AA6<90),VLOOKUP(Q6,$BO$6:$BP$9,2,0),"") | AF6: =VLOOKUP($R6,$AI$6:$AR$9,10,FALSE) -> 7.080811e+09 | AG6: =RANK(AU6,$AU$6:$AU$9) -> 1 | AH6: =RANK(AR6,$AR$6:$AR$9) -> 1 | AI6: =A5 -> Brasil | AJ6: =AL6*3+AM6*1+AN6*0 -> 7 | AK6: =COUNTIFS($I$4:$I$9,AI6,$K$4:$K$9,"<>",$L$4:$L$9,"<>")+COUNTIFS($N$4:$N$9,AI6,$L$4:$L$9,"<>",$K$4:$K$9,"<>") -> 3 | AL6: {=SUM((I$4:I$9=AI6)*(K$4:K$9<>"")*(L$4:L$9<>"")*(K$4:K$9>L$4:L$9),(N$4:N$9=AI6)*(K$4:K$9<>"")*(L$4:L$9<>"")*(K$4:K$9<L$4:L$9))} -> 2 | AM6: {=SUM((I$4:I$9=AI6)*(K$4:K$9<>"")*(L$4:L$9<>"")*(K$4:K$9=L$4:L$9),(N$4:N$9=AI6)*(K$4:K$9<>"")*(L$4:L$9<>"")*(K$4:K$9=L$4:L$9))} -> 1 | AN6: {=SUM((I$4:I$9=AI6)*(L$4:L$9<>"")*(K$4:K$9<>"")*(K$4:K$9<L$4:L$9),(K$4:K$9<>"")*(N$4:N$9=AI6)*(L$4:L$9<>"")*(K$4:K$9>L$4:L$9))} -> 0 | AO6: {=SUMIFS($K$4:$K$9,$I$4:$I$9,AI6,$K$4:$K$9,"<>",$L$4:$L$9,"<>")+SUMIFS($L$4:$L$9,$N$4:$N$9,AI6,$K$4:$K$9,"<>",$L$4:$L$9,"<>")} -> 8 | AP6: {=SUMIFS($K$4:$K$9,$N$4:$N$9,AI6,$K$4:$K$9,"<>",$L$4:$L$9,"<>")+SUMIFS($L$4:$L$9,$I$4:$I$9,AI6,$K$4:$K$9,"<>",$L$4:$L$9,"<>")} -> 0 | AQ6: =AO6-AP6 -> 8 | AR6: =IF(AK6=0,-($AW$9*VLOOKUP(AI6,Tabla3[[NombreEquipo]:[Rank]],3,FALSE)),AJ6*$AW$4+AQ6*$AW$5+AO6*$AW$6+BA6-($AW$9*VLOOKUP(AI6,Tabla3[[NombreEquipo]:[Rank]],3,FALSE)/100)) -> 7.080811e+09 | AS6: =AH6 -> 1 | AU6: =IFERROR(AR6-VLOOKUP(AI6,$AB$6:$AC$9,2,0),AR6) -> 7.080811e+09 | AV6: MÁS GOLES General | AW6: =AW8*100 -> 100000 | AY6: =AI6 -> Brasil | AZ6: =COUNTIF(AJ6:AJ9,AJ6) -> 1 | BA6: =(BB6*$AW$8)+(BH6*$AW$7) -> 11000 | BB6: =RANK(BC6,BC6:BC9,1) -> 1 | BC6: =SUM(IF(AND(AJ6=AJ7,AQ6=AQ7,AO6=AO7),BE6,0),IF(AND(AJ6=AJ8,AQ6=AQ8,AO6=AO8),BF6,0),IF(AND(AJ6=AJ9,AQ6=AQ9,AO6=AO9),BG6,0)) -> 0 | BD6: 0 | BE6: {=SUMIFS($K$4:$K$9,$I$4:$I$9,$AY6,$K$4:$K$9,"<>",$L$4:$L$9,"<>",$N$4:$N$9,BE5)+SUMIFS($L$4:$L$9,$I$4:$I$9,BE5,$K$4:$K$9,"<>",$L$4:$L$9,"<>",$N$4:$N$9,$AY6)} -> 3 | BF6: {=SUMIFS($K$4:$K$9,$I$4:$I$9,$AY6,$K$4:$K$9,"<>",$L$4:$L$9,"<>",$N$4:$N$9,BF5)+SUMIFS($L$4:$L$9,$I$4:$I$9,BF5,$K$4:$K$9,"<>",$L$4:$L$9,"<>",$N$4:$N$9,$AY6)} -> 0 | BG6: {=SUMIFS($K$4:$K$9,$I$4:$I$9,$AY6,$K$4:$K$9,"<>",$L$4:$L$9,"<>",$N$4:$N$9,BG5)+SUMIFS($L$4:$L$9,$I$4:$I$9,BG5,$K$4:$K$9,"<>",$L$4:$L$9,"<>",$N$4:$N$9,$AY6)} -> 5 | BH6: =RANK(BI6,BI6:BI9,1) -> 1 | BI6: =SUM(IF(AND(AJ6=AJ7,AQ6=AQ7,AO6=AO7),BK6,0),IF(AND(AJ6=AJ8,AQ6=AQ8,AO6=AO8),BL6,0),IF(AND(AJ6=AJ9,AQ6=AQ9,AO6=AO9),BM6,0)) -> 0 | BJ6: 0 | BK6: =BE6-BD7 -> 3 | BL6: =BF6-BD8 -> 0 | BM6: =BG6-BD9 -> 5 | BN6: 1 | BO6: =RANK(BQ6,$BQ$6:$BQ$9) -> 1 | BP6: =A5 -> Brasil | BQ6: =IF(AK6=0,-($AW$9*VLOOKUP(AI6,Tabla3[[NombreEquipo]:[Rank]],3,FALSE)),AJ6*$AW$4+AQ6*$AW$5+AO6*$AW$6+BA6-($AW$9*VLOOKUP(AI6,Tabla3[[NombreEquipo]:[Rank]],3,FALSE)/100)) -> 7.080811e+09 | BR6: =VLOOKUP(Q6,$AH$6:$AI$9,2,0) -> Brasil | BS6: =VLOOKUP($BR6,$AI$6:$AR$9,10,FALSE) -> 7.080811e+09 | BU6: 1 | BV6: =VLOOKUP(BU6,$AH$6:$AI$9,2,0) -> Brasil | BW6: =VLOOKUP(BV6,$AI$6:$AR$9,2,FALSE) -> 7 | BX6: =IF(SUM($AK$6:$AK$9)=12,MIN(ABS(BS5-BS6),ABS(BS6-BS7)),100) -> 2.0605e+09 | BY6: =VLOOKUP($BV6,$AI$6:$AR$9,9,FALSE) -> 8 | BZ6: =VLOOKUP($BV6,$AI$6:$AR$9,7,FALSE) -> 8 | CA6: {=IF($CB$6=$CD$5,$DF$5:$DF$8,IF($CB$6=$CE$5,$DG$5:$DG$7,IF(OR($CB$6=$CF$5,$CB$6=$CG$5),$DH$5:$DH$6,$DL$5)))} -> 1 | CB6: =IFERROR(HLOOKUP(4,CD4:DA5,2,0),CK5) -> COM_8 | CC6: 1 | CD6: {=IF(AND($BW$6:$BW$9=$BW$6,$BX$6:$BX$9<90,$AQ$6:$AQ$9=$AQ$6,$BZ$6:$BZ$9=$BZ$6),1,0)} -> 0 | CE6: {=IF(AND($BW$6:$BW$8=$BW$6,$BX$6:$BX$8<90,$BW$6<>$BW$9),1,0)} -> 0 | CF6: {=IF(AND($BW$6:$BW$7=$BW$6,$BX$6:$BX$7<90,$BW$6<>$BW$8),1,0)} -> 0 | CG6: {=IF(AND($BW$6:$BW$7=$BW$6,$BX$6:$BX$7<90,$BW$6<>$BW$8),1,0)} -> 0 | CH6: {=IF(AND($BW$7:$BW$9=$BW$7,$BX$7:$BX$9<90,$BW$6<>$BW$7),1,0)} -> 0 | CI6: {=IF(AND($BW$6<>$BW$7,$BW$6<>$BW$9),1,0)} -> 1 | CJ6: {=IF(AND($BW$6<>$BW$7,$BW$6<>$BW$9),1,0)} -> 1 | CK6: {=IF(AND($BW$6<>$BW$7,$BW$6<>$BW$9),1,0)} -> 1 | CL6: {=IF(AND($BW$6:$BW$9=$BW$6,$BX$6:$BX$9<90,$BY$6:$BY$7=$BY$6,$BY$6<>$BY$8),1,0)} -> 0 | CM6: {=IF(AND($BW$6:$BW$9=$BW$6,$BX$6:$BX$9<90,$BY$6:$BY$9=$BY$6,$BZ$6=$BZ$7,$BZ$6<>$BZ$8),1,0)} -> 0 | CN6: {=IF(AND($BW$6:$BW$8=$BW$6,$BX$6:$BX$7<90,$BX$8>90),1,0)} -> 0 | CO6: {=IF(AND($BW$6<>$BW$7,$BW$6<>$BW$8),1,0)} -> 1 | CP6: {=IF(AND($BW$6<>$BW$7,$BW$6<>$BW$8),1,0)} -> 1 | CQ6: {=IF(AND($BW$6<>$BW$9,$BW$6:$BW$8=$BW$6,$BX$6>90,$BX$7:$BX$8<90),1,0)} -> 0 | CR6: {=IF(AND($BW$6:$BW$9=$BW$6,$BX$7:$BX$9<90,$BX$6<>$BX$7),1,0)} -> 0 | CS6: {=IF(AND($BW$6:$BW$9=$BW$6,$BX$6:$BX$8<90,$BX$6<>$BX$9),1,0)} -> 0 | CT6: {=IF(AND($BW$6:$BW$9=$BW$6,$BX$6:$BX$7>90,$BX$8:$BX$9<90,$BY$6:$BY$9=$BY$6,$BZ$6>$BZ$7,$BZ$6>$BZ$8,$BZ$6>$BZ$9),1,0)} -> 0 | CU6: {=IF(AND($BW$6:$BW$9=$BW$6,$BX$6>90,$BX$7:$BX$8<90,$BX$9>90,$BY$6:$BY$9=$BY$6,$BZ$6>$BZ$7,$BZ$6>$BZ$8,$BZ$6>$BZ$9),1,0)} -> 0 | CV6: {=IF(AND($BW$6:$BW$9=$BW$6,$BX$6:$BX$7<90,$BX$8:$BX$9>90,$BY$6:$BY$9=$BY$6,$BZ$6=$BZ$7,$BZ$6>$BZ$8,$BZ$6>$BZ$9),1,0)} -> 0 | CW6: {=IF(AND($BW$6:$BW$9=$BW$6,$BX$6:$BX$7>90,$BX$8:$BX$9<90,$BY$6:$BY$9=$BY$6,$BZ$6>$BZ$7,$BZ$7:$BZ$9=$BZ$7),1,0)} -> 0 | CX6: {=IF(AND($BW$6:$BW$9=$BW$6,$BX$6:$BX$7<90,$BX$8:$BX$9>90,$BY$6:$BY$9=$BY$6,$BZ$6:$BZ$8=$BZ$6,$BZ$6>$BZ$9),1,0)} -> 0 | CY6: {=IF(AND($BW$6:$BW$9=$BW$6,$BX$6>90,$BX$9>90,$BX$7:$BX$8<90,$BY$6:$BY$9=$BY$6,$BZ$6>$BZ$7:$BZ$9),1,0)} -> 0 | DF6: 2 | DG6: 2 | DH6: 2 | DI6: 3 | DJ6: 4 | DK6: 3
A7: {=IF(ROWS(A$5:A7)<=$C$4,INDEX(INDIRECT(A$4),SMALL(IF(Nivell=$B$4,ROW(Nivell)-ROW(Equipos!$C$2)+1),ROWS(B$4:B6))),"")} -> Venezuela | F7: 43634 | G7: =BV42+VLOOKUP($G$2,$BO$39:$BS$51,4,0)*VLOOKUP($G$2,$BO$39:$BS$51,5,0) -> 43634.771 | H7: J2 | I7: =A6 -> Bolivia | K7: 1 | L7: 3 | N7: =A8 -> Perú | O7: =IF(NOT(OR(ISBLANK(K7),ISBLANK(L7))),1,0) -> 1 | Q7: 2 | R7: =VLOOKUP(Q7,$AG$6:$AI$9,3,0) -> Venezuela | S7: =VLOOKUP(R7,$AI$6:$AR$9,2,FALSE) -> 5 | T7: =VLOOKUP($R7,$AI$6:$AR$9,3,FALSE) -> 3 | U7: =VLOOKUP($R7,$AI$6:$AR$9,4,FALSE) -> 1 | V7: =VLOOKUP($R7,$AI$6:$AR$9,5,FALSE) -> 2 | W7: =VLOOKUP($R7,$AI$6:$AR$9,6,FALSE) -> 0 | X7: =VLOOKUP($R7,$AI$6:$AR$9,7,FALSE) -> 3 | Y7: =VLOOKUP($R7,$AI$6:$AR$9,8,FALSE) -> 1 | Z7: =VLOOKUP($R7,$AI$6:$AR$9,9,FALSE) -> 2 | AA7: =IF(SUM($AK$6:$AK$9)=12,MIN(ABS(BS6-BS7),ABS(BS7-BS8)),100) -> 1.05e+09 | AB7: =IF(AND(AA7>=0,AA7<90),VLOOKUP(Q7,$BO$6:$BP$9,2,0),"") | AF7: =VLOOKUP($R7,$AI$6:$AR$9,10,FALSE) -> 5.020311e+09 | AG7: =RANK(AU7,$AU$6:$AU$9) -> 4 | AH7: =RANK(AR7,$AR$6:$AR$9) -> 4 | AI7: =A6 -> Bolivia | AJ7: =AL7*3+AM7*1+AN7*0 -> 0 | AK7: =COUNTIFS($I$4:$I$9,AI7,$K$4:$K$9,"<>",$L$4:$L$9,"<>")+COUNTIFS($N$4:$N$9,AI7,$L$4:$L$9,"<>",$K$4:$K$9,"<>") -> 3 | AL7: {=SUM((I$4:I$9=AI7)*(K$4:K$9<>"")*(L$4:L$9<>"")*(K$4:K$9>L$4:L$9),(N$4:N$9=AI7)*(K$4:K$9<>"")*(L$4:L$9<>"")*(K$4:K$9<L$4:L$9))} -> 0 | AM7: {=SUM((I$4:I$9=AI7)*(K$4:K$9<>"")*(L$4:L$9<>"")*(K$4:K$9=L$4:L$9),(N$4:N$9=AI7)*(K$4:K$9<>"")*(L$4:L$9<>"")*(K$4:K$9=L$4:L$9))} -> 0 | AN7: {=SUM((I$4:I$9=AI7)*(L$4:L$9<>"")*(K$4:K$9<>"")*(K$4:K$9<L$4:L$9),(K$4:K$9<>"")*(N$4:N$9=AI7)*(L$4:L$9<>"")*(K$4:K$9>L$4:L$9))} -> 3 | AO7: {=SUMIFS($K$4:$K$9,$I$4:$I$9,AI7,$K$4:$K$9,"<>",$L$4:$L$9,"<>")+SUMIFS($L$4:$L$9,$N$4:$N$9,AI7,$K$4:$K$9,"<>",$L$4:$L$9,"<>")} -> 2 | AP7: {=SUMIFS($K$4:$K$9,$N$4:$N$9,AI7,$K$4:$K$9,"<>",$L$4:$L$9,"<>")+SUMIFS($L$4:$L$9,$I$4:$I$9,AI7,$K$4:$K$9,"<>",$L$4:$L$9,"<>")} -> 9 | AQ7: =AO7-AP7 -> -7 | AR7: =IF(AK7=0,-($AW$9*VLOOKUP(AI7,Tabla3[[NombreEquipo]:[Rank]],3,FALSE)),AJ7*$AW$4+AQ7*$AW$5+AO7*$AW$6+BA7-($AW$9*VLOOKUP(AI7,Tabla3[[NombreEquipo]:[Rank]],3,FALSE)/100)) -> -69789000 | AS7: =AH7 -> 4 | AU7: =IFERROR(AR7-VLOOKUP(AI7,$AB$6:$AC$9,2,0),AR7) -> -69789000 | AV7: MÁS DIF GOLES X | AW7: =AW8*10 -> 10000 | AY7: =AI7 -> Bolivia | AZ7: =COUNTIF(AJ6:AJ9,AJ7) -> 1 | BA7: =(BB7*$AW$8)+(BH7*$AW$7) -> 11000 | BB7: =RANK(BC7,BC6:BC9,1) -> 1 | BC7: =SUM(IF(AND(AJ7=AJ8,AQ7=AQ8,AO7=AO8),BF7,0),IF(AND(AJ7=AJ9,AQ7=AQ9,AO7=AO9),BG7,0),IF(AND(AJ7=AJ6,AQ7=AQ6,AO7=AO6),BD7,0)) -> 0 | BD7: {=SUMIFS($K$4:$K$9,$I$4:$I$9,$AY7,$K$4:$K$9,"<>",$L$4:$L$9,"<>",$N$4:$N$9,BD5)+SUMIFS($L$4:$L$9,$I$4:$I$9,BD5,$K$4:$K$9,"<>",$L$4:$L$9,"<>",$N$4:$N$9,$AY7)} -> 0 | BE7: 0 | BF7: {=SUMIFS($K$4:$K$9,$I$4:$I$9,$AY7,$K$4:$K$9,"<>",$L$4:$L$9,"<>",$N$4:$N$9,BF5)+SUMIFS($L$4:$L$9,$I$4:$I$9,BF5,$K$4:$K$9,"<>",$L$4:$L$9,"<>",$N$4:$N$9,$AY7)} -> 1 | BG7: {=SUMIFS($K$4:$K$9,$I$4:$I$9,$AY7,$K$4:$K$9,"<>",$L$4:$L$9,"<>",$N$4:$N$9,BG5)+SUMIFS($L$4:$L$9,$I$4:$I$9,BG5,$K$4:$K$9,"<>",$L$4:$L$9,"<>",$N$4:$N$9,$AY7)} -> 1 | BH7: =RANK(BI7,BI6:BI9,1) -> 1 | BI7: =SUM(IF(AND(AJ7=AJ8,AQ7=AQ8,AO7=AO8),BL7,0),IF(AND(AJ7=AJ9,AQ7=AQ9,AO7=AO9),BM7,0),IF(AND(AJ7=AJ6,AQ7=AQ6,AO7=AO6),BJ7,0)) -> 0 | BJ7: =BD7-BE6 -> -3 | BK7: 0 | BL7: =BF7-BE8 -> -2 | BM7: =BG7-BE9 -> -2 | BN7: 2 | BO7: =RANK(BQ7,$BQ$6:$BQ$9) -> 4 | BP7: =A6 -> Bolivia | BQ7: =IF(AK7=0,-($AW$9*VLOOKUP(AI7,Tabla3[[NombreEquipo]:[Rank]],3,FALSE)),AJ7*$AW$4+AQ7*$AW$5+AO7*$AW$6+BA7-($AW$9*VLOOKUP(AI7,Tabla3[[NombreEquipo]:[Rank]],3,FALSE)/100)) -> -69789000 | BR7: =VLOOKUP(Q7,$AH$6:$AI$9,2,0) -> Venezuela | BS7: =VLOOKUP($BR7,$AI$6:$AR$9,10,FALSE) -> 5.020311e+09 | BU7: 2 | BV7: =VLOOKUP(BU7,$AH$6:$AI$9,2,0) -> Venezuela | BW7: =VLOOKUP(BV7,$AI$6:$AR$9,2,FALSE) -> 5 | BX7: =IF(SUM($AK$6:$AK$9)=12,MIN(ABS(BS6-BS7),ABS(BS7-BS8)),100) -> 1.05e+09 | BY7: =VLOOKUP($BV7,$AI$6:$AR$9,9,FALSE) -> 2 | BZ7: =VLOOKUP($BV7,$AI$6:$AR$9,7,FALSE) -> 3 | CA7: {=IF($CB$6=$CD$5,$DF$5:$DF$8,IF($CB$6=$CE$5,$DG$5:$DG$7,IF(OR($CB$6=$CF$5,$CB$6=$CG$5),$DH$5:$DH$6,IF($CB$6=$CH$5,$DI$5:$DI$7,(IF($CB$6=$CI$5,$DK$5:$DK$6,$DM$5))))))} -> 2 | CC7: 2 | CD7: {=IF(AND($BW$6:$BW$9=$BW$7,$BX$6:$BX$9<90,$AQ$6:$AQ$9=$AQ$7,$BZ$6:$BZ$9=$BZ$7),1,0)} -> 0 | CE7: {=IF(AND($BW$6:$BW$8=$BW$7,$BX$6:$BX$8<90,$BW$7<>$BW$9),1,0)} -> 0 | CF7: {=IF(AND($BW$6:$BW$7=$BW$6,$BX$6:$BX$7<90,$BW$6<>$BW$8),1,0)} -> 0 | CG7: {=IF(AND($BW$6:$BW$7=$BW$6,$BX$6:$BX$7<90,$BW$6<>$BW$8),1,0)} -> 0 | CH7: {=IF(AND($BW$7:$BW$9=$BW$7,$BX$7:$BX$9<90,$BW$6<>$BW$7),1,0)} -> 0 | CI7: {=IF(AND($BW$7:$BW$8=$BW$7,$BX$7:$BX$8<90,$BW$7<>$BW$6,$BW$7<>$BW$9),1,0)} -> 0 | CJ7: {=IF(AND($BW$7<>$BW$6,$BW$7<>$BW$8),1,0)} -> 1 | CK7: {=IF(AND($BW$7<>$BW$6,$BW$7<>$BW$8),1,0)} -> 1 | CL7: {=IF(AND($BW$6:$BW$9=$BW$6,$BX$6:$BX$9<90,$BY$6:$BY$7=$BY$6,$BY$7<>$BY$8),1,0)} -> 0 | CM7: {=IF(AND($BW$6:$BW$9=$BW$6,$BX$6:$BX$9<90,$BY$6:$BY$9=$BY$6,$BZ$6=$BZ$7,$BZ$7<>$BZ$8),1,0)} -> 0 | CN7: {=IF(AND($BW$6:$BW$8=$BW$7,$BX$6:$BX$7<90,$BX$8>90),1,0)} -> 0 | CO7: {=IF(AND($BW$7<>$BW$6,$BW$7:$BW$9=$BW$7,$BX$7>90,$BX$8:$BX$9<90),1,0)} -> 0 | CP7: {=IF(AND($BW$7<>$BW$6,$BW$7:$BW$9=$BW$7,$BX$9>90,$BX$7:$BX$8<90),1,0)} -> 0 | CQ7: {=IF(AND($BW$7<>$BW$9,$BW$6:$BW$8=$BW$7,$BX$6>90,$BX$7:$BX$8<90),1,0)} -> 0 | CR7: {=IF(AND($BW$6:$BW$9=$BW$7,$BX$7:$BX$9<90,$BX$6<>$BX$7),1,0)} -> 0 | CS7: {=IF(AND($BW$6:$BW$9=$BW$7,$BX$6:$BX$8<90,$BX$7<>$BX$9),1,0)} -> 0 | CT7: {=IF(AND($BW$6:$BW$9=$BW$7,$BX$6:$BX$7>90,$BX$8:$BX$9<90,$BY$6:$BY$9=$BY$7,$BZ$6>$BZ$7,$BZ$7>$BZ$8,$BZ$7>$BZ$9),1,0)} -> 0 | CU7: {=IF(AND($BW$6:$BW$9=$BW$7,$BX$6>90,$BX$7:$BX$8<90,$BX$9>90,$BY$6:$BY$9=$BY$7,$BZ$6>$BZ$7,$BZ$7=$BZ$8,$BZ$7>$BZ$9),1,0)} -> 0 | CV7: {=IF(AND($BW$6:$BW$9=$BW$7,$BX$6:$BX$7<90,$BX$8:$BX$9>90,$BY$6:$BY$9=$BY$7,$BZ$6=$BZ$7,$BZ$7>$BZ$8,$BZ$7>$BZ$9),1,0)} -> 0 | CW7: {=IF(AND($BW$6:$BW$9=$BW$7,$BX$6:$BX$7>90,$BX$8:$BX$9<90,$BY$6:$BY$9=$BY$7,$BZ$6>$BZ$7,$BZ$7:$BZ$9=$BZ$7),1,0)} -> 0 | CX7: {=IF(AND($BW$6:$BW$9=$BW$7,$BX$6:$BX$7<90,$BX$8:$BX$9>90,$BY$6:$BY$9=$BY$7,$BZ$6:$BZ$8=$BZ$7,$BZ$7>$BZ$9),1,0)} -> 0 | CY7: {=IF(AND($BW$6:$BW$9=$BW$7,$BX$6>90,$BX$9>90,$BX$7:$BX$8<90,$BY$6:$BY$9=$BY$7,$BZ$6>$BZ$7:$BZ$9,$BZ$7:$BZ$9=$BZ$7),1,0)} -> 0 | DF7: 3 | DG7: 3 | DI7: 4
A8: {=IF(ROWS(A$5:A8)<=$C$4,INDEX(INDIRECT(A$4),SMALL(IF(Nivell=$B$4,ROW(Nivell)-ROW(Equipos!$C$2)+1),ROWS(B$4:B7))),"")} -> Perú | F8: 43638 | G8: =BV43+VLOOKUP($G$2,$BO$39:$BS$51,4,0)*VLOOKUP($G$2,$BO$39:$BS$51,5,0) -> 43638.667 | H8: J3 | I8: =A8 -> Perú | K8: 0 | L8: 5 | N8: =A5 -> Brasil | O8: =IF(NOT(OR(ISBLANK(K8),ISBLANK(L8))),1,0) -> 1 | Q8: 3 | R8: =VLOOKUP(Q8,$AG$6:$AI$9,3,0) -> Perú | S8: =VLOOKUP(R8,$AI$6:$AR$9,2,FALSE) -> 4 | T8: =VLOOKUP($R8,$AI$6:$AR$9,3,FALSE) -> 3 | U8: =VLOOKUP($R8,$AI$6:$AR$9,4,FALSE) -> 1 | V8: =VLOOKUP($R8,$AI$6:$AR$9,5,FALSE) -> 1 | W8: =VLOOKUP($R8,$AI$6:$AR$9,6,FALSE) -> 1 | X8: =VLOOKUP($R8,$AI$6:$AR$9,7,FALSE) -> 3 | Y8: =VLOOKUP($R8,$AI$6:$AR$9,8,FALSE) -> 6 | Z8: =VLOOKUP($R8,$AI$6:$AR$9,9,FALSE) -> -3 | AA8: =IF(SUM($AK$6:$AK$9)=12,MIN(ABS(BS7-BS8),ABS(BS8-BS9)),100) -> 1.05e+09 | AB8: =IF(AND(AA8>=0,AA8<90),VLOOKUP(Q8,$BO$6:$BP$9,2,0),"") | AF8: =VLOOKUP($R8,$AI$6:$AR$9,10,FALSE) -> 3.970311e+09 | AG8: =RANK(AU8,$AU$6:$AU$9) -> 2 | AH8: =RANK(AR8,$AR$6:$AR$9) -> 2 | AI8: =A7 -> Venezuela | AJ8: =AL8*3+AM8*1+AN8*0 -> 5 | AK8: =COUNTIFS($I$4:$I$9,AI8,$K$4:$K$9,"<>",$L$4:$L$9,"<>")+COUNTIFS($N$4:$N$9,AI8,$L$4:$L$9,"<>",$K$4:$K$9,"<>") -> 3 | AL8: {=SUM((I$4:I$9=AI8)*(K$4:K$9<>"")*(L$4:L$9<>"")*(K$4:K$9>L$4:L$9),(N$4:N$9=AI8)*(K$4:K$9<>"")*(L$4:L$9<>"")*(K$4:K$9<L$4:L$9))} -> 1 | AM8: {=SUM((I$4:I$9=AI8)*(K$4:K$9<>"")*(L$4:L$9<>"")*(K$4:K$9=L$4:L$9),(N$4:N$9=AI8)*(K$4:K$9<>"")*(L$4:L$9<>"")*(K$4:K$9=L$4:L$9))} -> 2 | AN8: {=SUM((I$4:I$9=AI8)*(L$4:L$9<>"")*(K$4:K$9<>"")*(K$4:K$9<L$4:L$9),(K$4:K$9<>"")*(N$4:N$9=AI8)*(L$4:L$9<>"")*(K$4:K$9>L$4:L$9))} -> 0 | AO8: {=SUMIFS($K$4:$K$9,$I$4:$I$9,AI8,$K$4:$K$9,"<>",$L$4:$L$9,"<>")+SUMIFS($L$4:$L$9,$N$4:$N$9,AI8,$K$4:$K$9,"<>",$L$4:$L$9,"<>")} -> 3 | AP8: {=SUMIFS($K$4:$K$9,$N$4:$N$9,AI8,$K$4:$K$9,"<>",$L$4:$L$9,"<>")+SUMIFS($L$4:$L$9,$I$4:$I$9,AI8,$K$4:$K$9,"<>",$L$4:$L$9,"<>")} -> 1 | AQ8: =AO8-AP8 -> 2 | AR8: =IF(AK8=0,-($AW$9*VLOOKUP(AI8,Tabla3[[NombreEquipo]:[Rank]],3,FALSE)),AJ8*$AW$4+AQ8*$AW$5+AO8*$AW$6+BA8-($AW$9*VLOOKUP(AI8,Tabla3[[NombreEquipo]:[Rank]],3,FALSE)/100)) -> 5.020311e+09 | AS8: =AH8 -> 2 | AU8: =IFERROR(AR8-VLOOKUP(AI8,$AB$6:$AC$9,2,0),AR8) -> 5.020311e+09 | AV8: MÁS GOLES X | AW8: =AW9*1000 -> 1000 | AY8: =AI8 -> Venezuela | AZ8: =COUNTIF(AJ6:AJ9,AJ8) -> 1 | BA8: =(BB8*$AW$8)+(BH8*$AW$7) -> 11000 | BB8: =RANK(BC8,BC6:BC9,1) -> 1 | BC8: =SUM(IF(AND(AJ8=AJ9,AQ8=AQ9,AO8=AO9),BG8,0),IF(AND(AJ8=AJ6,AQ8=AQ6,AO8=AO6),BD8,0),IF(AND(AJ8=AJ7,AQ8=AQ7,AO8=AO7),BE8,0)) -> 0 | BD8: {=SUMIFS($K$4:$K$9,$I$4:$I$9,$AY8,$K$4:$K$9,"<>",$L$4:$L$9,"<>",$N$4:$N$9,BD5)+SUMIFS($L$4:$L$9,$I$4:$I$9,BD5,$K$4:$K$9,"<>",$L$4:$L$9,"<>",$N$4:$N$9,$AY8)} -> 0 | BE8: {=SUMIFS($K$4:$K$9,$I$4:$I$9,$AY8,$K$4:$K$9,"<>",$L$4:$L$9,"<>",$N$4:$N$9,BE5)+SUMIFS($L$4:$L$9,$I$4:$I$9,BE5,$K$4:$K$9,"<>",$L$4:$L$9,"<>",$N$4:$N$9,$AY8)} -> 3 | BF8: 0 | BG8: {=SUMIFS($K$4:$K$9,$I$4:$I$9,$AY8,$K$4:$K$9,"<>",$L$4:$L$9,"<>",$N$4:$N$9,BG5)+SUMIFS($L$4:$L$9,$I$4:$I$9,BG5,$K$4:$K$9,"<>",$L$4:$L$9,"<>",$N$4:$N$9,$AY8)} -> 0 | BH8: =RANK(BI8,BI6:BI9,1) -> 1 | BI8: =SUM(IF(AND(AJ8=AJ9,AQ8=AQ9,AO8=AO9),BM8,0),IF(AND(AJ8=AJ6,AQ8=AQ6,AO8=AO6),BJ8,0),IF(AND(AJ8=AJ7,AQ8=AQ7,AO8=AO7),BK8,0)) -> 0 | BJ8: =BD8-BF6 -> 0 | BK8: =BE8-BF7 -> 2 | BL8: 0 | BM8: =BG8-BF9 -> 0 | BN8: 3 | BO8: =RANK(BQ8,$BQ$6:$BQ$9) -> 2 | BP8: =A7 -> Venezuela | BQ8: =IF(AK8=0,-($AW$9*VLOOKUP(AI8,Tabla3[[NombreEquipo]:[Rank]],3,FALSE)),AJ8*$AW$4+AQ8*$AW$5+AO8*$AW$6+BA8-($AW$9*VLOOKUP(AI8,Tabla3[[NombreEquipo]:[Rank]],3,FALSE)/100)) -> 5.020311e+09 | BR8: =VLOOKUP(Q8,$AH$6:$AI$9,2,0) -> Perú | BS8: =VLOOKUP($BR8,$AI$6:$AR$9,10,FALSE) -> 3.970311e+09 | BU8: 3 | BV8: =VLOOKUP(BU8,$AH$6:$AI$9,2,0) -> Perú | BW8: =VLOOKUP(BV8,$AI$6:$AR$9,2,FALSE) -> 4 | BX8: =IF(SUM($AK$6:$AK$9)=12,MIN(ABS(BS7-BS8),ABS(BS8-BS9)),100) -> 1.05e+09 | BY8: =VLOOKUP($BV8,$AI$6:$AR$9,9,FALSE) -> -3 | BZ8: =VLOOKUP($BV8,$AI$6:$AR$9,7,FALSE) -> 3 | CA8: {=IF($CB$6=$CD$5,$DF$5:$DF$8,IF($CB$6=$CE$5,$DG$5:$DG$7,IF(OR($CB$6=$CF$5,$CB$6=$CJ$5),$DJ$5:$DJ$6,IF($CB$6=$CH$5,$DI$5:$DI$7,(IF($CB$6=$CI$5,$DK$5:$DK$6,$DN$5))))))} -> 3 | CC8: 3 | CD8: {=IF(AND($BW$6:$BW$9=$BW$8,$BX$6:$BX$9<90,$AQ$6:$AQ$9=$AQ$8,$BZ$6:$BZ$9=$BZ$8),1,0)} -> 0 | CE8: {=IF(AND($BW$6:$BW$8=$BW$8,$BX$6:$BX$8<90,$BW$8<>$BW$9),1,0)} -> 0 | CF8: {=IF(AND($BW$8:$BW$9=$BW$8,$BX$8:$BX$9<90,$BW$8<>$BW$7),1,0)} -> 0 | CG8: {=IF(OR(AND($BW$8<>$BW$7,$BW$8<>$BW$9),AND($BW$8<>$BW$7,$BW$8=$BW$9,$BX$8>90,$BX$9>90)),1,0)} -> 1 | CH8: {=IF(AND($BW$7:$BW$9=$BW$7,$BX$7:$BX$9<90,$BW$6<>$BW$8),1,0)} -> 0 | CI8: {=IF(AND($BW$7:$BW$8=$BW$8,$BX$7:$BX$8<90,$BW$8<>$BW$6,$BW$8<>$BW$9),1,0)} -> 0 | CJ8: {=IF(AND($BW$8:$BW$9=$BW$8,$BX$8:$BX$9<90,$BW$8<>$BW$7),1,0)} -> 0 | CK8: {=IF(AND($BW$8<>$BW$7,$BW$8<>$BW$9),1,0)} -> 1 | CL8: {=IF(AND($BW$6:$BW$9=$BW$6,$BX$6:$BX$9<90,$BY$8:$BY$9=$BY$8,$BY$7<>$BY$8),1,0)} -> 0 | CM8: {=IF(AND($BW$6:$BW$9=$BW$6,$BX$6:$BX$9<90,$BY$6:$BY$9=$BY$6,$BZ$8=$BZ$9,$BZ$7<>$BZ$8),1,0)} -> 0 | CN8: {=IF(AND($BW$6:$BW$8=$BW$8,$BX$6:$BX$7<90,$BX$8>90),1,0)} -> 0 | CO8: {=IF(AND($BW$7<>$BW$6,$BW$7:$BW$9=$BW$8,$BX$7>90,$BX$8:$BX$9<90),1,0)} -> 0 | CP8: {=IF(AND($BW$7<>$BW$6,$BW$7:$BW$9=$BW$7,$BX$9>90,$BX$7:$BX$8<90),1,0)} -> 0 | CQ8: {=IF(AND($BW$8<>$BW$9,$BW$6:$BW$8=$BW$8,$BX$6>90,$BX$7:$BX$8<90),1,0)} -> 0 | CR8: {=IF(AND($BW$6:$BW$9=$BW$7,$BX$7:$BX$9<90,$BX$6<>$BX$8),1,0)} -> 0 | CS8: {=IF(AND($BW$6:$BW$9=$BW$8,$BX$6:$BX$8<90,$BX$8<>$BX$9),1,0)} -> 0 | CT8: {=IF(AND($BW$6:$BW$9=$BW$8,$BX$6:$BX$7>90,$BX$8:$BX$9<90,$BY$6:$BY$9=$BY$8,$BZ$6>$BZ$7,$BZ$7>$BZ$8,$BZ$8=$BZ$9),1,0)} -> 0 | CU8: {=IF(AND($BW$6:$BW$9=$BW$8,$BX$6>90,$BX$7:$BX$8<90,$BX$9>90,$BY$6:$BY$9=$BY$8,$BZ$6>$BZ$7,$BZ$7=$BZ$8,$BZ$8>$BZ$9),1,0)} -> 0 | CV8: {=IF(AND($BW$6:$BW$9=$BW$8,$BX$6:$BX$7<90,$BX$8:$BX$9>90,$BY$6:$BY$9=$BY$8,$BZ$6=$BZ$7,$BZ$7>$BZ$8,$BZ$8>$BZ$9),1,0)} -> 0 | CW8: {=IF(AND($BW$6:$BW$9=$BW$8,$BX$6:$BX$7>90,$BX$8:$BX$9<90,$BY$6:$BY$9=$BY$7,$BZ$6>$BZ$8,$BZ$7:$BZ$9=$BZ$8),1,0)} -> 0 | CX8: {=IF(AND($BW$6:$BW$9=$BW$8,$BX$6:$BX$7<90,$BX$8:$BX$9>90,$BY$6:$BY$9=$BY$8,$BZ$6:$BZ$8=$BZ$8,$BZ$8>$BZ$9),1,0)} -> 0 | CY8: {=IF(AND($BW$6:$BW$9=$BW$8,$BX$6>90,$BX$9>90,$BX$7:$BX$8<90,$BY$6:$BY$9=$BY$8,$BZ$6>$BZ$7:$BZ$9,$BZ$7:$BZ$9=$BZ$8),1,0)} -> 0 | DF8: 4
F9: 43638 | G9: =BV44+VLOOKUP($G$2,$BO$39:$BS$51,4,0)*VLOOKUP($G$2,$BO$39:$BS$51,5,0) -> 43638.667 | H9: J3 | I9: =A6 -> Bolivia | K9: 1 | L9: 3 | N9: =A7 -> Venezuela | O9: =IF(NOT(OR(ISBLANK(K9),ISBLANK(L9))),1,0) -> 1 | Q9: 4 | R9: =VLOOKUP(Q9,$AG$6:$AI$9,3,0) -> Bolivia | S9: =VLOOKUP(R9,$AI$6:$AR$9,2,FALSE) -> 0 | T9: =VLOOKUP($R9,$AI$6:$AR$9,3,FALSE) -> 3 | U9: =VLOOKUP($R9,$AI$6:$AR$9,4,FALSE) -> 0 | V9: =VLOOKUP($R9,$AI$6:$AR$9,5,FALSE) -> 0 | W9: =VLOOKUP($R9,$AI$6:$AR$9,6,FALSE) -> 3 | X9: =VLOOKUP($R9,$AI$6:$AR$9,7,FALSE) -> 2 | Y9: =VLOOKUP($R9,$AI$6:$AR$9,8,FALSE) -> 9 | Z9: =VLOOKUP($R9,$AI$6:$AR$9,9,FALSE) -> -7 | AA9: =IF(SUM($AK$6:$AK$9)=12,MIN(ABS(BS8-BS9),ABS(BS9-BS10)),100) -> 69789000 | AB9: =IF(AND(AA9>=0,AA9<90),VLOOKUP(Q9,$BO$6:$BP$9,2,0),"") | AF9: =VLOOKUP($R9,$AI$6:$AR$9,10,FALSE) -> -69789000 | AG9: =RANK(AU9,$AU$6:$AU$9) -> 3 | AH9: =RANK(AR9,$AR$6:$AR$9) -> 3 | AI9: =A8 -> Perú | AJ9: =AL9*3+AM9*1+AN9*0 -> 4 | AK9: =COUNTIFS($I$4:$I$9,AI9,$K$4:$K$9,"<>",$L$4:$L$9,"<>")+COUNTIFS($N$4:$N$9,AI9,$L$4:$L$9,"<>",$K$4:$K$9,"<>") -> 3 | AL9: {=SUM((I$4:I$9=AI9)*(K$4:K$9<>"")*(L$4:L$9<>"")*(K$4:K$9>L$4:L$9),(N$4:N$9=AI9)*(K$4:K$9<>"")*(L$4:L$9<>"")*(K$4:K$9<L$4:L$9))} -> 1 | AM9: {=SUM((I$4:I$9=AI9)*(K$4:K$9<>"")*(L$4:L$9<>"")*(K$4:K$9=L$4:L$9),(N$4:N$9=AI9)*(K$4:K$9<>"")*(L$4:L$9<>"")*(K$4:K$9=L$4:L$9))} -> 1 | AN9: {=SUM((I$4:I$9=AI9)*(L$4:L$9<>"")*(K$4:K$9<>"")*(K$4:K$9<L$4:L$9),(K$4:K$9<>"")*(N$4:N$9=AI9)*(L$4:L$9<>"")*(K$4:K$9>L$4:L$9))} -> 1 | AO9: {=SUMIFS($K$4:$K$9,$I$4:$I$9,AI9,$K$4:$K$9,"<>",$L$4:$L$9,"<>")+SUMIFS($L$4:$L$9,$N$4:$N$9,AI9,$K$4:$K$9,"<>",$L$4:$L$9,"<>")} -> 3 | AP9: {=SUMIFS($K$4:$K$9,$N$4:$N$9,AI9,$K$4:$K$9,"<>",$L$4:$L$9,"<>")+SUMIFS($L$4:$L$9,$I$4:$I$9,AI9,$K$4:$K$9,"<>",$L$4:$L$9,"<>")} -> 6 | AQ9: =AO9-AP9 -> -3 | AR9: =IF(AK9=0,-($AW$9*VLOOKUP(AI9,Tabla3[[NombreEquipo]:[Rank]],3,FALSE)),AJ9*$AW$4+AQ9*$AW$5+AO9*$AW$6+BA9-($AW$9*VLOOKUP(AI9,Tabla3[[NombreEquipo]:[Rank]],3,FALSE)/100)) -> 3.970311e+09 | AS9: =AH9 -> 3 | AU9: =IFERROR(AR9-VLOOKUP(AI9,$AB$6:$AC$9,2,0),AR9) -> 3.970311e+09 | AV9: BOMBO | AW9: 1 | AY9: =AI9 -> Perú | AZ9: =COUNTIF(AJ6:AJ9,AJ9) -> 1 | BA9: =(BB9*$AW$8)+(BH9*$AW$7) -> 11000 | BB9: =RANK(BC9,BC6:BC9,1) -> 1 | BC9: =SUM(IF(AND(AJ9=AJ6,AQ9=AQ6,AO9=AO6),BD9,0),IF(AND(AJ9=AJ7,AQ9=AQ7,AO9=AO7),BE9,0),IF(AND(AJ9=AJ8,AQ9=AQ8,AO9=AO8),BF9,0)) -> 0 | BD9: {=SUMIFS($K$4:$K$9,$I$4:$I$9,$AY9,$K$4:$K$9,"<>",$L$4:$L$9,"<>",$N$4:$N$9,BD5)+SUMIFS($L$4:$L$9,$I$4:$I$9,BD5,$K$4:$K$9,"<>",$L$4:$L$9,"<>",$N$4:$N$9,$AY9)} -> 0 | BE9: {=SUMIFS($K$4:$K$9,$I$4:$I$9,$AY9,$K$4:$K$9,"<>",$L$4:$L$9,"<>",$N$4:$N$9,BE5)+SUMIFS($L$4:$L$9,$I$4:$I$9,BE5,$K$4:$K$9,"<>",$L$4:$L$9,"<>",$N$4:$N$9,$AY9)} -> 3 | BF9: {=SUMIFS($K$4:$K$9,$I$4:$I$9,$AY9,$K$4:$K$9,"<>",$L$4:$L$9,"<>",$N$4:$N$9,BF5)+SUMIFS($L$4:$L$9,$I$4:$I$9,BF5,$K$4:$K$9,"<>",$L$4:$L$9,"<>",$N$4:$N$9,$AY9)} -> 0 | BG9: 0 | BH9: =RANK(BI9,BI6:BI9,1) -> 1 | BI9: =SUM(IF(AND(AJ9=AJ6,AQ9=AQ6,AO9=AO6),BJ9,0),IF(AND(AJ9=AJ7,AQ9=AQ7,AO9=AO7),BK9,0),IF(AND(AJ9=AJ8,AQ9=AQ8,AO9=AO8),BL9,0)) -> 0 | BJ9: =BD9-BG6 -> -5 | BK9: =BE9-BG7 -> 2 | BL9: =BF9-BG8 -> 0 | BM9: 0 | BN9: 4 | BO9: =RANK(BQ9,$BQ$6:$BQ$9) -> 3 | BP9: =A8 -> Perú | BQ9: =IF(AK9=0,-($AW$9*VLOOKUP(AI9,Tabla3[[NombreEquipo]:[Rank]],3,FALSE)),AJ9*$AW$4+AQ9*$AW$5+AO9*$AW$6+BA9-($AW$9*VLOOKUP(AI9,Tabla3[[NombreEquipo]:[Rank]],3,FALSE)/100)) -> 3.970311e+09 | BR9: =VLOOKUP(Q9,$AH$6:$AI$9,2,0) -> Bolivia | BS9: =VLOOKUP($BR9,$AI$6:$AR$9,10,FALSE) -> -69789000 | BU9: 4 | BV9: =VLOOKUP(BU9,$AH$6:$AI$9,2,0) -> Bolivia | BW9: =VLOOKUP(BV9,$AI$6:$AR$9,2,FALSE) -> 0 | BX9: =IF(SUM($AK$6:$AK$9)=12,MIN(ABS(BS8-BS9),ABS(BS9-BS10)),100) -> 69789000 | BY9: =VLOOKUP($BV9,$AI$6:$AR$9,9,FALSE) -> -7 | BZ9: =VLOOKUP($BV9,$AI$6:$AR$9,7,FALSE) -> 2 | CA9: {=IF($CB$6=$CD$5,$DF$5:$DF$8,IF(OR($CB$6=$CF$5,$CB$6=$CJ$5),$DJ$5:$DJ$6,IF($CB$6=$CH$5,$DI$5:$DI$7,$DO$5)))} -> 4 | CC9: 4 | CD9: {=IF(AND($BW$6:$BW$9=$BW$9,$BX$6:$BX$9<90,$AQ$6:$AQ$9=$AQ$9,$BZ$6:$BZ$9=$BZ$9),1,0)} -> 0 | CE9: {=IF(AND($BW$6:$BW$8=$BW$6,$BX$6:$BX$8<90,$BX$9>90,$BW$6<>$BW$9),1,0)} -> 0 | CF9: {=IF(AND($BW$8:$BW$9=$BW$8,$BX$8:$BX$9<90,$BW$8<>$BW$7),1,0)} -> 0 | CG9: {=IF(AND($BW$9<>$BW$7,$BW$9<>$BW$6),1,0)} -> 1 | CH9: {=IF(AND($BW$7:$BW$9=$BW$7,$BX$7:$BX$9<90,$BW$6<>$BW$9),1,0)} -> 0 | CI9: {=IF(AND($BW$9<>$BW$7,$BW$9<>$BW$6),1,0)} -> 1 | CJ9: {=IF(AND($BW$8:$BW$9=$BW$8,$BX$8:$BX$9<90,$BW$8<>$BW$7),1,0)} -> 0 | CK9: {=IF(AND($BW$9<>$BW$7,$BW$9<>$BW$6),1,0)} -> 1 | CL9: {=IF(AND($BW$6:$BW$9=$BW$6,$BX$6:$BX$9<90,$BY$8:$BY$9=$BY$9,$BY$7<>$BY$9),1,0)} -> 0 | CM9: {=IF(AND($BW$6:$BW$9=$BW$6,$BX$6:$BX$9<90,$BY$6:$BY$9=$BY$6,$BZ$8=$BZ$9,$BZ$7<>$BZ$8),1,0)} -> 0 | CN9: {=IF(AND($BW$6:$BW$8=$BW$6,$BX$6:$BX$7<90,$BW$8<>$BW$9),1,0)} -> 0 | CO9: {=IF(AND($BW$7<>$BW$6,$BW$7:$BW$9=$BW$8,$BX$7>90,$BX$8:$BX$9<90),1,0)} -> 0 | CP9: {=IF(AND($BW$7<>$BW$6,$BW$7:$BW$9=$BW$7,$BX$9>90,$BX$7:$BX$8<90),1,0)} -> 0 | CQ9: {=IF(AND($BW$9<>$BW$7,$BW$9<>$BW$8),1,0)} -> 1 | CR9: {=IF(AND($BW$6:$BW$9=$BW$7,$BX$7:$BX$9<90,$BX$6<>$BX$9),1,0)} -> 0 | CS9: {=IF(AND($BW$6:$BW$9=$BW$6,$BX$6:$BX$8<90,$BX$8<>$BX$9),1,0)} -> 0 | CT9: {=IF(AND($BW$6:$BW$9=$BW$9,$BX$6:$BX$7>90,$BX$8:$BX$9<90,$BY$6:$BY$9=$BY$9,$BZ$6>$BZ$7,$BZ$7>$BZ$9,$BZ$8=$BZ$9),1,0)} -> 0 | CU9: {=IF(AND($BW$6:$BW$9=$BW$7,$BX$6>90,$BX$7:$BX$8<90,$BX$9>90,$BY$6:$BY$9=$BY$9,$BZ$6>$BZ$9,$BZ$7=$BZ$8,$BZ$7>$BZ$9),1,0)} -> 0 | CV9: {=IF(AND($BW$6:$BW$9=$BW$9,$BX$6:$BX$7<90,$BX$8:$BX$9>90,$BY$6:$BY$9=$BY$9,$BZ$6=$BZ$7,$BZ$7>$BZ$8,$BZ$8>$BZ$9),1,0)} -> 0 | CW9: {=IF(AND($BW$6:$BW$9=$BW$9,$BX$6:$BX$7>90,$BX$8:$BX$9<90,$BY$6:$BY$9=$BY$9,$BZ$6>$BZ$9,$BZ$7:$BZ$9=$BZ$9),1,0)} -> 0 | CX9: {=IF(AND($BW$6:$BW$9=$BW$9,$BX$6:$BX$7<90,$BX$8:$BX$9>90,$BY$6:$BY$9=$BY$9,$BZ$6:$BZ$8=$BZ$8,$BZ$6:$BZ$8>$BZ$9),1,0)} -> 0 | CY9: {=IF(AND($BW$6:$BW$9=$BW$9,$BX$6>90,$BX$9>90,$BX$7:$BX$8<90,$BY$6:$BY$9=$BY$9,$BZ$6>$BZ$7:$BZ$9,$BZ$7:$BZ$9=$BZ$9),1,0)} -> 0
PSM10: matejero
F11: =F3 -> Fecha | G11: =G3 -> Hora | H11: =H3 -> Jor. | I11: =I3 -> Casa | K11: =K3 -> Gol | L11: =L3 -> Gol | N11: =N3 -> Fuera | CD11: 1 | CE11: 12 | CF11: 18 | CG11: 19 | CH11: 13 | CI11: 20 | CJ11: 21 | CK11: 22 | CL11: 3 | CM11: 2 | CN11: 14 | CO11: 17 | CP11: 16 | CQ11: 15 | CR11: 4 | CS11: 5 | CT11: 10 | CU11: 8 | CV11: 6 | CW11: 11 | CX11: 7 | CY11: 9 | CZ11: - | DA11: - | DF11: OP1 | DG11: OP2 | DH11: OP3 | DI11: OP4 | DJ11: OP5 | DK11: OP6 | DL11: OP7 | DM11: OP8 | DN11: OP9 | DO11: OP10
A12: NombreEquipo | B12: B | C12: =COUNTIF(Equipos!$C$2:$C$13,'COPA AMERICA'!B12) -> 4 | E12: B | F12: 43631 | G12: =BV46+VLOOKUP($G$2,$BO$39:$BS$51,4,0)*VLOOKUP($G$2,$BO$39:$BS$51,5,0) -> 43631.792 | H12: J1 | I12: =A13 -> Argentina | K12: 0 | L12: 2 | N12: =A14 -> Colombia | O12: =IF(NOT(OR(ISBLANK(K12),ISBLANK(L12))),1,0) -> 1 | Q12: =CONCATENATE("Grupo"," ",B12) -> Grupo B | AB12: ¡EMPATE! Puedes seleccionar el orden de los empatados. | AH12: =CONCATENATE("Auxiliar - ",Q12) -> Auxiliar - Grupo B | AU12: NR | AY12: =CONCATENATE(Q12," - GOLAVERAGE") -> Grupo B - GOLAVERAGE | BB12: Goles - Partidos Cruzados | BH12: Diferencia de Goles - Partidos Cruzados | CB12: Valor | CC12: Sum | CD12: =SUM(CD14:CD17) -> 0 | CE12: =SUM(CE14:CE17) -> 0 | CF12: =SUM(CF14:CF17) -> 0 | CG12: =SUM(CG14:CG17) -> 2 | CH12: =SUM(CH14:CH17) -> 0 | CI12: =SUM(CI14:CI17) -> 2 | CJ12: =SUM(CJ14:CJ17) -> 2 | CK12: =SUM(CK14:CK17) -> 4 | ... DA12: =SUM(DA14:DA17) -> 0 | DF12: 1234 | DG12: 123 | DH12: 12 | DI12: 234 | DJ12: 34 | DK12: 23 | DL12: 1 | DM12: 2 | DN12: 3 | DO12: 4
A13: {=IF(ROWS(A$13:A13)<=$C$12,INDEX(INDIRECT(A$12),SMALL(IF(Nivell=$B$12,ROW(Nivell)-ROW(Equipos!$C$2)+1),ROWS(B$12:B12))),"")} -> Argentina | F13: 43632 | G13: =BV47+VLOOKUP($G$2,$BO$39:$BS$51,4,0)*VLOOKUP($G$2,$BO$39:$BS$51,5,0) -> 43632.667 | H13: J1 | I13: =A15 -> Paraguay | K13: 2 | L13: 2 | N13: =A16 -> Catar | O13: =IF(NOT(OR(ISBLANK(K13),ISBLANK(L13))),1,0) -> 1 | Q13: Pos | R13: Selección | S13: Pts | T13: J | U13: G | V13: E | W13: P | X13: GF | Y13: GC | Z13: DG | AA13: =COUNTIF(AA14:AA17,"<100") -> 0 | AG13: NR | AH13: Puesto | AI13: Equipo | AJ13: Ptos | AK13: J | AL13: G | AM13: E | AN13: P | AO13: GF | AP13: GC | AQ13: Dif | AR13: Rank | AS13: Puesto | AY13: Equipo | AZ13: NEquipEqual | BA13: PUNTOS | BB13: Ranking Inv | BC13: Entre Iguales | BD13: =AY14 -> Argentina | BE13: =AY15 -> Colombia | BF13: =AY16 -> Paraguay | BG13: =AY17 -> Catar | BH13: Ranking Inv | BI13: Entre Iguales | BJ13: =BD13 -> Argentina | BK13: =BE13 -> Colombia | BL13: =BF13 -> Paraguay | BM13: =BG13 -> Catar | BP13: Inicio | BR13: 1R | BV13: Equipo | BW13: Ptos | BX13: Signo | BY13: Dif | BZ13: Gf | CC13: Com | CD13: COM_1 | CE13: COM_2 | CF13: COM_3 | CG13: COM_4 | CH13: COM_5 | CI13: COM_6 | CJ13: COM_7 | CK13: COM_8 | CL13: COM_3 | CM13: COM_3 | CN13: COM_4 | CO13: COM_7 | CP13: COM_6 | CQ13: COM_6 | CR13: COM_5 | CS13: COM_2 | CT13: COM_7 | CU13: COM_6 | CV13: COM_4 | CW13: COM_7 | CX13: COM_4 | CY13: COM_6 | DF13: 1 | DG13: 1 | DH13: 1 | DI13: 2 | DJ13: 3 | DK13: 2 | DL13: 1 | DM13: 2 | DN13: 3 | DO13: 4
A14: {=IF(ROWS(A$13:A14)<=$C$12,INDEX(INDIRECT(A$12),SMALL(IF(Nivell=$B$12,ROW(Nivell)-ROW(Equipos!$C$2)+1),ROWS(B$12:B13))),"")} -> Colombia | F14: 43635 | G14: =BV48+VLOOKUP($G$2,$BO$39:$BS$51,4,0)*VLOOKUP($G$2,$BO$39:$BS$51,5,0) -> 43635.896 | H14: J2 | I14: =A13 -> Argentina | K14: 1 | L14: 1 | N14: =A15 -> Paraguay | O14: =IF(NOT(OR(ISBLANK(K14),ISBLANK(L14))),1,0) -> 1 | Q14: 1 | R14: =VLOOKUP(Q14,$AG$14:$AI$17,3,0) -> Colombia | S14: =VLOOKUP(R14,$AI$14:$AR$17,2,FALSE) -> 9 | T14: =VLOOKUP($R14,$AI$14:$AR$17,3,FALSE) -> 3 | U14: =VLOOKUP($R14,$AI$14:$AR$17,4,FALSE) -> 3 | V14: =VLOOKUP($R14,$AI$14:$AR$17,5,FALSE) -> 0 | W14: =VLOOKUP($R14,$AI$14:$AR$17,6,FALSE) -> 0 | X14: =VLOOKUP($R14,$AI$14:$AR$17,7,FALSE) -> 4 | Y14: =VLOOKUP($R14,$AI$14:$AR$17,8,FALSE) -> 0 | Z14: =VLOOKUP($R14,$AI$14:$AR$17,9,FALSE) -> 4 | AA14: =IF(SUM($AK$14:$AK$17)=12,MIN(ABS(BS13-BS14),ABS(BS14-BS15)),100) -> 5.0401e+09 | AB14: =IF(AND(AA14>=0,AA14<90),VLOOKUP(Q14,$BO$14:$BP$17,2,0),"") | AF14: =VLOOKUP($R14,$AI$14:$AR$17,10,FALSE) -> 9.040411e+09 | AG14: =RANK(AU14,$AU$14:$AU$17) -> 2 | AH14: =RANK(AR14,$AR$14:$AR$17) -> 2 | AI14: =A13 -> Argentina | AJ14: =AL14*3+AM14*1+AN14*0 -> 4 | AK14: =COUNTIFS($I$12:$I$17,AI14,$K$12:$K$17,"<>",$L$12:$L$17,"<>")+COUNTIFS($N$12:$N$17,AI14,$L$12:$L$17,"<>",$K$12:$K$17,"<>") -> 3 | AL14: {=SUM((I$12:I$17=AI14)*(K$12:K$17<>"")*(L$12:L$17<>"")*(K$12:K$17>L$12:L$17),(N$12:N$17=AI14)*(K$12:K$17<>"")*(L$12:L$17<>"")*(K$12:K$17<L$12:L$17))} -> 1 | AM14: {=SUM((I$12:I$17=AI14)*(K$12:K$17<>"")*(L$12:L$17<>"")*(K$12:K$17=L$12:L$17),(N$12:N$17=AI14)*(K$12:K$17<>"")*(L$12:L$17<>"")*(K$12:K$17=L$12:L$17))} -> 1 | AN14: {=SUM((I$12:I$17=AI14)*(L$12:L$17<>"")*(K$12:K$17<>"")*(K$12:K$17<L$12:L$17),(K$12:K$17<>"")*(N$12:N$17=AI14)*(L$12:L$17<>"")*(K$12:K$17>L$12:L$17))} -> 1 | AO14: {=SUMIFS($K$12:$K$17,$I$12:$I$17,AI14,$K$12:$K$17,"<>",$L$12:$L$17,"<>")+SUMIFS($L$12:$L$17,$N$12:$N$17,AI14,$K$12:$K$17,"<>",$L$12:$L$17,"<>")} -> 3 | AP14: {=SUMIFS($K$12:$K$17,$N$12:$N$17,AI14,$K$12:$K$17,"<>",$L$12:$L$17,"<>")+SUMIFS($L$12:$L$17,$I$12:$I$17,AI14,$K$12:$K$17,"<>",$L$12:$L$17,"<>")} -> 3 | AQ14: =AO14-AP14 -> 0 | AR14: =IF(AK14=0,-($AW$9*VLOOKUP(AI14,Tabla3[[NombreEquipo]:[Rank]],3,FALSE)),AJ14*$AW$4+AQ14*$AW$5+AO14*$AW$6+BA14-($AW$9*VLOOKUP(AI14,Tabla3[[NombreEquipo]:[Rank]],3,FALSE)/100)) -> 4.000311e+09 | AS14: =AH14 -> 2 | AU14: =IFERROR(AR14-VLOOKUP(AI14,$AB$14:$AC$17,2,0),AR14) -> 4.000311e+09 | AY14: =AI14 -> Argentina | AZ14: =COUNTIF(AJ14:AJ17,AJ14) -> 1 | BA14: =(BB14*$AW$8)+(BH14*$AW$7) -> 11000 | BB14: =RANK(BC14,BC14:BC17,1) -> 1 | BC14: =SUM(IF(AND(AJ14=AJ15,AQ14=AQ15,AO14=AO15),BE14,0),IF(AND(AJ14=AJ16,AQ14=AQ16,AO14=AO16),BF14,0),IF(AND(AJ14=AJ17,AQ14=AQ17,AO14=AO17),BG14,0)) -> 0 | BD14: 0 | BE14: {=SUMIFS($K$12:$K$17,$I$12:$I$17,$AY14,$K$12:$K$17,"<>",$L$12:$L$17,"<>",$N$12:$N$17,BE13)+SUMIFS($L$12:$L$17,$I$12:$I$17,BE13,$K$12:$K$17,"<>",$L$12:$L$17,"<>",$N$12:$N$17,$AY14)} -> 0 | BF14: {=SUMIFS($K$12:$K$17,$I$12:$I$17,$AY14,$K$12:$K$17,"<>",$L$12:$L$17,"<>",$N$12:$N$17,BF13)+SUMIFS($L$12:$L$17,$I$12:$I$17,BF13,$K$12:$K$17,"<>",$L$12:$L$17,"<>",$N$12:$N$17,$AY14)} -> 1 | BG14: {=SUMIFS($K$12:$K$17,$I$12:$I$17,$AY14,$K$12:$K$17,"<>",$L$12:$L$17,"<>",$N$12:$N$17,BG13)+SUMIFS($L$12:$L$17,$I$12:$I$17,BG13,$K$12:$K$17,"<>",$L$12:$L$17,"<>",$N$12:$N$17,$AY14)} -> 2 | BH14: =RANK(BI14,BI14:BI17,1) -> 1 | BI14: =SUM(IF(AND(AJ14=AJ15,AQ14=AQ15,AO14=AO15),BK14,0),IF(AND(AJ14=AJ16,AQ14=AQ16,AO14=AO16),BL14,0),IF(AND(AJ14=AJ17,AQ14=AQ17,AO14=AO17),BM14,0)) -> 0 | BJ14: 0 | BK14: =BE14-BD15 -> -2 | BL14: =BF14-BD16 -> 0 | BM14: =BG14-BD17 -> 2 | BN14: 1 | BO14: =RANK(BQ14,$BQ$14:$BQ$17) -> 2 | BP14: =A13 -> Argentina | BQ14: =IF(AK14=0,-($AW$9*VLOOKUP(AI14,Tabla3[[NombreEquipo]:[Rank]],3,FALSE)),AJ14*$AW$4+AQ14*$AW$5+AO14*$AW$6+BA14-($AW$9*VLOOKUP(AI14,Tabla3[[NombreEquipo]:[Rank]],3,FALSE)/100)) -> 4.000311e+09 | BR14: =VLOOKUP(Q14,$AH$14:$AI$17,2,0) -> Colombia | BS14: =VLOOKUP($BR14,$AI$14:$AR$17,10,FALSE) -> 9.040411e+09 | BU14: 1 | BV14: =VLOOKUP(BU14,$AH$14:$AI$17,2,0) -> Colombia | BW14: =VLOOKUP(BV14,$AI$14:$AR$17,2,FALSE) -> 9 | BX14: =IF(SUM($AK$14:$AK$17)=12,MIN(ABS(BS13-BS14),ABS(BS14-BS15)),100) -> 5.0401e+09 | BY14: =VLOOKUP($BV14,$AI$14:$AR$17,9,FALSE) -> 4 | BZ14: =VLOOKUP($BV14,$AI$14:$AR$17,7,FALSE) -> 4 | CA14: {=IF($CB$14=$CD$13,$DF$13:$DF$16,IF($CB$14=$CE$13,$DG$13:$DG$15,IF(OR($CB$14=$CF$13,$CB$14=$CG$13),$DH$13:$DH$14,$DL$13)))} -> 1 | CB14: =IFERROR(HLOOKUP(4,CD12:DA13,2,0),CK13) -> COM_8 | CC14: 1 | CD14: {=IF(AND($BW$14:$BW$17=$BW$14,$BX$14:$BX$17<90,$AQ$14:$AQ$17=$AQ$14,$BZ$14:$BZ$17=$BZ$14),1,0)} -> 0 | CE14: {=IF(AND($BW$14:$BW$16=$BW$14,$BX$14:$BX$16<90,$BW$14<>$BW$17),1,0)} -> 0 | CF14: {=IF(AND($BW$14:$BW$15=$BW$14,$BX$14:$BX$15<90,$BW$14<>$BW$16),1,0)} -> 0 | CG14: {=IF(AND($BW$14:$BW$15=$BW$14,$BX$14:$BX$15<90,$BW$14<>$BW$16),1,0)} -> 0 | CH14: {=IF(AND($BW$15:$BW$17=$BW$15,$BX$15:$BX$17<90,$BW$14<>$BW$15),1,0)} -> 0 | CI14: {=IF(AND($BW$14<>$BW$15,$BW$14<>$BW$17),1,0)} -> 1 | CJ14: {=IF(AND($BW$14<>$BW$15,$BW$14<>$BW$17),1,0)} -> 1 | CK14: {=IF(AND($BW$14<>$BW$15,$BW$14<>$BW$17),1,0)} -> 1 | CL14: {=IF(AND($BW$14:$BW$17=$BW$14,$BX$14:$BX$17<90,$BY$14:$BY$15=$BY$14,$BY$14<>$BY$16),1,0)} -> 0 | CM14: {=IF(AND($BW$14:$BW$17=$BW$14,$BX$14:$BX$17<90,$BY$14:$BY$17=$BY$14,$BZ$14=$BZ$15,$BZ$14<>$BZ$16),1,0)} -> 0 | CN14: {=IF(AND($BW$14:$BW$16=$BW$14,$BX$14:$BX$15<90,$BX$16>90),1,0)} -> 0 | CO14: {=IF(AND($BW$14<>$BW$15,$BW$14<>$BW$16),1,0)} -> 1 | CP14: {=IF(AND($BW$14<>$BW$15,$BW$14<>$BW$16),1,0)} -> 1 | CQ14: {=IF(AND($BW$14<>$BW$17,$BW$14:$BW$16=$BW$14,$BX$14>90,$BX$15:$BX$16<90),1,0)} -> 0 | CR14: {=IF(AND($BW$14:$BW$17=$BW$14,$BX$15:$BX$17<90,$BX$14<>$BX$15),1,0)} -> 0 | CS14: {=IF(AND($BW$14:$BW$17=$BW$14,$BX$14:$BX$16<90,$BX$14<>$BX$17),1,0)} -> 0 | CT14: {=IF(AND($BW$14:$BW$17=$BW$14,$BX$14:$BX$15>90,$BX$16:$BX$17<90,$BY$14:$BY$17=$BY$14,$BZ$14>$BZ$15,$BZ$14>$BZ$16,$BZ$14>$BZ$17),1,0)} -> 0 | CU14: {=IF(AND($BW$14:$BW$17=$BW$14,$BX$14>90,$BX$15:$BX$16<90,$BX$17>90,$BY$14:$BY$17=$BY$14,$BZ$14>$BZ$15,$BZ$14>$BZ$16,$BZ$14>$BZ$17),1,0)} -> 0 | CV14: {=IF(AND($BW$14:$BW$17=$BW$14,$BX$14:$BX$15<90,$BX$16:$BX$17>90,$BY$14:$BY$17=$BY$14,$BZ$14=$BZ$15,$BZ$14>$BZ$16,$BZ$14>$BZ$17),1,0)} -> 0 | CW14: {=IF(AND($BW$14:$BW$17=$BW$14,$BX$14:$BX$15>90,$BX$16:$BX$17<90,$BY$14:$BY$17=$BY$14,$BZ$14>$BZ$15,$BZ$15:$BZ$17=$BZ$15),1,0)} -> 0 | CX14: {=IF(AND($BW$14:$BW$17=$BW$14,$BX$14:$BX$15<90,$BX$16:$BX$17>90,$BY$14:$BY$17=$BY$14,$BZ$14:$BZ$16=$BZ$14,$BZ$14>$BZ$17),1,0)} -> 0 | CY14: {=IF(AND($BW$14:$BW$17=$BW$14,$BX$14>90,$BX$17>90,$BX$15:$BX$16<90,$BY$14:$BY$17=$BY$14,$BZ$14>$BZ$15:$BZ$17),1,0)} -> 0 | DF14: 2 | DG14: 2 | DH14: 2 | DI14: 3 | DJ14: 4 | DK14: 3 | EGC14: matejero
A15: {=IF(ROWS(A$13:A15)<=$C$12,INDEX(INDIRECT(A$12),SMALL(IF(Nivell=$B$12,ROW(Nivell)-ROW(Equipos!$C$2)+1),ROWS(B$12:B14))),"")} -> Paraguay | F15: 43635 | G15: =BV49+VLOOKUP($G$2,$BO$39:$BS$51,4,0)*VLOOKUP($G$2,$BO$39:$BS$51,5,0) -> 43635.771 | H15: J2 | I15: =A14 -> Colombia | K15: 1 | L15: 0 | N15: =A16 -> Catar | O15: =IF(NOT(OR(ISBLANK(K15),ISBLANK(L15))),1,0) -> 1 | Q15: 2 | R15: =VLOOKUP(Q15,$AG$14:$AI$17,3,0) -> Argentina | S15: =VLOOKUP(R15,$AI$14:$AR$17,2,FALSE) -> 4 | T15: =VLOOKUP($R15,$AI$14:$AR$17,3,FALSE) -> 3 | U15: =VLOOKUP($R15,$AI$14:$AR$17,4,FALSE) -> 1 | V15: =VLOOKUP($R15,$AI$14:$AR$17,5,FALSE) -> 1 | W15: =VLOOKUP($R15,$AI$14:$AR$17,6,FALSE) -> 1 | X15: =VLOOKUP($R15,$AI$14:$AR$17,7,FALSE) -> 3 | Y15: =VLOOKUP($R15,$AI$14:$AR$17,8,FALSE) -> 3 | Z15: =VLOOKUP($R15,$AI$14:$AR$17,9,FALSE) -> 0 | AA15: =IF(SUM($AK$14:$AK$17)=12,MIN(ABS(BS14-BS15),ABS(BS15-BS16)),100) -> 2.01e+09 | AB15: =IF(AND(AA15>=0,AA15<90),VLOOKUP(Q15,$BO$14:$BP$17,2,0),"") | AF15: =VLOOKUP($R15,$AI$14:$AR$17,10,FALSE) -> 4.000311e+09 | AG15: =RANK(AU15,$AU$14:$AU$17) -> 1 | AH15: =RANK(AR15,$AR$14:$AR$17) -> 1 | AI15: =A14 -> Colombia | AJ15: =AL15*3+AM15*1+AN15*0 -> 9 | AK15: =COUNTIFS($I$12:$I$17,AI15,$K$12:$K$17,"<>",$L$12:$L$17,"<>")+COUNTIFS($N$12:$N$17,AI15,$L$12:$L$17,"<>",$K$12:$K$17,"<>") -> 3 | AL15: {=SUM((I$12:I$17=AI15)*(K$12:K$17<>"")*(L$12:L$17<>"")*(K$12:K$17>L$12:L$17),(N$12:N$17=AI15)*(K$12:K$17<>"")*(L$12:L$17<>"")*(K$12:K$17<L$12:L$17))} -> 3 | AM15: {=SUM((I$12:I$17=AI15)*(K$12:K$17<>"")*(L$12:L$17<>"")*(K$12:K$17=L$12:L$17),(N$12:N$17=AI15)*(K$12:K$17<>"")*(L$12:L$17<>"")*(K$12:K$17=L$12:L$17))} -> 0 | AN15: {=SUM((I$12:I$17=AI15)*(L$12:L$17<>"")*(K$12:K$17<>"")*(K$12:K$17<L$12:L$17),(K$12:K$17<>"")*(N$12:N$17=AI15)*(L$12:L$17<>"")*(K$12:K$17>L$12:L$17))} -> 0 | AO15: {=SUMIFS($K$12:$K$17,$I$12:$I$17,AI15,$K$12:$K$17,"<>",$L$12:$L$17,"<>")+SUMIFS($L$12:$L$17,$N$12:$N$17,AI15,$K$12:$K$17,"<>",$L$12:$L$17,"<>")} -> 4 | AP15: {=SUMIFS($K$12:$K$17,$N$12:$N$17,AI15,$K$12:$K$17,"<>",$L$12:$L$17,"<>")+SUMIFS($L$12:$L$17,$I$12:$I$17,AI15,$K$12:$K$17,"<>",$L$12:$L$17,"<>")} -> 0 | AQ15: =AO15-AP15 -> 4 | AR15: =IF(AK15=0,-($AW$9*VLOOKUP(AI15,Tabla3[[NombreEquipo]:[Rank]],3,FALSE)),AJ15*$AW$4+AQ15*$AW$5+AO15*$AW$6+BA15-($AW$9*VLOOKUP(AI15,Tabla3[[NombreEquipo]:[Rank]],3,FALSE)/100)) -> 9.040411e+09 | AS15: =AH15 -> 1 | AU15: =IFERROR(AR15-VLOOKUP(AI15,$AB$14:$AC$17,2,0),AR15) -> 9.040411e+09 | AY15: =AI15 -> Colombia | AZ15: =COUNTIF(AJ14:AJ17,AJ15) -> 1 | BA15: =(BB15*$AW$8)+(BH15*$AW$7) -> 11000 | BB15: =RANK(BC15,BC14:BC17,1) -> 1 | BC15: =SUM(IF(AND(AJ15=AJ16,AQ15=AQ16,AO15=AO16),BF15,0),IF(AND(AJ15=AJ17,AQ15=AQ17,AO15=AO17),BG15,0),IF(AND(AJ15=AJ14,AQ15=AQ14,AO15=AO14),BD15,0)) -> 0 | BD15: {=SUMIFS($K$12:$K$17,$I$12:$I$17,$AY15,$K$12:$K$17,"<>",$L$12:$L$17,"<>",$N$12:$N$17,BD13)+SUMIFS($L$12:$L$17,$I$12:$I$17,BD13,$K$12:$K$17,"<>",$L$12:$L$17,"<>",$N$12:$N$17,$AY15)} -> 2 | BE15: 0 | BF15: {=SUMIFS($K$12:$K$17,$I$12:$I$17,$AY15,$K$12:$K$17,"<>",$L$12:$L$17,"<>",$N$12:$N$17,BF13)+SUMIFS($L$12:$L$17,$I$12:$I$17,BF13,$K$12:$K$17,"<>",$L$12:$L$17,"<>",$N$12:$N$17,$AY15)} -> 1 | BG15: {=SUMIFS($K$12:$K$17,$I$12:$I$17,$AY15,$K$12:$K$17,"<>",$L$12:$L$17,"<>",$N$12:$N$17,BG13)+SUMIFS($L$12:$L$17,$I$12:$I$17,BG13,$K$12:$K$17,"<>",$L$12:$L$17,"<>",$N$12:$N$17,$AY15)} -> 1 | BH15: =RANK(BI15,BI14:BI17,1) -> 1 | BI15: =SUM(IF(AND(AJ15=AJ16,AQ15=AQ16,AO15=AO16),BL15,0),IF(AND(AJ15=AJ17,AQ15=AQ17,AO15=AO17),BM15,0),IF(AND(AJ15=AJ14,AQ15=AQ14,AO15=AO14),BJ15,0)) -> 0 | BJ15: =BD15-BE14 -> 2 | BK15: 0 | BL15: =BF15-BE16 -> 1 | BM15: =BG15-BE17 -> 1 | BN15: 2 | BO15: =RANK(BQ15,$BQ$14:$BQ$17) -> 1 | BP15: =A14 -> Colombia | BQ15: =IF(AK15=0,-($AW$9*VLOOKUP(AI15,Tabla3[[NombreEquipo]:[Rank]],3,FALSE)),AJ15*$AW$4+AQ15*$AW$5+AO15*$AW$6+BA15-($AW$9*VLOOKUP(AI15,Tabla3[[NombreEquipo]:[Rank]],3,FALSE)/100)) -> 9.040411e+09 | BR15: =VLOOKUP(Q15,$AH$14:$AI$17,2,0) -> Argentina | BS15: =VLOOKUP($BR15,$AI$14:$AR$17,10,FALSE) -> 4.000311e+09 | BU15: 2 | BV15: =VLOOKUP(BU15,$AH$14:$AI$17,2,0) -> Argentina | BW15: =VLOOKUP(BV15,$AI$14:$AR$17,2,FALSE) -> 4 | BX15: =IF(SUM($AK$14:$AK$17)=12,MIN(ABS(BS14-BS15),ABS(BS15-BS16)),100) -> 2.01e+09 | BY15: =VLOOKUP($BV15,$AI$14:$AR$17,9,FALSE) -> 0 | BZ15: =VLOOKUP($BV15,$AI$14:$AR$17,7,FALSE) -> 3 | CA15: {=IF($CB$14=$CD$13,$DF$13:$DF$16,IF($CB$14=$CE$13,$DG$13:$DG$15,IF(OR($CB$14=$CF$13,$CB$14=$CG$13),$DH$13:$DH$14,IF($CB$14=$CH$13,$DI$13:$DI$15,(IF($CB$14=$CI$13,$DK$13:$DK$14,$DM$13))))))} -> 2 | CC15: 2 | CD15: {=IF(AND($BW$14:$BW$17=$BW$15,$BX$14:$BX$17<90,$AQ$14:$AQ$17=$AQ$15,$BZ$14:$BZ$17=$BZ$15),1,0)} -> 0 | CE15: {=IF(AND($BW$14:$BW$16=$BW$15,$BX$14:$BX$16<90,$BW$15<>$BW$17),1,0)} -> 0 | CF15: {=IF(AND($BW$14:$BW$15=$BW$14,$BX$14:$BX$15<90,$BW$14<>$BW$16),1,0)} -> 0 | CG15: {=IF(AND($BW$14:$BW$15=$BW$14,$BX$14:$BX$15<90,$BW$14<>$BW$16),1,0)} -> 0 | CH15: {=IF(AND($BW$15:$BW$17=$BW$15,$BX$15:$BX$17<90,$BW$14<>$BW$15),1,0)} -> 0 | CI15: {=IF(AND($BW$15:$BW$16=$BW$15,$BX$15:$BX$16<90,$BW$15<>$BW$14,$BW$15<>$BW$17),1,0)} -> 0 | CJ15: {=IF(AND($BW$15<>$BW$14,$BW$15<>$BW$16),1,0)} -> 1 | CK15: {=IF(AND($BW$15<>$BW$14,$BW$15<>$BW$16),1,0)} -> 1 | CL15: {=IF(AND($BW$14:$BW$17=$BW$14,$BX$14:$BX$17<90,$BY$14:$BY$15=$BY$14,$BY$15<>$BY$16),1,0)} -> 0 | CM15: {=IF(AND($BW$14:$BW$17=$BW$14,$BX$14:$BX$17<90,$BY$14:$BY$17=$BY$14,$BZ$14=$BZ$15,$BZ$15<>$BZ$16),1,0)} -> 0 | CN15: {=IF(AND($BW$14:$BW$16=$BW$15,$BX$14:$BX$15<90,$BX$16>90),1,0)} -> 0 | CO15: {=IF(AND($BW$15<>$BW$14,$BW$15:$BW$17=$BW$15,$BX$15>90,$BX$16:$BX$17<90),1,0)} -> 0 | CP15: {=IF(AND($BW$15<>$BW$14,$BW$15:$BW$17=$BW$15,$BX$17>90,$BX$15:$BX$16<90),1,0)} -> 0 | CQ15: {=IF(AND($BW$15<>$BW$17,$BW$14:$BW$16=$BW$15,$BX$14>90,$BX$15:$BX$16<90),1,0)} -> 0 | CR15: {=IF(AND($BW$14:$BW$17=$BW$15,$BX$15:$BX$17<90,$BX$14<>$BX$15),1,0)} -> 0 | CS15: {=IF(AND($BW$14:$BW$17=$BW$15,$BX$14:$BX$16<90,$BX$15<>$BX$17),1,0)} -> 0 | CT15: {=IF(AND($BW$14:$BW$17=$BW$15,$BX$14:$BX$15>90,$BX$16:$BX$17<90,$BY$14:$BY$17=$BY$15,$BZ$14>$BZ$15,$BZ$15>$BZ$16,$BZ$15>$BZ$17),1,0)} -> 0 | CU15: {=IF(AND($BW$14:$BW$17=$BW$15,$BX$14>90,$BX$15:$BX$16<90,$BX$17>90,$BY$14:$BY$17=$BY$15,$BZ$14>$BZ$15,$BZ$15=$BZ$16,$BZ$15>$BZ$17),1,0)} -> 0 | CV15: {=IF(AND($BW$14:$BW$17=$BW$15,$BX$14:$BX$15<90,$BX$16:$BX$17>90,$BY$14:$BY$17=$BY$15,$BZ$14=$BZ$15,$BZ$15>$BZ$16,$BZ$15>$BZ$17),1,0)} -> 0 | CW15: {=IF(AND($BW$14:$BW$17=$BW$15,$BX$14:$BX$15>90,$BX$16:$BX$17<90,$BY$14:$BY$17=$BY$15,$BZ$14>$BZ$15,$BZ$15:$BZ$17=$BZ$15),1,0)} -> 0 | CX15: {=IF(AND($BW$14:$BW$17=$BW$15,$BX$14:$BX$15<90,$BX$16:$BX$17>90,$BY$14:$BY$17=$BY$15,$BZ$14:$BZ$16=$BZ$15,$BZ$15>$BZ$17),1,0)} -> 0 | CY15: {=IF(AND($BW$14:$BW$17=$BW$15,$BX$14>90,$BX$17>90,$BX$15:$BX$16<90,$BY$14:$BY$17=$BY$15,$BZ$14>$BZ$15:$BZ$17,$BZ$15:$BZ$17=$BZ$15),1,0)} -> 0 | DF15: 3 | DG15: 3 | DI15: 4
A16: {=IF(ROWS(A$13:A16)<=$C$12,INDEX(INDIRECT(A$12),SMALL(IF(Nivell=$B$12,ROW(Nivell)-ROW(Equipos!$C$2)+1),ROWS(B$12:B15))),"")} -> Catar | F16: 43639 | G16: =BV50+VLOOKUP($G$2,$BO$39:$BS$51,4,0)*VLOOKUP($G$2,$BO$39:$BS$51,5,0) -> 43639.667 | H16: J3 | I16: =A16 -> Catar | K16: 0 | L16: 2 | N16: =A13 -> Argentina | O16: =IF(NOT(OR(ISBLANK(K16),ISBLANK(L16))),1,0) -> 1 | Q16: 3 | R16: =VLOOKUP(Q16,$AG$14:$AI$17,3,0) -> Paraguay | S16: =VLOOKUP(R16,$AI$14:$AR$17,2,FALSE) -> 2 | T16: =VLOOKUP($R16,$AI$14:$AR$17,3,FALSE) -> 3 | U16: =VLOOKUP($R16,$AI$14:$AR$17,4,FALSE) -> 0 | V16: =VLOOKUP($R16,$AI$14:$AR$17,5,FALSE) -> 2 | W16: =VLOOKUP($R16,$AI$14:$AR$17,6,FALSE) -> 1 | X16: =VLOOKUP($R16,$AI$14:$AR$17,7,FALSE) -> 3 | Y16: =VLOOKUP($R16,$AI$14:$AR$17,8,FALSE) -> 4 | Z16: =VLOOKUP($R16,$AI$14:$AR$17,9,FALSE) -> -1 | AA16: =IF(SUM($AK$14:$AK$17)=12,MIN(ABS(BS15-BS16),ABS(BS16-BS17)),100) -> 1.0201e+09 | AB16: =IF(AND(AA16>=0,AA16<90),VLOOKUP(Q16,$BO$14:$BP$17,2,0),"") | AF16: =VLOOKUP($R16,$AI$14:$AR$17,10,FALSE) -> 1.990311e+09 | AG16: =RANK(AU16,$AU$14:$AU$17) -> 3 | AH16: =RANK(AR16,$AR$14:$AR$17) -> 3 | AI16: =A15 -> Paraguay | AJ16: =AL16*3+AM16*1+AN16*0 -> 2 | AK16: =COUNTIFS($I$12:$I$17,AI16,$K$12:$K$17,"<>",$L$12:$L$17,"<>")+COUNTIFS($N$12:$N$17,AI16,$L$12:$L$17,"<>",$K$12:$K$17,"<>") -> 3 | AL16: {=SUM((I$12:I$17=AI16)*(K$12:K$17<>"")*(L$12:L$17<>"")*(K$12:K$17>L$12:L$17),(N$12:N$17=AI16)*(K$12:K$17<>"")*(L$12:L$17<>"")*(K$12:K$17<L$12:L$17))} -> 0 | AM16: {=SUM((I$12:I$17=AI16)*(K$12:K$17<>"")*(L$12:L$17<>"")*(K$12:K$17=L$12:L$17),(N$12:N$17=AI16)*(K$12:K$17<>"")*(L$12:L$17<>"")*(K$12:K$17=L$12:L$17))} -> 2 | AN16: {=SUM((I$12:I$17=AI16)*(L$12:L$17<>"")*(K$12:K$17<>"")*(K$12:K$17<L$12:L$17),(K$12:K$17<>"")*(N$12:N$17=AI16)*(L$12:L$17<>"")*(K$12:K$17>L$12:L$17))} -> 1 | AO16: {=SUMIFS($K$12:$K$17,$I$12:$I$17,AI16,$K$12:$K$17,"<>",$L$12:$L$17,"<>")+SUMIFS($L$12:$L$17,$N$12:$N$17,AI16,$K$12:$K$17,"<>",$L$12:$L$17,"<>")} -> 3 | AP16: {=SUMIFS($K$12:$K$17,$N$12:$N$17,AI16,$K$12:$K$17,"<>",$L$12:$L$17,"<>")+SUMIFS($L$12:$L$17,$I$12:$I$17,AI16,$K$12:$K$17,"<>",$L$12:$L$17,"<>")} -> 4 | AQ16: =AO16-AP16 -> -1 | AR16: =IF(AK16=0,-($AW$9*VLOOKUP(AI16,Tabla3[[NombreEquipo]:[Rank]],3,FALSE)),AJ16*$AW$4+AQ16*$AW$5+AO16*$AW$6+BA16-($AW$9*VLOOKUP(AI16,Tabla3[[NombreEquipo]:[Rank]],3,FALSE)/100)) -> 1.990311e+09 | AS16: =AH16 -> 3 | AU16: =IFERROR(AR16-VLOOKUP(AI16,$AB$14:$AC$17,2,0),AR16) -> 1.990311e+09 | AY16: =AI16 -> Paraguay | AZ16: =COUNTIF(AJ14:AJ17,AJ16) -> 1 | BA16: =(BB16*$AW$8)+(BH16*$AW$7) -> 11000 | BB16: =RANK(BC16,BC14:BC17,1) -> 1 | BC16: =SUM(IF(AND(AJ16=AJ17,AQ16=AQ17,AO16=AO17),BG16,0),IF(AND(AJ16=AJ14,AQ16=AQ14,AO16=AO14),BD16,0),IF(AND(AJ16=AJ15,AQ16=AQ15,AO16=AO15),BE16,0)) -> 0 | BD16: {=SUMIFS($K$12:$K$17,$I$12:$I$17,$AY16,$K$12:$K$17,"<>",$L$12:$L$17,"<>",$N$12:$N$17,BD13)+SUMIFS($L$12:$L$17,$I$12:$I$17,BD13,$K$12:$K$17,"<>",$L$12:$L$17,"<>",$N$12:$N$17,$AY16)} -> 1 | BE16: {=SUMIFS($K$12:$K$17,$I$12:$I$17,$AY16,$K$12:$K$17,"<>",$L$12:$L$17,"<>",$N$12:$N$17,BE13)+SUMIFS($L$12:$L$17,$I$12:$I$17,BE13,$K$12:$K$17,"<>",$L$12:$L$17,"<>",$N$12:$N$17,$AY16)} -> 0 | BF16: 0 | BG16: {=SUMIFS($K$12:$K$17,$I$12:$I$17,$AY16,$K$12:$K$17,"<>",$L$12:$L$17,"<>",$N$12:$N$17,BG13)+SUMIFS($L$12:$L$17,$I$12:$I$17,BG13,$K$12:$K$17,"<>",$L$12:$L$17,"<>",$N$12:$N$17,$AY16)} -> 2 | BH16: =RANK(BI16,BI14:BI17,1) -> 1 | BI16: =SUM(IF(AND(AJ16=AJ17,AQ16=AQ17,AO16=AO17),BM16,0),IF(AND(AJ16=AJ14,AQ16=AQ14,AO16=AO14),BJ16,0),IF(AND(AJ16=AJ15,AQ16=AQ15,AO16=AO15),BK16,0)) -> 0 | BJ16: =BD16-BF14 -> 0 | BK16: =BE16-BF15 -> -1 | BL16: 0 | BM16: =BG16-BF17 -> 0 | BN16: 3 | BO16: =RANK(BQ16,$BQ$14:$BQ$17) -> 3 | BP16: =A15 -> Paraguay | BQ16: =IF(AK16=0,-($AW$9*VLOOKUP(AI16,Tabla3[[NombreEquipo]:[Rank]],3,FALSE)),AJ16*$AW$4+AQ16*$AW$5+AO16*$AW$6+BA16-($AW$9*VLOOKUP(AI16,Tabla3[[NombreEquipo]:[Rank]],3,FALSE)/100)) -> 1.990311e+09 | BR16: =VLOOKUP(Q16,$AH$14:$AI$17,2,0) -> Paraguay | BS16: =VLOOKUP($BR16,$AI$14:$AR$17,10,FALSE) -> 1.990311e+09 | BU16: 3 | BV16: =VLOOKUP(BU16,$AH$14:$AI$17,2,0) -> Paraguay | BW16: =VLOOKUP(BV16,$AI$14:$AR$17,2,FALSE) -> 2 | BX16: =IF(SUM($AK$14:$AK$17)=12,MIN(ABS(BS15-BS16),ABS(BS16-BS17)),100) -> 1.0201e+09 | BY16: =VLOOKUP($BV16,$AI$14:$AR$17,9,FALSE) -> -1 | BZ16: =VLOOKUP($BV16,$AI$14:$AR$17,7,FALSE) -> 3 | CA16: {=IF($CB$14=$CD$13,$DF$13:$DF$16,IF($CB$14=$CE$13,$DG$13:$DG$15,IF(OR($CB$14=$CF$13,$CB$14=$CJ$13),$DJ$13:$DJ$14,IF($CB$14=$CH$13,$DI$13:$DI$15,(IF($CB$14=$CI$13,$DK$13:$DK$14,$DN$13))))))} -> 3 | CC16: 3 | CD16: {=IF(AND($BW$14:$BW$17=$BW$8,$BX$14:$BX$17<90,$AQ$14:$AQ$17=$AQ$8,$BZ$14:$BZ$17=$BZ$8),1,0)} -> 0 | CE16: {=IF(AND($BW$14:$BW$16=$BW$16,$BX$14:$BX$16<90,$BW$16<>$BW$17),1,0)} -> 0 | CF16: {=IF(AND($BW$16:$BW$17=$BW$16,$BX$16:$BX$17<90,$BW$16<>$BW$15),1,0)} -> 0 | CG16: {=IF(OR(AND($BW$16<>$BW$15,$BW$16<>$BW$17),AND($BW$16<>$BW$15,$BW$16=$BW$17,$BX$16>90,$BX$17>90)),1,0)} -> 1 | CH16: {=IF(AND($BW$15:$BW$17=$BW$15,$BX$15:$BX$17<90,$BW$14<>$BW$16),1,0)} -> 0 | CI16: {=IF(AND($BW$15:$BW$16=$BW$16,$BX$15:$BX$16<90,$BW$16<>$BW$14,$BW$16<>$BW$17),1,0)} -> 0 | CJ16: {=IF(AND($BW$16:$BW$17=$BW$16,$BX$16:$BX$17<90,$BW$16<>$BW$15),1,0)} -> 0 | CK16: {=IF(AND($BW$16<>$BW$15,$BW$16<>$BW$17),1,0)} -> 1 | CL16: {=IF(AND($BW$14:$BW$17=$BW$14,$BX$14:$BX$17<90,$BY$16:$BY$17=$BY$16,$BY$15<>$BY$16),1,0)} -> 0 | CM16: {=IF(AND($BW$14:$BW$17=$BW$14,$BX$14:$BX$17<90,$BY$14:$BY$17=$BY$14,$BZ$16=$BZ$17,$BZ$15<>$BZ$16),1,0)} -> 0 | CN16: {=IF(AND($BW$14:$BW$16=$BW$16,$BX$14:$BX$15<90,$BX$16>90),1,0)} -> 0 | CO16: {=IF(AND($BW$15<>$BW$14,$BW$15:$BW$17=$BW$16,$BX$15>90,$BX$16:$BX$17<90),1,0)} -> 0 | CP16: {=IF(AND($BW$15<>$BW$14,$BW$15:$BW$17=$BW$15,$BX$17>90,$BX$15:$BX$16<90),1,0)} -> 0 | CQ16: {=IF(AND($BW$16<>$BW$17,$BW$14:$BW$16=$BW$16,$BX$14>90,$BX$15:$BX$16<90),1,0)} -> 0 | CR16: {=IF(AND($BW$14:$BW$17=$BW$15,$BX$15:$BX$17<90,$BX$14<>$BX$16),1,0)} -> 0 | CS16: {=IF(AND($BW$14:$BW$17=$BW$16,$BX$14:$BX$16<90,$BX$16<>$BX$17),1,0)} -> 0 | CT16: {=IF(AND($BW$14:$BW$17=$BW$16,$BX$14:$BX$15>90,$BX$16:$BX$17<90,$BY$14:$BY$17=$BY$16,$BZ$14>$BZ$15,$BZ$15>$BZ$16,$BZ$16=$BZ$17),1,0)} -> 0 | CU16: {=IF(AND($BW$14:$BW$17=$BW$16,$BX$14>90,$BX$15:$BX$16<90,$BX$17>90,$BY$14:$BY$17=$BY$16,$BZ$14>$BZ$15,$BZ$15=$BZ$16,$BZ$16>$BZ$17),1,0)} -> 0 | CV16: {=IF(AND($BW$14:$BW$17=$BW$16,$BX$14:$BX$15<90,$BX$16:$BX$17>90,$BY$14:$BY$17=$BY$16,$BZ$14=$BZ$15,$BZ$15>$BZ$16,$BZ$16>$BZ$17),1,0)} -> 0 | CW16: {=IF(AND($BW$14:$BW$17=$BW$16,$BX$14:$BX$15>90,$BX$16:$BX$17<90,$BY$14:$BY$17=$BY$15,$BZ$14>$BZ$16,$BZ$15:$BZ$17=$BZ$16),1,0)} -> 0 | CX16: {=IF(AND($BW$14:$BW$17=$BW$16,$BX$14:$BX$15<90,$BX$16:$BX$17>90,$BY$14:$BY$17=$BY$16,$BZ$14:$BZ$16=$BZ$16,$BZ$16>$BZ$17),1,0)} -> 0 | CY16: {=IF(AND($BW$14:$BW$17=$BW$16,$BX$14>90,$BX$17>90,$BX$15:$BX$16<90,$BY$14:$BY$17=$BY$16,$BZ$14>$BZ$15:$BZ$17,$BZ$15:$BZ$17=$BZ$16),1,0)} -> 0 | DF16: 4
F17: 43639 | G17: =BV51+VLOOKUP($G$2,$BO$39:$BS$51,4,0)*VLOOKUP($G$2,$BO$39:$BS$51,5,0) -> 43639.667 | H17: J3 | I17: =A14 -> Colombia | K17: 1 | L17: 0 | N17: =A15 -> Paraguay | O17: =IF(NOT(OR(ISBLANK(K17),ISBLANK(L17))),1,0) -> 1 | Q17: 4 | R17: =VLOOKUP(Q17,$AG$14:$AI$17,3,0) -> Catar | S17: =VLOOKUP(R17,$AI$14:$AR$17,2,FALSE) -> 1 | T17: =VLOOKUP($R17,$AI$14:$AR$17,3,FALSE) -> 3 | U17: =VLOOKUP($R17,$AI$14:$AR$17,4,FALSE) -> 0 | V17: =VLOOKUP($R17,$AI$14:$AR$17,5,FALSE) -> 1 | W17: =VLOOKUP($R17,$AI$14:$AR$17,6,FALSE) -> 2 | X17: =VLOOKUP($R17,$AI$14:$AR$17,7,FALSE) -> 2 | Y17: =VLOOKUP($R17,$AI$14:$AR$17,8,FALSE) -> 5 | Z17: =VLOOKUP($R17,$AI$14:$AR$17,9,FALSE) -> -3 | AA17: =IF(SUM($AK$14:$AK$17)=12,MIN(ABS(BS16-BS17),ABS(BS17-BS27)),100) -> 9.70211e+08 | AB17: =IF(AND(AA17>=0,AA17<90),VLOOKUP(Q17,$BO$14:$BP$17,2,0),"") | AF17: =VLOOKUP($R17,$AI$14:$AR$17,10,FALSE) -> 9.70211e+08 | AG17: =RANK(AU17,$AU$14:$AU$17) -> 4 | AH17: =RANK(AR17,$AR$14:$AR$17) -> 4 | AI17: =A16 -> Catar | AJ17: =AL17*3+AM17*1+AN17*0 -> 1 | AK17: =COUNTIFS($I$12:$I$17,AI17,$K$12:$K$17,"<>",$L$12:$L$17,"<>")+COUNTIFS($N$12:$N$17,AI17,$L$12:$L$17,"<>",$K$12:$K$17,"<>") -> 3 | AL17: {=SUM((I$12:I$17=AI17)*(K$12:K$17<>"")*(L$12:L$17<>"")*(K$12:K$17>L$12:L$17),(N$12:N$17=AI17)*(K$12:K$17<>"")*(L$12:L$17<>"")*(K$12:K$17<L$12:L$17))} -> 0 | AM17: {=SUM((I$12:I$17=AI17)*(K$12:K$17<>"")*(L$12:L$17<>"")*(K$12:K$17=L$12:L$17),(N$12:N$17=AI17)*(K$12:K$17<>"")*(L$12:L$17<>"")*(K$12:K$17=L$12:L$17))} -> 1 | AN17: {=SUM((I$12:I$17=AI17)*(L$12:L$17<>"")*(K$12:K$17<>"")*(K$12:K$17<L$12:L$17),(K$12:K$17<>"")*(N$12:N$17=AI17)*(L$12:L$17<>"")*(K$12:K$17>L$12:L$17))} -> 2 | AO17: {=SUMIFS($K$12:$K$17,$I$12:$I$17,AI17,$K$12:$K$17,"<>",$L$12:$L$17,"<>")+SUMIFS($L$12:$L$17,$N$12:$N$17,AI17,$K$12:$K$17,"<>",$L$12:$L$17,"<>")} -> 2 | AP17: {=SUMIFS($K$12:$K$17,$N$12:$N$17,AI17,$K$12:$K$17,"<>",$L$12:$L$17,"<>")+SUMIFS($L$12:$L$17,$I$12:$I$17,AI17,$K$12:$K$17,"<>",$L$12:$L$17,"<>")} -> 5 | AQ17: =AO17-AP17 -> -3 | AR17: =IF(AK17=0,-($AW$9*VLOOKUP(AI17,Tabla3[[NombreEquipo]:[Rank]],3,FALSE)),AJ17*$AW$4+AQ17*$AW$5+AO17*$AW$6+BA17-($AW$9*VLOOKUP(AI17,Tabla3[[NombreEquipo]:[Rank]],3,FALSE)/100)) -> 9.70211e+08 | AS17: =AH17 -> 4 | AU17: =IFERROR(AR17-VLOOKUP(AI17,$AB$14:$AC$17,2,0),AR17) -> 9.70211e+08 | AY17: =AI17 -> Catar | AZ17: =COUNTIF(AJ14:AJ17,AJ17) -> 1 | BA17: =(BB17*$AW$8)+(BH17*$AW$7) -> 11000 | BB17: =RANK(BC17,BC14:BC17,1) -> 1 | BC17: =SUM(IF(AND(AJ17=AJ14,AQ17=AQ14,AO17=AO14),BD17,0),IF(AND(AJ17=AJ15,AQ17=AQ15,AO17=AO15),BE17,0),IF(AND(AJ17=AJ16,AQ17=AQ16,AO17=AO16),BF17,0)) -> 0 | BD17: {=SUMIFS($K$12:$K$17,$I$12:$I$17,$AY17,$K$12:$K$17,"<>",$L$12:$L$17,"<>",$N$12:$N$17,BD13)+SUMIFS($L$12:$L$17,$I$12:$I$17,BD13,$K$12:$K$17,"<>",$L$12:$L$17,"<>",$N$12:$N$17,$AY17)} -> 0 | BE17: {=SUMIFS($K$12:$K$17,$I$12:$I$17,$AY17,$K$12:$K$17,"<>",$L$12:$L$17,"<>",$N$12:$N$17,BE13)+SUMIFS($L$12:$L$17,$I$12:$I$17,BE13,$K$12:$K$17,"<>",$L$12:$L$17,"<>",$N$12:$N$17,$AY17)} -> 0 | BF17: {=SUMIFS($K$12:$K$17,$I$12:$I$17,$AY17,$K$12:$K$17,"<>",$L$12:$L$17,"<>",$N$12:$N$17,BF13)+SUMIFS($L$12:$L$17,$I$12:$I$17,BF13,$K$12:$K$17,"<>",$L$12:$L$17,"<>",$N$12:$N$17,$AY17)} -> 2 | BG17: 0 | BH17: =RANK(BI17,BI14:BI17,1) -> 1 | BI17: =SUM(IF(AND(AJ17=AJ14,AQ17=AQ14,AO17=AO14),BJ17,0),IF(AND(AJ17=AJ15,AQ17=AQ15,AO17=AO15),BK17,0),IF(AND(AJ17=AJ16,AQ17=AQ16,AO17=AO16),BL17,0)) -> 0 | BJ17: =BD17-BG14 -> -2 | BK17: =BE17-BG15 -> -1 | BL17: =BF17-BG16 -> 0 | BM17: 0 | BN17: 4 | BO17: =RANK(BQ17,$BQ$14:$BQ$17) -> 4 | BP17: =A16 -> Catar | BQ17: =IF(AK17=0,-($AW$9*VLOOKUP(AI17,Tabla3[[NombreEquipo]:[Rank]],3,FALSE)),AJ17*$AW$4+AQ17*$AW$5+AO17*$AW$6+BA17-($AW$9*VLOOKUP(AI17,Tabla3[[NombreEquipo]:[Rank]],3,FALSE)/100)) -> 9.70211e+08 | BR17: =VLOOKUP(Q17,$AH$14:$AI$17,2,0) -> Catar | BS17: =VLOOKUP($BR17,$AI$14:$AR$17,10,FALSE) -> 9.70211e+08 | BU17: 4 | BV17: =VLOOKUP(BU17,$AH$14:$AI$17,2,0) -> Catar | BW17: =VLOOKUP(BV17,$AI$14:$AR$17,2,FALSE) -> 1 | BX17: =IF(SUM($AK$14:$AK$17)=12,MIN(ABS(BS16-BS17),ABS(BS17-BS27)),100) -> 9.70211e+08 | BY17: =VLOOKUP($BV17,$AI$14:$AR$17,9,FALSE) -> -3 | BZ17: =VLOOKUP($BV17,$AI$14:$AR$17,7,FALSE) -> 2 | CA17: {=IF($CB$14=$CD$13,$DF$13:$DF$16,IF(OR($CB$14=$CF$13,$CB$14=$CJ$13),$DJ$13:$DJ$14,IF($CB$14=$CH$13,$DI$13:$DI$15,$DO$13)))} -> 4 | CC17: 4 | CD17: {=IF(AND($BW$14:$BW$17=$BW$17,$BX$14:$BX$17<90,$AQ$14:$AQ$17=$AQ$17,$BZ$14:$BZ$17=$BZ$17),1,0)} -> 0 | CE17: {=IF(AND($BW$14:$BW$16=$BW$14,$BX$14:$BX$16<90,$BX$17>90,$BW$14<>$BW$17),1,0)} -> 0 | CF17: {=IF(AND($BW$16:$BW$17=$BW$16,$BX$16:$BX$17<90,$BW$16<>$BW$15),1,0)} -> 0 | CG17: {=IF(AND($BW$17<>$BW$15,$BW$17<>$BW$14),1,0)} -> 1 | CH17: {=IF(AND($BW$15:$BW$17=$BW$15,$BX$15:$BX$17<90,$BW$14<>$BW$17),1,0)} -> 0 | CI17: {=IF(AND($BW$17<>$BW$15,$BW$17<>$BW$14),1,0)} -> 1 | CJ17: {=IF(AND($BW$16:$BW$17=$BW$16,$BX$16:$BX$17<90,$BW$16<>$BW$15),1,0)} -> 0 | CK17: {=IF(AND($BW$17<>$BW$15,$BW$17<>$BW$14),1,0)} -> 1 | CL17: {=IF(AND($BW$14:$BW$17=$BW$14,$BX$14:$BX$17<90,$BY$16:$BY$17=$BY$17,$BY$15<>$BY$17),1,0)} -> 0 | CM17: {=IF(AND($BW$14:$BW$17=$BW$14,$BX$14:$BX$17<90,$BY$14:$BY$17=$BY$14,$BZ$16=$BZ$17,$BZ$15<>$BZ$16),1,0)} -> 0 | CN17: {=IF(AND($BW$14:$BW$16=$BW$14,$BX$14:$BX$15<90,$BW$16<>$BW$17),1,0)} -> 0 | CO17: {=IF(AND($BW$15<>$BW$14,$BW$15:$BW$17=$BW$16,$BX$15>90,$BX$16:$BX$17<90),1,0)} -> 0 | CP17: {=IF(AND($BW$15<>$BW$14,$BW$15:$BW$17=$BW$15,$BX$17>90,$BX$15:$BX$16<90),1,0)} -> 0 | CQ17: {=IF(AND($BW$17<>$BW$15,$BW$17<>$BW$16),1,0)} -> 1 | CR17: {=IF(AND($BW$14:$BW$17=$BW$15,$BX$15:$BX$17<90,$BX$14<>$BX$17),1,0)} -> 0 | CS17: {=IF(AND($BW$14:$BW$17=$BW$14,$BX$14:$BX$16<90,$BX$16<>$BX$17),1,0)} -> 0 | CT17: {=IF(AND($BW$14:$BW$17=$BW$17,$BX$14:$BX$15>90,$BX$16:$BX$17<90,$BY$14:$BY$17=$BY$17,$BZ$14>$BZ$15,$BZ$15>$BZ$17,$BZ$16=$BZ$17),1,0)} -> 0 | CU17: {=IF(AND($BW$14:$BW$17=$BW$15,$BX$14>90,$BX$15:$BX$16<90,$BX$17>90,$BY$14:$BY$17=$BY$17,$BZ$14>$BZ$17,$BZ$15=$BZ$16,$BZ$15>$BZ$17),1,0)} -> 0 | CV17: {=IF(AND($BW$14:$BW$17=$BW$17,$BX$14:$BX$15<90,$BX$16:$BX$17>90,$BY$14:$BY$17=$BY$17,$BZ$14=$BZ$15,$BZ$15>$BZ$16,$BZ$16>$BZ$17),1,0)} -> 0 | CW17: {=IF(AND($BW$14:$BW$17=$BW$17,$BX$14:$BX$15>90,$BX$16:$BX$17<90,$BY$14:$BY$17=$BY$17,$BZ$14>$BZ$17,$BZ$15:$BZ$17=$BZ$17),1,0)} -> 0 | CX17: {=IF(AND($BW$14:$BW$17=$BW$17,$BX$14:$BX$15<90,$BX$16:$BX$17>90,$BY$14:$BY$17=$BY$17,$BZ$14:$BZ$16=$BZ$16,$BZ$14:$BZ$16>$BZ$17),1,0)} -> 0 | CY17: {=IF(AND($BW$14:$BW$17=$BW$17,$BX$14>90,$BX$17>90,$BX$15:$BX$16<90,$BY$14:$BY$17=$BY$17,$BZ$14>$BZ$15:$BZ$17,$BZ$15:$BZ$17=$BZ$17),1,0)} -> 0
F19: =F3 -> Fecha | G19: =G3 -> Hora | H19: =H3 -> Jor. | I19: =I3 -> Casa | K19: =K3 -> Gol | L19: =L3 -> Gol | N19: =N3 -> Fuera | CD19: 1 | CE19: 12 | CF19: 18 | CG19: 19 | CH19: 13 | CI19: 20 | CJ19: 21 | CK19: 22 | CL19: 3 | CM19: 2 | CN19: 14 | CO19: 17 | CP19: 16 | CQ19: 15 | CR19: 4 | CS19: 5 | CT19: 10 | CU19: 8 | CV19: 6 | CW19: 11 | CX19: 7 | CY19: 9 | CZ19: - | DA19: - | DF19: OP1 | DG19: OP2 | DH19: OP3 | DI19: OP4 | DJ19: OP5 | DK19: OP6 | DL19: OP7 | DM19: OP8 | DN19: OP9 | DO19: OP10
A20: NombreEquipo | B20: C | C20: =COUNTIF(Equipos!$C$2:$C$13,'COPA AMERICA'!B20) -> 4 | E20: C | F20: 43632 | G20: =BV53+VLOOKUP($G$2,$BO$39:$BS$51,4,0)*VLOOKUP($G$2,$BO$39:$BS$51,5,0) -> 43632.792 | H20: J1 | I20: =A21 -> Uruguay | K20: 4 | L20: 0 | N20: =A22 -> Ecuador | O20: =IF(NOT(OR(ISBLANK(K20),ISBLANK(L20))),1,0) -> 1 | Q20: =CONCATENATE("Grupo"," ",B20) -> Grupo C | AB20: ¡EMPATE! Puedes seleccionar el orden de los empatados. | AH20: =CONCATENATE("Auxiliar - ",Q20) -> Auxiliar - Grupo C | AU20: NR | AY20: =CONCATENATE(Q20," - GOLAVERAGE") -> Grupo C - GOLAVERAGE | BB20: Goles - Partidos Cruzados | BH20: Diferencia de Goles - Partidos Cruzados | CB20: Valor | CC20: Sum | CD20: =SUM(CD22:CD25) -> 0 | CE20: =SUM(CE22:CE25) -> 0 | CF20: =SUM(CF22:CF25) -> 0 | CG20: =SUM(CG22:CG25) -> 2 | CH20: =SUM(CH22:CH25) -> 0 | CI20: =SUM(CI22:CI25) -> 2 | CJ20: =SUM(CJ22:CJ25) -> 2 | CK20: =SUM(CK22:CK25) -> 3 | ... DA20: =SUM(DA22:DA25) -> 0 | DF20: 1234 | DG20: 123 | DH20: 12 | DI20: 234 | DJ20: 34 | DK20: 23 | DL20: 1 | DM20: 2 | DN20: 3 | DO20: 4
