Workbook
Name ·······: Equipos!$A$2:$D$13
Name egc: 'COPA AMERICA'!$JBH$3
Name gwgvftwvn: Equipos!$A$2:$D$13
Name mat: 'COPA AMERICA'!$BM$13
Name Nivell: Equipos!$C$2:$C$13
Name NombreEquipo: Equipos!$B$2:$B$13
Name OK: Equipos!$A$2:$A$13
Name otro: [1]!Tabla3[#Data]
Name Rank: Equipos!$D$2:$D$13

Sheet Inicio
F19: Foto: @conmebol

Sheet COPA AMERICA
E1: Selecciona Horario: | G1: Brasil | I1: Rellenar los cuadros grises
G2: =IFERROR(VLOOKUP(G1,BP39:BQ51,2,0),10) -> 3 | AH2: AUXILIARES | AV2: TOPIC | AW2: VALUE | CL2: no
F3: Fecha | G3: Hora | H3: Jor. | I3: Casa | K3: Gol | L3: Gol | N3: Fuera | AV3: SIN EMPEZAR | AW3: =AW4*2 -> 2000000000 | CD3: 1 | CE3: 12 | CF3: 18 | CG3: 19 | CH3: 13 | CI3: 20 | CJ3: 21 | CK3: 22 | CL3: 3 | CM3: 2 | CN3: 14 | CO3: 17 | CP3: 16 | CQ3: 15 | CR3: 4 | CS3: 5 | CT3: 10 | CU3: 8 | CV3: 6 | CW3: 11 | CX3: 7 | CY3: 9 | CZ3: - | DA3: - | DF3: OP1 | DG3: OP2 | DH3: OP3 | DI3: OP4 | DJ3: OP5 | DK3: OP6 | DL3: OP7 | DM3: OP8 | DN3: OP9 | DO3: OP10 | JBH3: matejero
A4: NombreEquipo | B4: A | C4: =COUNTIF(Equipos!$C$2:$C$13,'COPA AMERICA'!B4) -> 4 | E4: A | F4: 43630 | G4: =BV39+VLOOKUP($G$2,$BO$39:$BS$51,4,0)*VLOOKUP($G$2,$BO$39:$BS$51,5,0) -> 43630.896 | H4: J1 | I4: =A5 -> Brasil | K4: 3 | L4: 0 | N4: =A6 -> Bolivia | O4: =IF(NOT(OR(ISBLANK(K4),ISBLANK(L4))),1,0) -> 1 | Q4: =CONCATENATE("Grupo"," ",B4) -> Grupo A | AB4: ¡EMPATE! Puedes seleccionar el orden de los empatados. | AH4: =CONCATENATE("Auxiliar - ",Q4) -> Auxiliar - Grupo A | AU4: NR | AV4: MÁS PUNTOS General | AW4: =AW5*100 -> 1000000000 | AY4: =CONCATENATE(Q4," - GOLAVERAGE") -> Grupo A - GOLAVERAGE | BB4: Goles - Partidos Cruzados | BH4: Diferencia de Goles - Partidos Cruzados | CB4: Valor | CC4: Sum | CD4: =SUM(CD6:CD9) -> 0 | CE4: =SUM(CE6:CE9) -> 0 | CF4: =SUM(CF6:CF9) -> 0 | CG4: =SUM(CG6:CG9) -> 2 | CH4: =SUM(CH6:CH9) -> 0 | CI4: =SUM(CI6:CI9) -> 2 | CJ4: =SUM(CJ6:CJ9) -> 2 | CK4: =SUM(CK6:CK9) -> 4 | ... DA4: =SUM(DA6:DA9) -> 0 | DF4: 1234 | DG4: 123 | DH4: 12 | DI4: 234 | DJ4: 34 | DK4: 23 | DL4: 1 | DM4: 2 | DN4: 3 | DO4: 4
A5: {=IF(ROWS(A$5:A5)<=$C$4,INDEX(INDIRECT(A$4),SMALL(IF(Nivell=$B$4,ROW(Nivell)-ROW(Equipos!$C$2)+1),ROWS(B$4:B4))),"")} -> Brasil | F5: 43631 | G5: =BV40+VLOOKUP($G$2,$BO$39:$BS$51,4,0)*VLOOKUP($G$2,$BO$39:$BS$51,5,0) -> 43631.667 | H5: J1 | I5: =A7 -> Venezuela | K5: 0 | L5: 0 | N5: =A8 -> Perú | O5: =IF(NOT(OR(ISBLANK(K5),ISBLANK(L5))),1,0) -> 1 | Q5: Pos | R5: Selección | S5: Pts | T5: J | U5: G | V5: E | W5: P | X5: GF | Y5: GC | Z5: DG | AA5: =COUNTIF(AA6:AA9,"<100") -> 0 | AG5: NR | AH5: Puesto | AI5: Equipo | AJ5: Ptos | AK5: J | AL5: G | AM5: E | AN5: P | AO5: GF | AP5: GC | AQ5: Dif | AR5: Rank | AS5: Puesto | AV5: MÁS DIF GOLES General | AW5: =AW6*100 -> 10000000 | AY5: Equipo | AZ5: NEquipEqual | BA5: PUNTOS | BB5: Ranking Inv | BC5: Entre Iguales | BD5: =AY6 -> Brasil | BE5: =AY7 -> Bolivia | BF5: =AY8 -> Venezuela | BG5: =AY9 -> Perú | BH5: Ranking Inv | BI5: Entre Iguales | BJ5: =BD5 -> Brasil | BK5: =BE5 -> Bolivia | BL5: =BF5 -> Venezuela | BM5: =BG5 -> Perú | BP5: Inicio | BR5: 1R | BV5: Equipo | BW5: Ptos | BX5: Signo | BY5: Dif | BZ5: Gf | CC5: Com | CD5: COM_1 | CE5: COM_2 | CF5: COM_3 | CG5: COM_4 | CH5: COM_5 | CI5: COM_6 | CJ5: COM_7 | CK5: COM_8 | CL5: COM_3 | CM5: COM_3 | CN5: COM_4 | CO5: COM_7 | CP5: COM_6 | CQ5: COM_6 | CR5: COM_5 | CS5: COM_2 | CT5: COM_7 | CU5: COM_6 | CV5: COM_4 | CW5: COM_7 | CX5: COM_4 | CY5: COM_6 | DF5: 1 | DG5: 1 | DH5: 1 | DI5: 2 | DJ5: 3 | DK5: 2 | DL5: 1 | DM5: 2 | DN5: 3 | DO5: 4
A6: {=IF(ROWS(A$5:A6)<=$C$4,INDEX(INDIRECT(A$4),SMALL(IF(Nivell=$B$4,ROW(Nivell)-ROW(Equipos!$C$2)+1),ROWS(B$4:B5))),"")} -> Bolivia | F6: 43634 | G6: =BV41+VLOOKUP($G$2,$BO$39:$BS$51,4,0)*VLOOKUP($G$2,$BO$39:$BS$51,5,0) -> 43634.896 | H6: J2 | I6: =A5 -> Brasil | K6: 0 | L6: 0 | N6: =A7 -> Venezuela | O6: =IF(NOT(OR(ISBLANK(K6),ISBLANK(L6))),1,0) -> 1 | Q6: 1 | R6: =VLOOKUP(Q6,$AG$6:$AI$9,3,0) -> Brasil | S6: =VLOOKUP(R6,$AI$6:$AR$9,2,FALSE) -> 7 | T6: =VLOOKUP($R6,$AI$6:$AR$9,3,FALSE) -> 3 | U6: =VLOOKUP($R6,$AI$6:$AR$9,4,FALSE) -> 2 | V6: =VLOOKUP($R6,$AI$6:$AR$9,5,FALSE) -> 1 | W6: =VLOOKUP($R6,$AI$6:$AR$9,6,FALSE) -> 0 | X6: =VLOOKUP($R6,$AI$6:$AR$9,7,FALSE) -> 8 | Y6: =VLOOKUP($R6,$AI$6:$AR$9,8,FALSE) -> 0 | Z6: =VLOOKUP($R6,$AI$6:$AR$9,9,FALSE) -> 8 | AA6: =IF(SUM($AK$6:$AK$9)=12,MIN(ABS(BS5-BS6),ABS(BS6-BS7)),100) -> 2.0605e+09 | AB6: =IF(AND(AA6>=0,AA6<90),VLOOKUP(Q6,$BO$6:$BP$9,2,0),"") | AF6: =VLOOKUP($R6,$AI$6:$AR$9,10,FALSE) -> 7.080811e+09 | AG6: =RANK(AU6,$AU$6:$AU$9) -> 1 | AH6: =RANK(AR6,$AR$6:$AR$9) -> 1 | AI6: =A5 -> Brasil | AJ6: =AL6*3+AM6*1+AN6*0 -> 7 | AK6: =COUNTIFS($I$4:$I$9,AI6,$K$4:$K$9,"<>",$L$4:$L$9,"<>")+COUNTIFS($N$4:$N$9,AI6,$L$4:$L$9,"<>",$K$4:$K$9,"<>") -> 3 | AL6: {=SUM((I$4:I$9=AI6)*(K$4:K$9<>"")*(L$4:L$9<>"")*(K$4:K$9>L$4:L$9),(N$4:N$9=AI6)*(K$4:K$9<>"")*(L$4:L$9<>"")*(K$4:K$9<L$4:L$9))} -> 2 | AM6: {=SUM((I$4:I$9=AI6)*(K$4:K$9<>"")*(L$4:L$9<>"")*(K$4:K$9=L$4:L$9),(N$4:N$9=AI6)*(K$4:K$9<>"")*(L$4:L$9<>"")*(K$4:K$9=L$4:L$9))} -> 1 | AN6: {=SUM((I$4:I$9=AI6)*(L$4:L$9<>"")*(K$4:K$9<>"")*(K$4:K$9<L$4:L$9),(K$4:K$9<>"")*(N$4:N$9=AI6)*(L$4:L$9<>"")*(K$4:K$9>L$4:L$9))} -> 0 | AO6: {=SUMIFS($K$4:$K$9,$I$4:$I$9,AI6,$K$4:$K$9,"<>",$L$4:$L$9,"<>")+SUMIFS($L$4:$L$9,$N$4:$N$9,AI6,$K$4:$K$9,"<>",$L$4:$L$9,"<>")} -> 8 | AP6: {=SUMIFS($K$4:$K$9,$N$4:$N$9,AI6,$K$4:$K$9,"<>",$L$4:$L$9,"<>")+SUMIFS($L$4:$L$9,$I$4:$I$9,AI6,$K$4:$K$9,"<>",$L$4:$L$9,"<>")} -> 0 | AQ6: =AO6-AP6 -> 8 | AR6: =IF(AK6=0,-($AW$9*VLOOKUP(AI6,Tabla3[[NombreEquipo]:[Rank]],3,FALSE)),AJ6*$AW$4+AQ6*$AW$5+AO6*$AW$6+BA6-($AW$9*VLOOKUP(AI6,Tabla3[[NombreEquipo]:[Rank]],3,FALSE)/100)) -> 7.080811e+09 | AS6: =AH6 -> 1 | AU6: =IFERROR(AR6-VLOOKUP(AI6,$AB$6:$AC$9,2,0),AR6) -> 7.080811e+09 | AV6: MÁS GOLES General | AW6: =AW8*100 -> 100000 | AY6: =AI6 -> Brasil | AZ6: =COUNTIF(AJ6:AJ9,AJ6) -> 1 | BA6: =(BB6*$AW$8)+(BH6*$AW$7) -> 11000 | BB6: =RANK(BC6,BC6:BC9,1) -> 1 | BC6: =SUM(IF(AND(AJ6=AJ7,AQ6=AQ7,AO6=AO7),BE6,0),IF(AND(AJ6=AJ8,AQ6=AQ8,AO6=AO8),BF6,0),IF(AND(AJ6=AJ9,AQ6=AQ9,AO6=AO9),BG6,0)) -> 0 | BD6: 0 | BE6: {=SUMIFS($K$4:$K$9,$I$4:$I$9,$AY6,$K$4:$K$9,"<>",$L$4:$L$9,"<>",$N$4:$N$9,BE5)+SUMIFS($L$4:$L$9,$I$4:$I$9,BE5,$K$4:$K$9,"<>",$L$4:$L$9,"<>",$N$4:$N$9,$AY6)} -> 3 | BF6: {=SUMIFS($K$4:$K$9,$I$4:$I$9,$AY6,$K$4:$K$9,"<>",$L$4:$L$9,"<>",$N$4:$N$9,BF5)+SUMIFS($L$4:$L$9,$I$4:$I$9,BF5,$K$4:$K$9,"<>",$L$4:$L$9,"<>",$N$4:$N$9,$AY6)} -> 0 | BG6: {=SUMIFS($K$4:$K$9,$I$4:$I$9,$AY6,$K$4:$K$9,"<>",$L$4:$L$9,"<>",$N$4:$N$9,BG5)+SUMIFS($L$4:$L$9,$I$4:$I$9,BG5,$K$4:$K$9,"<>",$L$4:$L$9,"<>",$N$4:$N$9,$AY6)} -> 5 | BH6: =RANK(BI6,BI6:BI9,1) -> 1 | BI6: =SUM(IF(AND(AJ6=AJ7,AQ6=AQ7,AO6=AO7),BK6,0),IF(AND(AJ6=AJ8,AQ6=AQ8,AO6=AO8),BL6,0),IF(AND(AJ6=AJ9,AQ6=AQ9,AO6=AO9),BM6,0)) -> 0 | BJ6: 0 | BK6: =BE6-BD7 -> 3 | BL6: =BF6-BD8 -> 0 | BM6: =BG6-BD9 -> 5 | BN6: 1 | BO6: =RANK(BQ6,$BQ$6:$BQ$9) -> 1 | BP6: =A5 -> Brasil | BQ6: =IF(AK6=0,-($AW$9*VLOOKUP(AI6,Tabla3[[NombreEquipo]:[Rank]],3,FALSE)),AJ6*$AW$4+AQ6*$AW$5+AO6*$AW$6+BA6-($AW$9*VLOOKUP(AI6,Tabla3[[NombreEquipo]:[Rank]],3,FALSE)/100)) -> 7.080811e+09 | BR6: =VLOOKUP(Q6,$AH$6:$AI$9,2,0) -> Brasil | BS6: =VLOOKUP($BR6,$AI$6:$AR$9,10,FALSE) -> 7.080811e+09 | BU6: 1 | BV6: =VLOOKUP(BU6,$AH$6:$AI$9,2,0) -> Brasil | BW6: =VLOOKUP(BV6,$AI$6:$AR$9,2,FALSE) -> 7 | BX6: =IF(SUM($AK$6:$AK$9)=12,MIN(ABS(BS5-BS6),ABS(BS6-BS7)),100) -> 2.0605e+09 | BY6: =VLOOKUP($BV6,$AI$6:$AR$9,9,FALSE) -> 8 | BZ6: =VLOOKUP($BV6,$AI$6:$AR$9,7,FALSE) -> 8 | CA6: {=IF($CB$6=$CD$5,$DF$5:$DF$8,IF($CB$6=$CE$5,$DG$5:$DG$7,IF(OR($CB$6=$CF$5,$CB$6=$CG$5),$DH$5:$DH$6,$DL$5)))} -> 1 | CB6: =IFERROR(HLOOKUP(4,CD4:DA5,2,0),CK5) -> COM_8 | CC6: 1 | CD6: {=IF(AND($BW$6:$BW$9=$BW$6,$BX$6:$BX$9<90,$AQ$6:$AQ$9=$AQ$6,$BZ$6:$BZ$9=$BZ$6),1,0)} -> 0 | CE6: {=IF(AND($BW$6:$BW$8=$BW$6,$BX$6:$BX$8<90,$BW$6<>$BW$9),1,0)} -> 0 | CF6: {=IF(AND($BW$6:$BW$7=$BW$6,$BX$6:$BX$7<90,$BW$6<>$BW$8),1,0)} -> 0 | CG6: {=IF(AND($BW$6:$BW$7=$BW$6,$BX$6:$BX$7<90,$BW$6<>$BW$8),1,0)} -> 0 | CH6: {=IF(AND($BW$7:$BW$9=$BW$7,$BX$7:$BX$9<90,$BW$6<>$BW$7),1,0)} -> 0 | CI6: {=IF(AND($BW$6<>$BW$7,$BW$6<>$BW$9),1,0)} -> 1 | CJ6: {=IF(AND($BW$6<>$BW$7,$BW$6<>$BW$9),1,0)} -> 1 | CK6: {=IF(AND($BW$6<>$BW$7,$BW$6<>$BW$9),1,0)} -> 1 | CL6: {=IF(AND($BW$6:$BW$9=$BW$6,$BX$6:$BX$9<90,$BY$6:$BY$7=$BY$6,$BY$6<>$BY$8),1,0)} -> 0 | CM6: {=IF(AND($BW$6:$BW$9=$BW$6,$BX$6:$BX$9<90,$BY$6:$BY$9=$BY$6,$BZ$6=$BZ$7,$BZ$6<>$BZ$8),1,0)} -> 0 | CN6: {=IF(AND($BW$6:$BW$8=$BW$6,$BX$6:$BX$7<90,$BX$8>90),1,0)} -> 0 | CO6: {=IF(AND($BW$6<>$BW$7,$BW$6<>$BW$8),1,0)} -> 1 | CP6: {=IF(AND($BW$6<>$BW$7,$BW$6<>$BW$8),1,0)} -> 1 | CQ6: {=IF(AND($BW$6<>$BW$9,$BW$6:$BW$8=$BW$6,$BX$6>90,$BX$7:$BX$8<90),1,0)} -> 0 | CR6: {=IF(AND($BW$6:$BW$9=$BW$6,$BX$7:$BX$9<90,$BX$6<>$BX$7),1,0)} -> 0 | CS6: {=IF(AND($BW$6:$BW$9=$BW$6,$BX$6:$BX$8<90,$BX$6<>$BX$9),1,0)} -> 0 | CT6: {=IF(AND($BW$6:$BW$9=$BW$6,$BX$6:$BX$7>90,$BX$8:$BX$9<90,$BY$6:$BY$9=$BY$6,$BZ$6>$BZ$7,$BZ$6>$BZ$8,$BZ$6>$BZ$9),1,0)} -> 0 | CU6: {=IF(AND($BW$6:$BW$9=$BW$6,$BX$6>90,$BX$7:$BX$8<90,$BX$9>90,$BY$6:$BY$9=$BY$6,$BZ$6>$BZ$7,$BZ$6>$BZ$8,$BZ$6>$BZ$9),1,0)} -> 0 | CV6: {=IF(AND($BW$6:$BW$9=$BW$6,$BX$6:$BX$7<90,$BX$8:$BX$9>90,$BY$6:$BY$9=$BY$6,$BZ$6=$BZ$7,$BZ$6>$BZ$8,$BZ$6>$BZ$9),1,0)} -> 0 | CW6: {=IF(AND($BW$6:$BW$9=$BW$6,$BX$6:$BX$7>90,$BX$8:$BX$9<90,$BY$6:$BY$9=$BY$6,$BZ$6>$BZ$7,$BZ$7:$BZ$9=$BZ$7),1,0)} -> 0 | CX6: {=IF(AND($BW$6:$BW$9=$BW$6,$BX$6:$BX$7<90,$BX$8:$BX$9>90,$BY$6:$BY$9=$BY$6,$BZ$6:$BZ$8=$BZ$6,$BZ$6>$BZ$9),1,0)} -> 0 | CY6: {=IF(AND($BW$6:$BW$9=$BW$6,$BX$6>90,$BX$9>90,$BX$7:$BX$8<90,$BY$6:$BY$9=$BY$6,$BZ$6>$BZ$7:$BZ$9),1,0)} -> 0 | DF6: 2 | DG6: 2 | DH6: 2 | DI6: 3 | DJ6: 4 | DK6: 3
A7: {=IF(ROWS(A$5:A7)<=$C$4,INDEX(INDIRECT(A$4),SMALL(IF(Nivell=$B$4,ROW(Nivell)-ROW(Equipos!$C$2)+1),ROWS(B$4:B6))),"")} -> Venezuela | F7: 43634 | G7: =BV42+VLOOKUP($G$2,$BO$39:$BS$51,4,0)*VLOOKUP($G$2,$BO$39:$BS$51,5,0) -> 43634.771 | H7: J2 | I7: =A6 -> Bolivia | K7: 1 | L7: 3 | N7: =A8 -> Perú | O7: =IF(NOT(OR(ISBLANK(K7),ISBLANK(L7))),1,0) -> 1 | Q7: 2 | R7: =VLOOKUP(Q7,$AG$6:$AI$9,3,0) -> Venezuela | S7: =VLOOKUP(R7,$AI$6:$AR$9,2,FALSE) -> 5 | T7: =VLOOKUP($R7,$AI$6:$AR$9,3,FALSE) -> 3 | U7: =VLOOKUP($R7,$AI$6:$AR$9,4,FALSE) -> 1 | V7: =VLOOKUP($R7,$AI$6:$AR$9,5,FALSE) -> 2 | W7: =VLOOKUP($R7,$AI$6:$AR$9,6,FALSE) -> 0 | X7: =VLOOKUP($R7,$AI$6:$AR$9,7,FALSE) -> 3 | Y7: =VLOOKUP($R7,$AI$6:$AR$9,8,FALSE) -> 1 | Z7: =VLOOKUP($R7,$AI$6:$AR$9,9,FALSE) -> 2 | AA7: =IF(SUM($AK$6:$AK$9)=12,MIN(ABS(BS6-BS7),ABS(BS7-BS8)),100) -> 1.05e+09 | AB7: =IF(AND(AA7>=0,AA7<90),VLOOKUP(Q7,$BO$6:$BP$9,2,0),"") | AF7: =VLOOKUP($R7,$AI$6:$AR$9,10,FALSE) -> 5.020311e+09 | AG7: =RANK(AU7,$AU$6:$AU$9) -> 4 | AH7: =RANK(AR7,$AR$6:$AR$9) -> 4 | AI7: =A6 -> Bolivia | AJ7: =AL7*3+AM7*1+AN7*0 -> 0 | AK7: =COUNTIFS($I$4:$I$9,AI7,$K$4:$K$9,"<>",$L$4:$L$9,"<>")+COUNTIFS($N$4:$N$9,AI7,$L$4:$L$9,"<>",$K$4:$K$9,"<>") -> 3 | AL7: {=SUM((I$4:I$9=AI7)*(K$4:K$9<>"")*(L$4:L$9<>"")*(K$4:K$9>L$4:L$9),(N$4:N$9=AI7)*(K$4:K$9<>"")*(L$4:L$9<>"")*(K$4:K$9<L$4:L$9))} -> 0 | AM7: {=SUM((I$4:I$9=AI7)*(K$4:K$9<>"")*(L$4:L$9<>"")*(K$4:K$9=L$4:L$9),(N$4:N$9=AI7)*(K$4:K$9<>"")*(L$4:L$9<>"")*(K$4:K$9=L$4:L$9))} -> 0 | AN7: {=SUM((I$4:I$9=AI7)*(L$4:L$9<>"")*(K$4:K$9<>"")*(K$4:K$9<L$4:L$9),(K$4:K$9<>"")*(N$4:N$9=AI7)*(L$4:L$9<>"")*(K$4:K$9>L$4:L$9))} -> 3 | AO7: {=SUMIFS($K$4:$K$9,$I$4:$I$9,AI7,$K$4:$K$9,"<>",$L$4:$L$9,"<>")+SUMIFS($L$4:$L$9,$N$4:$N$9,AI7,$K$4:$K$9,"<>",$L$4:$L$9,"<>")} -> 2 | AP7: {=SUMIFS($K$4:$K$9,$N$4:$N$9,AI7,$K$4:$K$9,"<>",$L$4:$L$9,"<>")+SUMIFS($L$4:$L$9,$I$4:$I$9,AI7,$K$4:$K$9,"<>",$L$4:$L$9,"<>")} -> 9 | AQ7: =AO7-AP7 -> -7 | AR7: =IF(AK7=0,-($AW$9*VLOOKUP(AI7,Tabla3[[NombreEquipo]:[Rank]],3,FALSE)),AJ7*$AW$4+AQ7*$AW$5+AO7*$AW$6+BA7-($AW$9*VLOOKUP(AI7,Tabla3[[NombreEquipo]:[Rank]],3,FALSE)/100)) -> -69789000 | AS7: =AH7 -> 4 | AU7: =IFERROR(AR7-VLOOKUP(AI7,$AB$6:$AC$9,2,0),AR7) -> -69789000 | AV7: MÁS DIF GOLES X | AW7: =AW8*10 -> 10000 | AY7: =AI7 -> Bolivia | AZ7: =COUNTIF(AJ6:AJ9,AJ7) -> 1 | BA7: =(BB7*$AW$8)+(BH7*$AW$7) -> 11000 | BB7: =RANK(BC7,BC6:BC9,1) -> 1 | BC7: =SUM(IF(AND(AJ7=AJ8,AQ7=AQ8,AO7=AO8),BF7,0),IF(AND(AJ7=AJ9,AQ7=AQ9,AO7=AO9),BG7,0),IF(AND(AJ7=AJ6,AQ7=AQ6,AO7=AO6),BD7,0)) -> 0 | BD7: {=SUMIFS($K$4:$K$9,$I$4:$I$9,$AY7,$K$4:$K$9,"<>",$L$4:$L$9,"<>",$N$4:$N$9,BD5)+SUMIFS($L$4:$L$9,$I$4:$I$9,BD5,$K$4:$K$9,"<>",$L$4:$L$9,"<>",$N$4:$N$9,$AY7)} -> 0 | BE7: 0 | BF7: {=SUMIFS($K$4:$K$9,$I$4:$I$9,$AY7,$K$4:$K$9,"<>",$L$4:$L$9,"<>",$N$4:$N$9,BF5)+SUMIFS($L$4:$L$9,$I$4:$I$9,BF5,$K$4:$K$9,"<>",$L$4:$L$9,"<>",$N$4:$N$9,$AY7)} -> 1 | BG7: {=SUMIFS($K$4:$K$9,$I$4:$I$9,$AY7,$K$4:$K$9,"<>",$L$4:$L$9,"<>",$N$4:$N$9,BG5)+SUMIFS($L$4:$L$9,$I$4:$I$9,BG5,$K$4:$K$9,"<>",$L$4:$L$9,"<>",$N$4:$N$9,$AY7)} -> 1 | BH7: =RANK(BI7,BI6:BI9,1) -> 1 | BI7: =SUM(IF(AND(AJ7=AJ8,AQ7=AQ8,AO7=AO8),BL7,0),IF(AND(AJ7=AJ9,AQ7=AQ9,AO7=AO9),BM7,0),IF(AND(AJ7=AJ6,AQ7=AQ6,AO7=AO6),BJ7,0)) -> 0 | BJ7: =BD7-BE6 -> -3 | BK7: 0 | BL7: =BF7-BE8 -> -2 | BM7: =BG7-BE9 -> -2 | BN7: 2 | BO7: =RANK(BQ7,$BQ$6:$BQ$9) -> 4 | BP7: =A6 -> Bolivia | BQ7: =IF(AK7=0,-($AW$9*VLOOKUP(AI7,Tabla3[[NombreEquipo]:[Rank]],3,FALSE)),AJ7*$AW$4+AQ7*$AW$5+AO7*$AW$6+BA7-($AW$9*VLOOKUP(AI7,Tabla3[[NombreEquipo]:[Rank]],3,FALSE)/100)) -> -69789000 | BR7: =VLOOKUP(Q7,$AH$6:$AI$9,2,0) -> Venezuela | BS7: =VLOOKUP($BR7,$AI$6:$AR$9,10,FALSE) -> 5.020311e+09 | BU7: 2 | BV7: =VLOOKUP(BU7,$AH$6:$AI$9,2,0) -> Venezuela | BW7: =VLOOKUP(BV7,$AI$6:$AR$9,2,FALSE) -> 5 | BX7: =IF(SUM($AK$6:$AK$9)=12,MIN(ABS(BS6-BS7),ABS(BS7-BS8)),100) -> 1.05e+09 | BY7: =VLOOKUP($BV7,$AI$6:$AR$9,9,FALSE) -> 2 | BZ7: =VLOOKUP($BV7,$AI$6:$AR$9,7,FALSE) -> 3 | CA7: {=IF($CB$6=$CD$5,$DF$5:$DF$8,IF($CB$6=$CE$5,$DG$5:$DG$7,IF(OR($CB$6=$CF$5,$CB$6=$CG$5),$DH$5:$DH$6,IF($CB$6=$CH$5,$DI$5:$DI$7,(IF($CB$6=$CI$5,$DK$5:$DK$6,$DM$5))))))} -> 2 | CC7: 2 | CD7: {=IF(AND($BW$6:$BW$9=$BW$7,$BX$6:$BX$9<90,$AQ$6:$AQ$9=$AQ$7,$BZ$6:$BZ$9=$BZ$7),1,0)} -> 0 | CE7: {=IF(AND($BW$6:$BW$8=$BW$7,$BX$6:$BX$8<90,$BW$7<>$BW$9),1,0)} -> 0 | CF7: {=IF(AND($BW$6:$BW$7=$BW$6,$BX$6:$BX$7<90,$BW$6<>$BW$8),1,0)} -> 0 | CG7: {=IF(AND($BW$6:$BW$7=$BW$6,$BX$6:$BX$7<90,$BW$6<>$BW$8),1,0)} -> 0 | CH7: {=IF(AND($BW$7:$BW$9=$BW$7,$BX$7:$BX$9<90,$BW$6<>$BW$7),1,0)} -> 0 | CI7: {=IF(AND($BW$7:$BW$8=$BW$7,$BX$7:$BX$8<90,$BW$7<>$BW$6,$BW$7<>$BW$9),1,0)} -> 0 | CJ7: {=IF(AND($BW$7<>$BW$6,$BW$7<>$BW$8),1,0)} -> 1 | CK7: {=IF(AND($BW$7<>$BW$6,$BW$7<>$BW$8),1,0)} -> 1 | CL7: {=IF(AND($BW$6:$BW$9=$BW$6,$BX$6:$BX$9<90,$BY$6:$BY$7=$BY$6,$BY$7<>$BY$8),1,0)} -> 0 | CM7: {=IF(AND($BW$6:$BW$9=$BW$6,$BX$6:$BX$9<90,$BY$6:$BY$9=$BY$6,$BZ$6=$BZ$7,$BZ$7<>$BZ$8),1,0)} -> 0 | CN7: {=IF(AND($BW$6:$BW$8=$BW$7,$BX$6:$BX$7<90,$BX$8>90),1,0)} -> 0 | CO7: {=IF(AND($BW$7<>$BW$6,$BW$7:$BW$9=$BW$7,$BX$7>90,$BX$8:$BX$9<90),1,0)} -> 0 | CP7: {=IF(AND($BW$7<>$BW$6,$BW$7:$BW$9=$BW$7,$BX$9>90,$BX$7:$BX$8<90),1,0)} -> 0 | CQ7: {=IF(AND($BW$7<>$BW$9,$BW$6:$BW$8=$BW$7,$BX$6>90,$BX$7:$BX$8<90),1,0)} -> 0 | CR7: {=IF(AND($BW$6:$BW$9=$BW$7,$BX$7:$BX$9<90,$BX$6<>$BX$7),1,0)} -> 0 | CS7: {=IF(AND($BW$6:$BW$9=$BW$7,$BX$6:$BX$8<90,$BX$7<>$BX$9),1,0)} -> 0 | CT7: {=IF(AND($BW$6:$BW$9=$BW$7,$BX$6:$BX$7>90,$BX$8:$BX$9<90,$BY$6:$BY$9=$BY$7,$BZ$6>$BZ$7,$BZ$7>$BZ$8,$BZ$7>$BZ$9),1,0)} -> 0 | CU7: {=IF(AND($BW$6:$BW$9=$BW$7,$BX$6>90,$BX$7:$BX$8<90,$BX$9>90,$BY$6:$BY$9=$BY$7,$BZ$6>$BZ$7,$BZ$7=$BZ$8,$BZ$7>$BZ$9),1,0)} -> 0 | CV7: {=IF(AND($BW$6:$BW$9=$BW$7,$BX$6:$BX$7<90,$BX$8:$BX$9>90,$BY$6:$BY$9=$BY$7,$BZ$6=$BZ$7,$BZ$7>$BZ$8,$BZ$7>$BZ$9),1,0)} -> 0 | CW7: {=IF(AND($BW$6:$BW$9=$BW$7,$BX$6:$BX$7>90,$BX$8:$BX$9<90,$BY$6:$BY$9=$BY$7,$BZ$6>$BZ$7,$BZ$7:$BZ$9=$BZ$7),1,0)} -> 0 | CX7: {=IF(AND($BW$6:$BW$9=$BW$7,$BX$6:$BX$7<90,$BX$8:$BX$9>90,$BY$6:$BY$9=$BY$7,$BZ$6:$BZ$8=$BZ$7,$BZ$7>$BZ$9),1,0)} -> 0 | CY7: {=IF(AND($BW$6:$BW$9=$BW$7,$BX$6>90,$BX$9>90,$BX$7:$BX$8<90,$BY$6:$BY$9=$BY$7,$BZ$6>$BZ$7:$BZ$9,$BZ$7:$BZ$9=$BZ$7),1,0)} -> 0 | DF7: 3 | DG7: 3 | DI7: 4
A8: {=IF(ROWS(A$5:A8)<=$C$4,INDEX(INDIRECT(A$4),SMALL(IF(Nivell=$B$4,ROW(Nivell)-ROW(Equipos!$C$2)+1),ROWS(B$4:B7))),"")} -> Perú | F8: 43638 | G8: =BV43+VLOOKUP($G$2,$BO$39:$BS$51,4,0)*VLOOKUP($G$2,$BO$39:$BS$51,5,0) -> 43638.667 | H8: J3 | I8: =A8 -> Perú | K8: 0 | L8: 5 | N8: =A5 -> Brasil | O8: =IF(NOT(OR(ISBLANK(K8),ISBLANK(L8))),1,0) -> 1 | Q8: 3 | R8: =VLOOKUP(Q8,$AG$6:$AI$9,3,0) -> Perú | S8: =VLOOKUP(R8,$AI$6:$AR$9,2,FALSE) -> 4 | T8: =VLOOKUP($R8,$AI$6:$AR$9,3,FALSE) -> 3 | U8: =VLOOKUP($R8,$AI$6:$AR$9,4,FALSE) -> 1 | V8: =VLOOKUP($R8,$AI$6:$AR$9,5,FALSE) -> 1 | W8: =VLOOKUP($R8,$AI$6:$AR$9,6,FALSE) -> 1 | X8: =VLOOKUP($R8,$AI$6:$AR$9,7,FALSE) -> 3 | Y8: =VLOOKUP($R8,$AI$6:$AR$9,8,FALSE) -> 6 | Z8: =VLOOKUP($R8,$AI$6:$AR$9,9,FALSE) -> -3 | AA8: =IF(SUM($AK$6:$AK$9)=12,MIN(ABS(BS7-BS8),ABS(BS8-BS9)),100) -> 1.05e+09 | AB8: =IF(AND(AA8>=0,AA8<90),VLOOKUP(Q8,$BO$6:$BP$9,2,0),"") | AF8: =VLOOKUP($R8,$AI$6:$AR$9,10,FALSE) -> 3.970311e+09 | AG8: =RANK(AU8,$AU$6:$AU$9) -> 2 | AH8: =RANK(AR8,$AR$6:$AR$9) -> 2 | AI8: =A7 -> Venezuela | AJ8: =AL8*3+AM8*1+AN8*0 -> 5 | AK8: =COUNTIFS($I$4:$I$9,AI8,$K$4:$K$9,"<>",$L$4:$L$9,"<>")+COUNTIFS($N$4:$N$9,AI8,$L$4:$L$9,"<>",$K$4:$K$9,"<>") -> 3 | AL8: {=SUM((I$4:I$9=AI8)*(K$4:K$9<>"")*(L$4:L$9<>"")*(K$4:K$9>L$4:L$9),(N$4:N$9=AI8)*(K$4:K$9<>"")*(L$4:L$9<>"")*(K$4:K$9<L$4:L$9))} -> 1 | AM8: {=SUM((I$4:I$9=AI8)*(K$4:K$9<>"")*(L$4:L$9<>"")*(K$4:K$9=L$4:L$9),(N$4:N$9=AI8)*(K$4:K$9<>"")*(L$4:L$9<>"")*(K$4:K$9=L$4:L$9))} -> 2 | AN8: {=SUM((I$4:I$9=AI8)*(L$4:L$9<>"")*(K$4:K$9<>"")*(K$4:K$9<L$4:L$9),(K$4:K$9<>"")*(N$4:N$9=AI8)*(L$4:L$9<>"")*(K$4:K$9>L$4:L$9))} -> 0 | AO8: {=SUMIFS($K$4:$K$9,$I$4:$I$9,AI8,$K$4:$K$9,"<>",$L$4:$L$9,"<>")+SUMIFS($L$4:$L$9,$N$4:$N$9,AI8,$K$4:$K$9,"<>",$L$4:$L$9,"<>")} -> 3 | AP8: {=SUMIFS($K$4:$K$9,$N$4:$N$9,AI8,$K$4:$K$9,"<>",$L$4:$L$9,"<>")+SUMIFS($L$4:$L$9,$I$4:$I$9,AI8,$K$4:$K$9,"<>",$L$4:$L$9,"<>")} -> 1 | AQ8: =AO8-AP8 -> 2 | AR8: =IF(AK8=0,-($AW$9*VLOOKUP(AI8,Tabla3[[NombreEquipo]:[Rank]],3,FALSE)),AJ8*$AW$4+AQ8*$AW$5+AO8*$AW$6+BA8-($AW$9*VLOOKUP(AI8,Tabla3[[NombreEquipo]:[Rank]],3,FALSE)/100)) -> 5.020311e+09 | AS8: =AH8 -> 2 | AU8: =IFERROR(AR8-VLOOKUP(AI8,$AB$6:$AC$9,2,0),AR8) -> 5.020311e+09 | AV8: MÁS GOLES X | AW8: =AW9*1000 -> 1000 | AY8: =AI8 -> Venezuela | AZ8: =COUNTIF(AJ6:AJ9,AJ8) -> 1 | BA8: =(BB8*$AW$8)+(BH8*$AW$7) -> 11000 | BB8: =RANK(BC8,BC6:BC9,1) -> 1 | BC8: =SUM(IF(AND(AJ8=AJ9,AQ8=AQ9,AO8=AO9),BG8,0),IF(AND(AJ8=AJ6,AQ8=AQ6,AO8=AO6),BD8,0),IF(AND(AJ8=AJ7,AQ8=AQ7,AO8=AO7),BE8,0)) -> 0 | BD8: {=SUMIFS($K$4:$K$9,$I$4:$I$9,$AY8,$K$4:$K$9,"<>",$L$4:$L$9,"<>",$N$4:$N$9,BD5)+SUMIFS($L$4:$L$9,$I$4:$I$9,BD5,$K$4:$K$9,"<>",$L$4:$L$9,"<>",$N$4:$N$9,$AY8)} -> 0 | BE8: {=SUMIFS($K$4:$K$9,$I$4:$I$9,$AY8,$K$4:$K$9,"<>",$L$4:$L$9,"<>",$N$4:$N$9,BE5)+SUMIFS($L$4:$L$9,$I$4:$I$9,BE5,$K$4:$K$9,"<>",$L$4:$L$9,"<>",$N$4:$N$9,$AY8)} -> 3 | BF8: 0 | BG8: {=SUMIFS($K$4:$K$9,$I$4:$I$9,$AY8,$K$4:$K$9,"<>",$L$4:$L$9,"<>",$N$4:$N$9,BG5)+SUMIFS($L$4:$L$9,$I$4:$I$9,BG5,$K$4:$K$9,"<>",$L$4:$L$9,"<>",$N$4:$N$9,$AY8)} -> 0 | BH8: =RANK(BI8,BI6:BI9,1) -> 1 | BI8: =SUM(IF(AND(AJ8=AJ9,AQ8=AQ9,AO8=AO9),BM8,0),IF(AND(AJ8=AJ6,AQ8=AQ6,AO8=AO6),BJ8,0),IF(AND(AJ8=AJ7,AQ8=AQ7,AO8=AO7),BK8,0)) -> 0 | BJ8: =BD8-BF6 -> 0 | BK8: =BE8-BF7 -> 2 | BL8: 0 | BM8: =BG8-BF9 -> 0 | BN8: 3 | BO8: =RANK(BQ8,$BQ$6:$BQ$9) -> 2 | BP8: =A7 -> Venezuela | BQ8: =IF(AK8=0,-($AW$9*VLOOKUP(AI8,Tabla3[[NombreEquipo]:[Rank]],3,FALSE)),AJ8*$AW$4+AQ8*$AW$5+AO8*$AW$6+BA8-($AW$9*VLOOKUP(AI8,Tabla3[[NombreEquipo]:[Rank]],3,FALSE)/100)) -> 5.020311e+09 | BR8: =VLOOKUP(Q8,$AH$6:$AI$9,2,0) -> Perú | BS8: =VLOOKUP($BR8,$AI$6:$AR$9,10,FALSE) -> 3.970311e+09 | BU8: 3 | BV8: =VLOOKUP(BU8,$AH$6:$AI$9,2,0) -> Perú | BW8: =VLOOKUP(BV8,$AI$6:$AR$9,2,FALSE) -> 4 | BX8: =IF(SUM($AK$6:$AK$9)=12,MIN(ABS(BS7-BS8),ABS(BS8-BS9)),100) -> 1.05e+09 | BY8: =VLOOKUP($BV8,$AI$6:$AR$9,9,FALSE) -> -3 | BZ8: =VLOOKUP($BV8,$AI$6:$AR$9,7,FALSE) -> 3 | CA8: {=IF($CB$6=$CD$5,$DF$5:$DF$8,IF($CB$6=$CE$5,$DG$5:$DG$7,IF(OR($CB$6=$CF$5,$CB$6=$CJ$5),$DJ$5:$DJ$6,IF($CB$6=$CH$5,$DI$5:$DI$7,(IF($CB$6=$CI$5,$DK$5:$DK$6,$DN$5))))))} -> 3 | CC8: 3 | CD8: {=IF(AND($BW$6:$BW$9=$BW$8,$BX$6:$BX$9<90,$AQ$6:$AQ$9=$AQ$8,$BZ$6:$BZ$9=$BZ$8),1,0)} -> 0 | CE8: {=IF(AND($BW$6:$BW$8=$BW$8,$BX$6:$BX$8<90,$BW$8<>$BW$9),1,0)} -> 0 | CF8: {=IF(AND($BW$8:$BW$9=$BW$8,$BX$8:$BX$9<90,$BW$8<>$BW$7),1,0)} -> 0 | CG8: {=IF(OR(AND($BW$8<>$BW$7,$BW$8<>$BW$9),AND($BW$8<>$BW$7,$BW$8=$BW$9,$BX$8>90,$BX$9>90)),1,0)} -> 1 | CH8: {=IF(AND($BW$7:$BW$9=$BW$7,$BX$7:$BX$9<90,$BW$6<>$BW$8),1,0)} -> 0 | CI8: {=IF(AND($BW$7:$BW$8=$BW$8,$BX$7:$BX$8<90,$BW$8<>$BW$6,$BW$8<>$BW$9),1,0)} -> 0 | CJ8: {=IF(AND($BW$8:$BW$9=$BW$8,$BX$8:$BX$9<90,$BW$8<>$BW$7),1,0)} -> 0 | CK8: {=IF(AND($BW$8<>$BW$7,$BW$8<>$BW$9),1,0)} -> 1 | CL8: {=IF(AND($BW$6:$BW$9=$BW$6,$BX$6:$BX$9<90,$BY$8:$BY$9=$BY$8,$BY$7<>$BY$8),1,0)} -> 0 | CM8: {=IF(AND($BW$6:$BW$9=$BW$6,$BX$6:$BX$9<90,$BY$6:$BY$9=$BY$6,$BZ$8=$BZ$9,$BZ$7<>$BZ$8),1,0)} -> 0 | CN8: {=IF(AND($BW$6:$BW$8=$BW$8,$BX$6:$BX$7<90,$BX$8>90),1,0)} -> 0 | CO8: {=IF(AND($BW$7<>$BW$6,$BW$7:$BW$9=$BW$8,$BX$7>90,$BX$8:$BX$9<90),1,0)} -> 0 | CP8: {=IF(AND($BW$7<>$BW$6,$BW$7:$BW$9=$BW$7,$BX$9>90,$BX$7:$BX$8<90),1,0)} -> 0 | CQ8: {=IF(AND($BW$8<>$BW$9,$BW$6:$BW$8=$BW$8,$BX$6>90,$BX$7:$BX$8<90),1,0)} -> 0 | CR8: {=IF(AND($BW$6:$BW$9=$BW$7,$BX$7:$BX$9<90,$BX$6<>$BX$8),1,0)} -> 0 | CS8: {=IF(AND($BW$6:$BW$9=$BW$8,$BX$6:$BX$8<90,$BX$8<>$BX$9),1,0)} -> 0 | CT8: {=IF(AND($BW$6:$BW$9=$BW$8,$BX$6:$BX$7>90,$BX$8:$BX$9<90,$BY$6:$BY$9=$BY$8,$BZ$6>$BZ$7,$BZ$7>$BZ$8,$BZ$8=$BZ$9),1,0)} -> 0 | CU8: {=IF(AND($BW$6:$BW$9=$BW$8,$BX$6>90,$BX$7:$BX$8<90,$BX$9>90,$BY$6:$BY$9=$BY$8,$BZ$6>$BZ$7,$BZ$7=$BZ$8,$BZ$8>$BZ$9),1,0)} -> 0 | CV8: {=IF(AND($BW$6:$BW$9=$BW$8,$BX$6:$BX$7<90,$BX$8:$BX$9>90,$BY$6:$BY$9=$BY$8,$BZ$6=$BZ$7,$BZ$7>$BZ$8,$BZ$8>$BZ$9),1,0)} -> 0 | CW8: {=IF(AND($BW$6:$BW$9=$BW$8,$BX$6:$BX$7>90,$BX$8:$BX$9<90,$BY$6:$BY$9=$BY$7,$BZ$6>$BZ$8,$BZ$7:$BZ$9=$BZ$8),1,0)} -> 0 | CX8: {=IF(AND($BW$6:$BW$9=$BW$8,$BX$6:$BX$7<90,$BX$8:$BX$9>90,$BY$6:$BY$9=$BY$8,$BZ$6:$BZ$8=$BZ$8,$BZ$8>$BZ$9),1,0)} -> 0 | CY8: {=IF(AND($BW$6:$BW$9=$BW$8,$BX$6>90,$BX$9>90,$BX$7:$BX$8<90,$BY$6:$BY$9=$BY$8,$BZ$6>$BZ$7:$BZ$9,$BZ$7:$BZ$9=$BZ$8),1,0)} -> 0 | DF8: 4
F9: 43638 | G9: =BV44+VLOOKUP($G$2,$BO$39:$BS$51,4,0)*VLOOKUP($G$2,$BO$39:$BS$51,5,0) -> 43638.667 | H9: J3 | I9: =A6 -> Bolivia | K9: 1 | L9: 3 | N9: =A7 -> Venezuela | O9: =IF(NOT(OR(ISBLANK(K9),ISBLANK(L9))),1,0) -> 1 | Q9: 4 | R9: =VLOOKUP(Q9,$AG$6:$AI$9,3,0) -> Bolivia | S9: =VLOOKUP(R9,$AI$6:$AR$9,2,FALSE) -> 0 | T9: =VLOOKUP($R9,$AI$6:$AR$9,3,FALSE) -> 3 | U9: =VLOOKUP($R9,$AI$6:$AR$9,4,FALSE) -> 0 | V9: =VLOOKUP($R9,$AI$6:$AR$9,5,FALSE) -> 0 | W9: =VLOOKUP($R9,$AI$6:$AR$9,6,FALSE) -> 3 | X9: =VLOOKUP($R9,$AI$6:$AR$9,7,FALSE) -> 2 | Y9: =VLOOKUP($R9,$AI$6:$AR$9,8,FALSE) -> 9 | Z9: =VLOOKUP($R9,$AI$6:$AR$9,9,FALSE) -> -7 | AA9: =IF(SUM($AK$6:$AK$9)=12,MIN(ABS(BS8-BS9),ABS(BS9-BS10)),100) -> 69789000 | AB9: =IF(AND(AA9>=0,AA9<90),VLOOKUP(Q9,$BO$6:$BP$9,2,0),"") | AF9: =VLOOKUP($R9,$AI$6:$AR$9,10,FALSE) -> -69789000 | AG9: =RANK(AU9,$AU$6:$AU$9) -> 3 | AH9: =RANK(AR9,$AR$6:$AR$9) -> 3 | AI9: =A8 -> Perú | AJ9: =AL9*3+AM9*1+AN9*0 -> 4 | AK9: =COUNTIFS($I$4:$I$9,AI9,$K$4:$K$9,"<>",$L$4:$L$9,"<>")+COUNTIFS($N$4:$N$9,AI9,$L$4:$L$9,"<>",$K$4:$K$9,"<>") -> 3 | AL9: {=SUM((I$4:I$9=AI9)*(K$4:K$9<>"")*(L$4:L$9<>"")*(K$4:K$9>L$4:L$9),(N$4:N$9=AI9)*(K$4:K$9<>"")*(L$4:L$9<>"")*(K$4:K$9<L$4:L$9))} -> 1 | AM9: {=SUM((I$4:I$9=AI9)*(K$4:K$9<>"")*(L$4:L$9<>"")*(K$4:K$9=L$4:L$9),(N$4:N$9=AI9)*(K$4:K$9<>"")*(L$4:L$9<>"")*(K$4:K$9=L$4:L$9))} -> 1 | AN9: {=SUM((I$4:I$9=AI9)*(L$4:L$9<>"")*(K$4:K$9<>"")*(K$4:K$9<L$4:L$9),(K$4:K$9<>"")*(N$4:N$9=AI9)*(L$4:L$9<>"")*(K$4:K$9>L$4:L$9))} -> 1 | AO9: {=SUMIFS($K$4:$K$9,$I$4:$I$9,AI9,$K$4:$K$9,"<>",$L$4:$L$9,"<>")+SUMIFS($L$4:$L$9,$N$4:$N$9,AI9,$K$4:$K$9,"<>",$L$4:$L$9,"<>")} -> 3 | AP9: {=SUMIFS($K$4:$K$9,$N$4:$N$9,AI9,$K$4:$K$9,"<>",$L$4:$L$9,"<>")+SUMIFS($L$4:$L$9,$I$4:$I$9,AI9,$K$4:$K$9,"<>",$L$4:$L$9,"<>")} -> 6 | AQ9: =AO9-AP9 -> -3 | AR9: =IF(AK9=0,-($AW$9*VLOOKUP(AI9,Tabla3[[NombreEquipo]:[Rank]],3,FALSE)),AJ9*$AW$4+AQ9*$AW$5+AO9*$AW$6+BA9-($AW$9*VLOOKUP(AI9,Tabla3[[NombreEquipo]:[Rank]],3,FALSE)/100)) -> 3.970311e+09 | AS9: =AH9 -> 3 | AU9: =IFERROR(AR9-VLOOKUP(AI9,$AB$6:$AC$9,2,0),AR9) -> 3.970311e+09 | AV9: BOMBO | AW9: 1 | AY9: =AI9 -> Perú | AZ9: =COUNTIF(AJ6:AJ9,AJ9) -> 1 | BA9: =(BB9*$AW$8)+(BH9*$AW$7) -> 11000 | BB9: =RANK(BC9,BC6:BC9,1) -> 1 | BC9: =SUM(IF(AND(AJ9=AJ6,AQ9=AQ6,AO9=AO6),BD9,0),IF(AND(AJ9=AJ7,AQ9=AQ7,AO9=AO7),BE9,0),IF(AND(AJ9=AJ8,AQ9=AQ8,AO9=AO8),BF9,0)) -> 0 | BD9: {=SUMIFS($K$4:$K$9,$I$4:$I$9,$AY9,$K$4:$K$9,"<>",$L$4:$L$9,"<>",$N$4:$N$9,BD5)+SUMIFS($L$4:$L$9,$I$4:$I$9,BD5,$K$4:$K$9,"<>",$L$4:$L$9,"<>",$N$4:$N$9,$AY9)} -> 0 | BE9: {=SUMIFS($K$4:$K$9,$I$4:$I$9,$AY9,$K$4:$K$9,"<>",$L$4:$L$9,"<>",$N$4:$N$9,BE5)+SUMIFS($L$4:$L$9,$I$4:$I$9,BE5,$K$4:$K$9,"<>",$L$4:$L$9,"<>",$N$4:$N$9,$AY9)} -> 3 | BF9: {=SUMIFS($K$4:$K$9,$I$4:$I$9,$AY9,$K$4:$K$9,"<>",$L$4:$L$9,"<>",$N$4:$N$9,BF5)+SUMIFS($L$4:$L$9,$I$4:$I$9,BF5,$K$4:$K$9,"<>",$L$4:$L$9,"<>",$N$4:$N$9,$AY9)} -> 0 | BG9: 0 | BH9: =RANK(BI9,BI6:BI9,1) -> 1 | BI9: =SUM(IF(AND(AJ9=AJ6,AQ9=AQ6,AO9=AO6),BJ9,0),IF(AND(AJ9=AJ7,AQ9=AQ7,AO9=AO7),BK9,0),IF(AND(AJ9=AJ8,AQ9=AQ8,AO9=AO8),BL9,0)) -> 0 | BJ9: =BD9-BG6 -> -5 | BK9: =BE9-BG7 -> 2 | BL9: =BF9-BG8 -> 0 | BM9: 0 | BN9: 4 | BO9: =RANK(BQ9,$BQ$6:$BQ$9) -> 3 | BP9: =A8 -> Perú | BQ9: =IF(AK9=0,-($AW$9*VLOOKUP(AI9,Tabla3[[NombreEquipo]:[Rank]],3,FALSE)),AJ9*$AW$4+AQ9*$AW$5+AO9*$AW$6+BA9-($AW$9*VLOOKUP(AI9,Tabla3[[NombreEquipo]:[Rank]],3,FALSE)/100)) -> 3.970311e+09 | BR9: =VLOOKUP(Q9,$AH$6:$AI$9,2,0) -> Bolivia | BS9: =VLOOKUP($BR9,$AI$6:$AR$9,10,FALSE) -> -69789000 | BU9: 4 | BV9: =VLOOKUP(BU9,$AH$6:$AI$9,2,0) -> Bolivia | BW9: =VLOOKUP(BV9,$AI$6:$AR$9,2,FALSE) -> 0 | BX9: =IF(SUM($AK$6:$AK$9)=12,MIN(ABS(BS8-BS9),ABS(BS9-BS10)),100) -> 69789000 | BY9: =VLOOKUP($BV9,$AI$6:$AR$9,9,FALSE) -> -7 | BZ9: =VLOOKUP($BV9,$AI$6:$AR$9,7,FALSE) -> 2 | CA9: {=IF($CB$6=$CD$5,$DF$5:$DF$8,IF(OR($CB$6=$CF$5,$CB$6=$CJ$5),$DJ$5:$DJ$6,IF($CB$6=$CH$5,$DI$5:$DI$7,$DO$5)))} -> 4 | CC9: 4 | CD9: {=IF(AND($BW$6:$BW$9=$BW$9,$BX$6:$BX$9<90,$AQ$6:$AQ$9=$AQ$9,$BZ$6:$BZ$9=$BZ$9),1,0)} -> 0 | CE9: {=IF(AND($BW$6:$BW$8=$BW$6,$BX$6:$BX$8<90,$BX$9>90,$BW$6<>$BW$9),1,0)} -> 0 | CF9: {=IF(AND($BW$8:$BW$9=$BW$8,$BX$8:$BX$9<90,$BW$8<>$BW$7),1,0)} -> 0 | CG9: {=IF(AND($BW$9<>$BW$7,$BW$9<>$BW$6),1,0)} -> 1 | CH9: {=IF(AND($BW$7:$BW$9=$BW$7,$BX$7:$BX$9<90,$BW$6<>$BW$9),1,0)} -> 0 | CI9: {=IF(AND($BW$9<>$BW$7,$BW$9<>$BW$6),1,0)} -> 1 | CJ9: {=IF(AND($BW$8:$BW$9=$BW$8,$BX$8:$BX$9<90,$BW$8<>$BW$7),1,0)} -> 0 | CK9: {=IF(AND($BW$9<>$BW$7,$BW$9<>$BW$6),1,0)} -> 1 | CL9: {=IF(AND($BW$6:$BW$9=$BW$6,$BX$6:$BX$9<90,$BY$8:$BY$9=$BY$9,$BY$7<>$BY$9),1,0)} -> 0 | CM9: {=IF(AND($BW$6:$BW$9=$BW$6,$BX$6:$BX$9<90,$BY$6:$BY$9=$BY$6,$BZ$8=$BZ$9,$BZ$7<>$BZ$8),1,0)} -> 0 | CN9: {=IF(AND($BW$6:$BW$8=$BW$6,$BX$6:$BX$7<90,$BW$8<>$BW$9),1,0)} -> 0 | CO9: {=IF(AND($BW$7<>$BW$6,$BW$7:$BW$9=$BW$8,$BX$7>90,$BX$8:$BX$9<90),1,0)} -> 0 | CP9: {=IF(AND($BW$7<>$BW$6,$BW$7:$BW$9=$BW$7,$BX$9>90,$BX$7:$BX$8<90),1,0)} -> 0 | CQ9: {=IF(AND($BW$9<>$BW$7,$BW$9<>$BW$8),1,0)} -> 1 | CR9: {=IF(AND($BW$6:$BW$9=$BW$7,$BX$7:$BX$9<90,$BX$6<>$BX$9),1,0)} -> 0 | CS9: {=IF(AND($BW$6:$BW$9=$BW$6,$BX$6:$BX$8<90,$BX$8<>$BX$9),1,0)} -> 0 | CT9: {=IF(AND($BW$6:$BW$9=$BW$9,$BX$6:$BX$7>90,$BX$8:$BX$9<90,$BY$6:$BY$9=$BY$9,$BZ$6>$BZ$7,$BZ$7>$BZ$9,$BZ$8=$BZ$9),1,0)} -> 0 | CU9: {=IF(AND($BW$6:$BW$9=$BW$7,$BX$6>90,$BX$7:$BX$8<90,$BX$9>90,$BY$6:$BY$9=$BY$9,$BZ$6>$BZ$9,$BZ$7=$BZ$8,$BZ$7>$BZ$9),1,0)} -> 0 | CV9: {=IF(AND($BW$6:$BW$9=$BW$9,$BX$6:$BX$7<90,$BX$8:$BX$9>90,$BY$6:$BY$9=$BY$9,$BZ$6=$BZ$7,$BZ$7>$BZ$8,$BZ$8>$BZ$9),1,0)} -> 0 | CW9: {=IF(AND($BW$6:$BW$9=$BW$9,$BX$6:$BX$7>90,$BX$8:$BX$9<90,$BY$6:$BY$9=$BY$9,$BZ$6>$BZ$9,$BZ$7:$BZ$9=$BZ$9),1,0)} -> 0 | CX9: {=IF(AND($BW$6:$BW$9=$BW$9,$BX$6:$BX$7<90,$BX$8:$BX$9>90,$BY$6:$BY$9=$BY$9,$BZ$6:$BZ$8=$BZ$8,$BZ$6:$BZ$8>$BZ$9),1,0)} -> 0 | CY9: {=IF(AND($BW$6:$BW$9=$BW$9,$BX$6>90,$BX$9>90,$BX$7:$BX$8<90,$BY$6:$BY$9=$BY$9,$BZ$6>$BZ$7:$BZ$9,$BZ$7:$BZ$9=$BZ$9),1,0)} -> 0
PSM10: matejero
F11: =F3 -> Fecha | G11: =G3 -> Hora | H11: =H3 -> Jor. | I11: =I3 -> Casa | K11: =K3 -> Gol | L11: =L3 -> Gol | N11: =N3 -> Fuera | CD11: 1 | CE11: 12 | CF11: 18 | CG11: 19 | CH11: 13 | CI11: 20 | CJ11: 21 | CK11: 22 | CL11: 3 | CM11: 2 | CN11: 14 | CO11: 17 | CP11: 16 | CQ11: 15 | CR11: 4 | CS11: 5 | CT11: 10 | CU11: 8 | CV11: 6 | CW11: 11 | CX11: 7 | CY11: 9 | CZ11: - | DA11: - | DF11: OP1 | DG11: OP2 | DH11: OP3 | DI11: OP4 | DJ11: OP5 | DK11: OP6 | DL11: OP7 | DM11: OP8 | DN11: OP9 | DO11: OP10
A12: NombreEquipo | B12: B | C12: =COUNTIF(Equipos!$C$2:$C$13,'COPA AMERICA'!B12) -> 4 | E12: B | F12: 43631 | G12: =BV46+VLOOKUP($G$2,$BO$39:$BS$51,4,0)*VLOOKUP($G$2,$BO$39:$BS$51,5,0) -> 43631.792 | H12: J1 | I12: =A13 -> Argentina | K12: 0 | L12: 2 | N12: =A14 -> Colombia | O12: =IF(NOT(OR(ISBLANK(K12),ISBLANK(L12))),1,0) -> 1 | Q12: =CONCATENATE("Grupo"," ",B12) -> Grupo B | AB12: ¡EMPATE! Puedes seleccionar el orden de los empatados. | AH12: =CONCATENATE("Auxiliar - ",Q12) -> Auxiliar - Grupo B | AU12: NR | AY12: =CONCATENATE(Q12," - GOLAVERAGE") -> Grupo B - GOLAVERAGE | BB12: Goles - Partidos Cruzados | BH12: Diferencia de Goles - Partidos Cruzados | CB12: Valor | CC12: Sum | CD12: =SUM(CD14:CD17) -> 0 | CE12: =SUM(CE14:CE17) -> 0 | CF12: =SUM(CF14:CF17) -> 0 | CG12: =SUM(CG14:CG17) -> 2 | CH12: =SUM(CH14:CH17) -> 0 | CI12: =SUM(CI14:CI17) -> 2 | CJ12: =SUM(CJ14:CJ17) -> 2 | CK12: =SUM(CK14:CK17) -> 4 | ... DA12: =SUM(DA14:DA17) -> 0 | DF12: 1234 | DG12: 123 | DH12: 12 | DI12: 234 | DJ12: 34 | DK12: 23 | DL12: 1 | DM12: 2 | DN12: 3 | DO12: 4
A13: {=IF(ROWS(A$13:A13)<=$C$12,INDEX(INDIRECT(A$12),SMALL(IF(Nivell=$B$12,ROW(Nivell)-ROW(Equipos!$C$2)+1),ROWS(B$12:B12))),"")} -> Argentina | F13: 43632 | G13: =BV47+VLOOKUP($G$2,$BO$39:$BS$51,4,0)*VLOOKUP($G$2,$BO$39:$BS$51,5,0) -> 43632.667 | H13: J1 | I13: =A15 -> Paraguay | K13: 2 | L13: 2 | N13: =A16 -> Catar | O13: =IF(NOT(OR(ISBLANK(K13),ISBLANK(L13))),1,0) -> 1 | Q13: Pos | R13: Selección | S13: Pts | T13: J | U13: G | V13: E | W13: P | X13: GF | Y13: GC | Z13: DG | AA13: =COUNTIF(AA14:AA17,"<100") -> 0 | AG13: NR | AH13: Puesto | AI13: Equipo | AJ13: Ptos | AK13: J | AL13: G | AM13: E | AN13: P | AO13: GF | AP13: GC | AQ13: Dif | AR13: Rank | AS13: Puesto | AY13: Equipo | AZ13: NEquipEqual | BA13: PUNTOS | BB13: Ranking Inv | BC13: Entre Iguales | BD13: =AY14 -> Argentina | BE13: =AY15 -> Colombia | BF13: =AY16 -> Paraguay | BG13: =AY17 -> Catar | BH13: Ranking Inv | BI13: Entre Iguales | BJ13: =BD13 -> Argentina | BK13: =BE13 -> Colombia | BL13: =BF13 -> Paraguay | BM13: =BG13 -> Catar | BP13: Inicio | BR13: 1R | BV13: Equipo | BW13: Ptos | BX13: Signo | BY13: Dif | BZ13: Gf | CC13: Com | CD13: COM_1 | CE13: COM_2 | CF13: COM_3 | CG13: COM_4 | CH13: COM_5 | CI13: COM_6 | CJ13: COM_7 | CK13: COM_8 | CL13: COM_3 | CM13: COM_3 | CN13: COM_4 | CO13: COM_7 | CP13: COM_6 | CQ13: COM_6 | CR13: COM_5 | CS13: COM_2 | CT13: COM_7 | CU13: COM_6 | CV13: COM_4 | CW13: COM_7 | CX13: COM_4 | CY13: COM_6 | DF13: 1 | DG13: 1 | DH13: 1 | DI13: 2 | DJ13: 3 | DK13: 2 | DL13: 1 | DM13: 2 | DN13: 3 | DO13: 4
A14: {=IF(ROWS(A$13:A14)<=$C$12,INDEX(INDIRECT(A$12),SMALL(IF(Nivell=$B$12,ROW(Nivell)-ROW(Equipos!$C$2)+1),ROWS(B$12:B13))),"")} -> Colombia | F14: 43635 | G14: =BV48+VLOOKUP($G$2,$BO$39:$BS$51,4,0)*VLOOKUP($G$2,$BO$39:$BS$51,5,0) -> 43635.896 | H14: J2 | I14: =A13 -> Argentina | K14: 1 | L14: 1 | N14: =A15 -> Paraguay | O14: =IF(NOT(OR(ISBLANK(K14),ISBLANK(L14))),1,0) -> 1 | Q14: 1 | R14: =VLOOKUP(Q14,$AG$14:$AI$17,3,0) -> Colombia | S14: =VLOOKUP(R14,$AI$14:$AR$17,2,FALSE) -> 9 | T14: =VLOOKUP($R14,$AI$14:$AR$17,3,FALSE) -> 3 | U14: =VLOOKUP($R14,$AI$14:$AR$17,4,FALSE) -> 3 | V14: =VLOOKUP($R14,$AI$14:$AR$17,5,FALSE) -> 0 | W14: =VLOOKUP($R14,$AI$14:$AR$17,6,FALSE) -> 0 | X14: =VLOOKUP($R14,$AI$14:$AR$17,7,FALSE) -> 4 | Y14: =VLOOKUP($R14,$AI$14:$AR$17,8,FALSE) -> 0 | Z14: =VLOOKUP($R14,$AI$14:$AR$17,9,FALSE) -> 4 | AA14: =IF(SUM($AK$14:$AK$17)=12,MIN(ABS(BS13-BS14),ABS(BS14-BS15)),100) -> 5.0401e+09 | AB14: =IF(AND(AA14>=0,AA14<90),VLOOKUP(Q14,$BO$14:$BP$17,2,0),"") | AF14: =VLOOKUP($R14,$AI$14:$AR$17,10,FALSE) -> 9.040411e+09 | AG14: =RANK(AU14,$AU$14:$AU$17) -> 2 | AH14: =RANK(AR14,$AR$14:$AR$17) -> 2 | AI14: =A13 -> Argentina | AJ14: =AL14*3+AM14*1+AN14*0 -> 4 | AK14: =COUNTIFS($I$12:$I$17,AI14,$K$12:$K$17,"<>",$L$12:$L$17,"<>")+COUNTIFS($N$12:$N$17,AI14,$L$12:$L$17,"<>",$K$12:$K$17,"<>") -> 3 | AL14: {=SUM((I$12:I$17=AI14)*(K$12:K$17<>"")*(L$12:L$17<>"")*(K$12:K$17>L$12:L$17),(N$12:N$17=AI14)*(K$12:K$17<>"")*(L$12:L$17<>"")*(K$12:K$17<L$12:L$17))} -> 1 | AM14: {=SUM((I$12:I$17=AI14)*(K$12:K$17<>"")*(L$12:L$17<>"")*(K$12:K$17=L$12:L$17),(N$12:N$17=AI14)*(K$12:K$17<>"")*(L$12:L$17<>"")*(K$12:K$17=L$12:L$17))} -> 1 | AN14: {=SUM((I$12:I$17=AI14)*(L$12:L$17<>"")*(K$12:K$17<>"")*(K$12:K$17<L$12:L$17),(K$12:K$17<>"")*(N$12:N$17=AI14)*(L$12:L$17<>"")*(K$12:K$17>L$12:L$17))} -> 1 | AO14: {=SUMIFS($K$12:$K$17,$I$12:$I$17,AI14,$K$12:$K$17,"<>",$L$12:$L$17,"<>")+SUMIFS($L$12:$L$17,$N$12:$N$17,AI14,$K$12:$K$17,"<>",$L$12:$L$17,"<>")} -> 3 | AP14: {=SUMIFS($K$12:$K$17,$N$12:$N$17,AI14,$K$12:$K$17,"<>",$L$12:$L$17,"<>")+SUMIFS($L$12:$L$17,$I$12:$I$17,AI14,$K$12:$K$17,"<>",$L$12:$L$17,"<>")} -> 3 | AQ14: =AO14-AP14 -> 0 | AR14: =IF(AK14=0,-($AW$9*VLOOKUP(AI14,Tabla3[[NombreEquipo]:[Rank]],3,FALSE)),AJ14*$AW$4+AQ14*$AW$5+AO14*$AW$6+BA14-($AW$9*VLOOKUP(AI14,Tabla3[[NombreEquipo]:[Rank]],3,FALSE)/100)) -> 4.000311e+09 | AS14: =AH14 -> 2 | AU14: =IFERROR(AR14-VLOOKUP(AI14,$AB$14:$AC$17,2,0),AR14) -> 4.000311e+09 | AY14: =AI14 -> Argentina | AZ14: =COUNTIF(AJ14:AJ17,AJ14) -> 1 | BA14: =(BB14*$AW$8)+(BH14*$AW$7) -> 11000 | BB14: =RANK(BC14,BC14:BC17,1) -> 1 | BC14: =SUM(IF(AND(AJ14=AJ15,AQ14=AQ15,AO14=AO15),BE14,0),IF(AND(AJ14=AJ16,AQ14=AQ16,AO14=AO16),BF14,0),IF(AND(AJ14=AJ17,AQ14=AQ17,AO14=AO17),BG14,0)) -> 0 | BD14: 0 | BE14: {=SUMIFS($K$12:$K$17,$I$12:$I$17,$AY14,$K$12:$K$17,"<>",$L$12:$L$17,"<>",$N$12:$N$17,BE13)+SUMIFS($L$12:$L$17,$I$12:$I$17,BE13,$K$12:$K$17,"<>",$L$12:$L$17,"<>",$N$12:$N$17,$AY14)} -> 0 | BF14: {=SUMIFS($K$12:$K$17,$I$12:$I$17,$AY14,$K$12:$K$17,"<>",$L$12:$L$17,"<>",$N$12:$N$17,BF13)+SUMIFS($L$12:$L$17,$I$12:$I$17,BF13,$K$12:$K$17,"<>",$L$12:$L$17,"<>",$N$12:$N$17,$AY14)} -> 1 | BG14: {=SUMIFS($K$12:$K$17,$I$12:$I$17,$AY14,$K$12:$K$17,"<>",$L$12:$L$17,"<>",$N$12:$N$17,BG13)+SUMIFS($L$12:$L$17,$I$12:$I$17,BG13,$K$12:$K$17,"<>",$L$12:$L$17,"<>",$N$12:$N$17,$AY14)} -> 2 | BH14: =RANK(BI14,BI14:BI17,1) -> 1 | BI14: =SUM(IF(AND(AJ14=AJ15,AQ14=AQ15,AO14=AO15),BK14,0),IF(AND(AJ14=AJ16,AQ14=AQ16,AO14=AO16),BL14,0),IF(AND(AJ14=AJ17,AQ14=AQ17,AO14=AO17),BM14,0)) -> 0 | BJ14: 0 | BK14: =BE14-BD15 -> -2 | BL14: =BF14-BD16 -> 0 | BM14: =BG14-BD17 -> 2 | BN14: 1 | BO14: =RANK(BQ14,$BQ$14:$BQ$17) -> 2 | BP14: =A13 -> Argentina | BQ14: =IF(AK14=0,-($AW$9*VLOOKUP(AI14,Tabla3[[NombreEquipo]:[Rank]],3,FALSE)),AJ14*$AW$4+AQ14*$AW$5+AO14*$AW$6+BA14-($AW$9*VLOOKUP(AI14,Tabla3[[NombreEquipo]:[Rank]],3,FALSE)/100)) -> 4.000311e+09 | BR14: =VLOOKUP(Q14,$AH$14:$AI$17,2,0) -> Colombia | BS14: =VLOOKUP($BR14,$AI$14:$AR$17,10,FALSE) -> 9.040411e+09 | BU14: 1 | BV14: =VLOOKUP(BU14,$AH$14:$AI$17,2,0) -> Colombia | BW14: =VLOOKUP(BV14,$AI$14:$AR$17,2,FALSE) -> 9 | BX14: =IF(SUM($AK$14:$AK$17)=12,MIN(ABS(BS13-BS14),ABS(BS14-BS15)),100) -> 5.0401e+09 | BY14: =VLOOKUP($BV14,$AI$14:$AR$17,9,FALSE) -> 4 | BZ14: =VLOOKUP($BV14,$AI$14:$AR$17,7,FALSE) -> 4 | CA14: {=IF($CB$14=$CD$13,$DF$13:$DF$16,IF($CB$14=$CE$13,$DG$13:$DG$15,IF(OR($CB$14=$CF$13,$CB$14=$CG$13),$DH$13:$DH$14,$DL$13)))} -> 1 | CB14: =IFERROR(HLOOKUP(4,CD12:DA13,2,0),CK13) -> COM_8 | CC14: 1 | CD14: {=IF(AND($BW$14:$BW$17=$BW$14,$BX$14:$BX$17<90,$AQ$14:$AQ$17=$AQ$14,$BZ$14:$BZ$17=$BZ$14),1,0)} -> 0 | CE14: {=IF(AND($BW$14:$BW$16=$BW$14,$BX$14:$BX$16<90,$BW$14<>$BW$17),1,0)} -> 0 | CF14: {=IF(AND($BW$14:$BW$15=$BW$14,$BX$14:$BX$15<90,$BW$14<>$BW$16),1,0)} -> 0 | CG14: {=IF(AND($BW$14:$BW$15=$BW$14,$BX$14:$BX$15<90,$BW$14<>$BW$16),1,0)} -> 0 | CH14: {=IF(AND($BW$15:$BW$17=$BW$15,$BX$15:$BX$17<90,$BW$14<>$BW$15),1,0)} -> 0 | CI14: {=IF(AND($BW$14<>$BW$15,$BW$14<>$BW$17),1,0)} -> 1 | CJ14: {=IF(AND($BW$14<>$BW$15,$BW$14<>$BW$17),1,0)} -> 1 | CK14: {=IF(AND($BW$14<>$BW$15,$BW$14<>$BW$17),1,0)} -> 1 | CL14: {=IF(AND($BW$14:$BW$17=$BW$14,$BX$14:$BX$17<90,$BY$14:$BY$15=$BY$14,$BY$14<>$BY$16),1,0)} -> 0 | CM14: {=IF(AND($BW$14:$BW$17=$BW$14,$BX$14:$BX$17<90,$BY$14:$BY$17=$BY$14,$BZ$14=$BZ$15,$BZ$14<>$BZ$16),1,0)} -> 0 | CN14: {=IF(AND($BW$14:$BW$16=$BW$14,$BX$14:$BX$15<90,$BX$16>90),1,0)} -> 0 | CO14: {=IF(AND($BW$14<>$BW$15,$BW$14<>$BW$16),1,0)} -> 1 | CP14: {=IF(AND($BW$14<>$BW$15,$BW$14<>$BW$16),1,0)} -> 1 | CQ14: {=IF(AND($BW$14<>$BW$17,$BW$14:$BW$16=$BW$14,$BX$14>90,$BX$15:$BX$16<90),1,0)} -> 0 | CR14: {=IF(AND($BW$14:$BW$17=$BW$14,$BX$15:$BX$17<90,$BX$14<>$BX$15),1,0)} -> 0 | CS14: {=IF(AND($BW$14:$BW$17=$BW$14,$BX$14:$BX$16<90,$BX$14<>$BX$17),1,0)} -> 0 | CT14: {=IF(AND($BW$14:$BW$17=$BW$14,$BX$14:$BX$15>90,$BX$16:$BX$17<90,$BY$14:$BY$17=$BY$14,$BZ$14>$BZ$15,$BZ$14>$BZ$16,$BZ$14>$BZ$17),1,0)} -> 0 | CU14: {=IF(AND($BW$14:$BW$17=$BW$14,$BX$14>90,$BX$15:$BX$16<90,$BX$17>90,$BY$14:$BY$17=$BY$14,$BZ$14>$BZ$15,$BZ$14>$BZ$16,$BZ$14>$BZ$17),1,0)} -> 0 | CV14: {=IF(AND($BW$14:$BW$17=$BW$14,$BX$14:$BX$15<90,$BX$16:$BX$17>90,$BY$14:$BY$17=$BY$14,$BZ$14=$BZ$15,$BZ$14>$BZ$16,$BZ$14>$BZ$17),1,0)} -> 0 | CW14: {=IF(AND($BW$14:$BW$17=$BW$14,$BX$14:$BX$15>90,$BX$16:$BX$17<90,$BY$14:$BY$17=$BY$14,$BZ$14>$BZ$15,$BZ$15:$BZ$17=$BZ$15),1,0)} -> 0 | CX14: {=IF(AND($BW$14:$BW$17=$BW$14,$BX$14:$BX$15<90,$BX$16:$BX$17>90,$BY$14:$BY$17=$BY$14,$BZ$14:$BZ$16=$BZ$14,$BZ$14>$BZ$17),1,0)} -> 0 | CY14: {=IF(AND($BW$14:$BW$17=$BW$14,$BX$14>90,$BX$17>90,$BX$15:$BX$16<90,$BY$14:$BY$17=$BY$14,$BZ$14>$BZ$15:$BZ$17),1,0)} -> 0 | DF14: 2 | DG14: 2 | DH14: 2 | DI14: 3 | DJ14: 4 | DK14: 3 | EGC14: matejero
A15: {=IF(ROWS(A$13:A15)<=$C$12,INDEX(INDIRECT(A$12),SMALL(IF(Nivell=$B$12,ROW(Nivell)-ROW(Equipos!$C$2)+1),ROWS(B$12:B14))),"")} -> Paraguay | F15: 43635 | G15: =BV49+VLOOKUP($G$2,$BO$39:$BS$51,4,0)*VLOOKUP($G$2,$BO$39:$BS$51,5,0) -> 43635.771 | H15: J2 | I15: =A14 -> Colombia | K15: 1 | L15: 0 | N15: =A16 -> Catar | O15: =IF(NOT(OR(ISBLANK(K15),ISBLANK(L15))),1,0) -> 1 | Q15: 2 | R15: =VLOOKUP(Q15,$AG$14:$AI$17,3,0) -> Argentina | S15: =VLOOKUP(R15,$AI$14:$AR$17,2,FALSE) -> 4 | T15: =VLOOKUP($R15,$AI$14:$AR$17,3,FALSE) -> 3 | U15: =VLOOKUP($R15,$AI$14:$AR$17,4,FALSE) -> 1 | V15: =VLOOKUP($R15,$AI$14:$AR$17,5,FALSE) -> 1 | W15: =VLOOKUP($R15,$AI$14:$AR$17,6,FALSE) -> 1 | X15: =VLOOKUP($R15,$AI$14:$AR$17,7,FALSE) -> 3 | Y15: =VLOOKUP($R15,$AI$14:$AR$17,8,FALSE) -> 3 | Z15: =VLOOKUP($R15,$AI$14:$AR$17,9,FALSE) -> 0 | AA15: =IF(SUM($AK$14:$AK$17)=12,MIN(ABS(BS14-BS15),ABS(BS15-BS16)),100) -> 2.01e+09 | AB15: =IF(AND(AA15>=0,AA15<90),VLOOKUP(Q15,$BO$14:$BP$17,2,0),"") | AF15: =VLOOKUP($R15,$AI$14:$AR$17,10,FALSE) -> 4.000311e+09 | AG15: =RANK(AU15,$AU$14:$AU$17) -> 1 | AH15: =RANK(AR15,$AR$14:$AR$17) -> 1 | AI15: =A14 -> Colombia | AJ15: =AL15*3+AM15*1+AN15*0 -> 9 | AK15: =COUNTIFS($I$12:$I$17,AI15,$K$12:$K$17,"<>",$L$12:$L$17,"<>")+COUNTIFS($N$12:$N$17,AI15,$L$12:$L$17,"<>",$K$12:$K$17,"<>") -> 3 | AL15: {=SUM((I$12:I$17=AI15)*(K$12:K$17<>"")*(L$12:L$17<>"")*(K$12:K$17>L$12:L$17),(N$12:N$17=AI15)*(K$12:K$17<>"")*(L$12:L$17<>"")*(K$12:K$17<L$12:L$17))} -> 3 | AM15: {=SUM((I$12:I$17=AI15)*(K$12:K$17<>"")*(L$12:L$17<>"")*(K$12:K$17=L$12:L$17),(N$12:N$17=AI15)*(K$12:K$17<>"")*(L$12:L$17<>"")*(K$12:K$17=L$12:L$17))} -> 0 | AN15: {=SUM((I$12:I$17=AI15)*(L$12:L$17<>"")*(K$12:K$17<>"")*(K$12:K$17<L$12:L$17),(K$12:K$17<>"")*(N$12:N$17=AI15)*(L$12:L$17<>"")*(K$12:K$17>L$12:L$17))} -> 0 | AO15: {=SUMIFS($K$12:$K$17,$I$12:$I$17,AI15,$K$12:$K$17,"<>",$L$12:$L$17,"<>")+SUMIFS($L$12:$L$17,$N$12:$N$17,AI15,$K$12:$K$17,"<>",$L$12:$L$17,"<>")} -> 4 | AP15: {=SUMIFS($K$12:$K$17,$N$12:$N$17,AI15,$K$12:$K$17,"<>",$L$12:$L$17,"<>")+SUMIFS($L$12:$L$17,$I$12:$I$17,AI15,$K$12:$K$17,"<>",$L$12:$L$17,"<>")} -> 0 | AQ15: =AO15-AP15 -> 4 | AR15: =IF(AK15=0,-($AW$9*VLOOKUP(AI15,Tabla3[[NombreEquipo]:[Rank]],3,FALSE)),AJ15*$AW$4+AQ15*$AW$5+AO15*$AW$6+BA15-($AW$9*VLOOKUP(AI15,Tabla3[[NombreEquipo]:[Rank]],3,FALSE)/100)) -> 9.040411e+09 | AS15: =AH15 -> 1 | AU15: =IFERROR(AR15-VLOOKUP(AI15,$AB$14:$AC$17,2,0),AR15) -> 9.040411e+09 | AY15: =AI15 -> Colombia | AZ15: =COUNTIF(AJ14:AJ17,AJ15) -> 1 | BA15: =(BB15*$AW$8)+(BH15*$AW$7) -> 11000 | BB15: =RANK(BC15,BC14:BC17,1) -> 1 | BC15: =SUM(IF(AND(AJ15=AJ16,AQ15=AQ16,AO15=AO16),BF15,0),IF(AND(AJ15=AJ17,AQ15=AQ17,AO15=AO17),BG15,0),IF(AND(AJ15=AJ14,AQ15=AQ14,AO15=AO14),BD15,0)) -> 0 | BD15: {=SUMIFS($K$12:$K$17,$I$12:$I$17,$AY15,$K$12:$K$17,"<>",$L$12:$L$17,"<>",$N$12:$N$17,BD13)+SUMIFS($L$12:$L$17,$I$12:$I$17,BD13,$K$12:$K$17,"<>",$L$12:$L$17,"<>",$N$12:$N$17,$AY15)} -> 2 | BE15: 0 | BF15: {=SUMIFS($K$12:$K$17,$I$12:$I$17,$AY15,$K$12:$K$17,"<>",$L$12:$L$17,"<>",$N$12:$N$17,BF13)+SUMIFS($L$12:$L$17,$I$12:$I$17,BF13,$K$12:$K$17,"<>",$L$12:$L$17,"<>",$N$12:$N$17,$AY15)} -> 1 | BG15: {=SUMIFS($K$12:$K$17,$I$12:$I$17,$AY15,$K$12:$K$17,"<>",$L$12:$L$17,"<>",$N$12:$N$17,BG13)+SUMIFS($L$12:$L$17,$I$12:$I$17,BG13,$K$12:$K$17,"<>",$L$12:$L$17,"<>",$N$12:$N$17,$AY15)} -> 1 | BH15: =RANK(BI15,BI14:BI17,1) -> 1 | BI15: =SUM(IF(AND(AJ15=AJ16,AQ15=AQ16,AO15=AO16),BL15,0),IF(AND(AJ15=AJ17,AQ15=AQ17,AO15=AO17),BM15,0),IF(AND(AJ15=AJ14,AQ15=AQ14,AO15=AO14),BJ15,0)) -> 0 | BJ15: =BD15-BE14 -> 2 | BK15: 0 | BL15: =BF15-BE16 -> 1 | BM15: =BG15-BE17 -> 1 | BN15: 2 | BO15: =RANK(BQ15,$BQ$14:$BQ$17) -> 1 | BP15: =A14 -> Colombia | BQ15: =IF(AK15=0,-($AW$9*VLOOKUP(AI15,Tabla3[[NombreEquipo]:[Rank]],3,FALSE)),AJ15*$AW$4+AQ15*$AW$5+AO15*$AW$6+BA15-($AW$9*VLOOKUP(AI15,Tabla3[[NombreEquipo]:[Rank]],3,FALSE)/100)) -> 9.040411e+09 | BR15: =VLOOKUP(Q15,$AH$14:$AI$17,2,0) -> Argentina | BS15: =VLOOKUP($BR15,$AI$14:$AR$17,10,FALSE) -> 4.000311e+09 | BU15: 2 | BV15: =VLOOKUP(BU15,$AH$14:$AI$17,2,0) -> Argentina | BW15: =VLOOKUP(BV15,$AI$14:$AR$17,2,FALSE) -> 4 | BX15: =IF(SUM($AK$14:$AK$17)=12,MIN(ABS(BS14-BS15),ABS(BS15-BS16)),100) -> 2.01e+09 | BY15: =VLOOKUP($BV15,$AI$14:$AR$17,9,FALSE) -> 0 | BZ15: =VLOOKUP($BV15,$AI$14:$AR$17,7,FALSE) -> 3 | CA15: {=IF($CB$14=$CD$13,$DF$13:$DF$16,IF($CB$14=$CE$13,$DG$13:$DG$15,IF(OR($CB$14=$CF$13,$CB$14=$CG$13),$DH$13:$DH$14,IF($CB$14=$CH$13,$DI$13:$DI$15,(IF($CB$14=$CI$13,$DK$13:$DK$14,$DM$13))))))} -> 2 | CC15: 2 | CD15: {=IF(AND($BW$14:$BW$17=$BW$15,$BX$14:$BX$17<90,$AQ$14:$AQ$17=$AQ$15,$BZ$14:$BZ$17=$BZ$15),1,0)} -> 0 | CE15: {=IF(AND($BW$14:$BW$16=$BW$15,$BX$14:$BX$16<90,$BW$15<>$BW$17),1,0)} -> 0 | CF15: {=IF(AND($BW$14:$BW$15=$BW$14,$BX$14:$BX$15<90,$BW$14<>$BW$16),1,0)} -> 0 | CG15: {=IF(AND($BW$14:$BW$15=$BW$14,$BX$14:$BX$15<90,$BW$14<>$BW$16),1,0)} -> 0 | CH15: {=IF(AND($BW$15:$BW$17=$BW$15,$BX$15:$BX$17<90,$BW$14<>$BW$15),1,0)} -> 0 | CI15: {=IF(AND($BW$15:$BW$16=$BW$15,$BX$15:$BX$16<90,$BW$15<>$BW$14,$BW$15<>$BW$17),1,0)} -> 0 | CJ15: {=IF(AND($BW$15<>$BW$14,$BW$15<>$BW$16),1,0)} -> 1 | CK15: {=IF(AND($BW$15<>$BW$14,$BW$15<>$BW$16),1,0)} -> 1 | CL15: {=IF(AND($BW$14:$BW$17=$BW$14,$BX$14:$BX$17<90,$BY$14:$BY$15=$BY$14,$BY$15<>$BY$16),1,0)} -> 0 | CM15: {=IF(AND($BW$14:$BW$17=$BW$14,$BX$14:$BX$17<90,$BY$14:$BY$17=$BY$14,$BZ$14=$BZ$15,$BZ$15<>$BZ$16),1,0)} -> 0 | CN15: {=IF(AND($BW$14:$BW$16=$BW$15,$BX$14:$BX$15<90,$BX$16>90),1,0)} -> 0 | CO15: {=IF(AND($BW$15<>$BW$14,$BW$15:$BW$17=$BW$15,$BX$15>90,$BX$16:$BX$17<90),1,0)} -> 0 | CP15: {=IF(AND($BW$15<>$BW$14,$BW$15:$BW$17=$BW$15,$BX$17>90,$BX$15:$BX$16<90),1,0)} -> 0 | CQ15: {=IF(AND($BW$15<>$BW$17,$BW$14:$BW$16=$BW$15,$BX$14>90,$BX$15:$BX$16<90),1,0)} -> 0 | CR15: {=IF(AND($BW$14:$BW$17=$BW$15,$BX$15:$BX$17<90,$BX$14<>$BX$15),1,0)} -> 0 | CS15: {=IF(AND($BW$14:$BW$17=$BW$15,$BX$14:$BX$16<90,$BX$15<>$BX$17),1,0)} -> 0 | CT15: {=IF(AND($BW$14:$BW$17=$BW$15,$BX$14:$BX$15>90,$BX$16:$BX$17<90,$BY$14:$BY$17=$BY$15,$BZ$14>$BZ$15,$BZ$15>$BZ$16,$BZ$15>$BZ$17),1,0)} -> 0 | CU15: {=IF(AND($BW$14:$BW$17=$BW$15,$BX$14>90,$BX$15:$BX$16<90,$BX$17>90,$BY$14:$BY$17=$BY$15,$BZ$14>$BZ$15,$BZ$15=$BZ$16,$BZ$15>$BZ$17),1,0)} -> 0 | CV15: {=IF(AND($BW$14:$BW$17=$BW$15,$BX$14:$BX$15<90,$BX$16:$BX$17>90,$BY$14:$BY$17=$BY$15,$BZ$14=$BZ$15,$BZ$15>$BZ$16,$BZ$15>$BZ$17),1,0)} -> 0 | CW15: {=IF(AND($BW$14:$BW$17=$BW$15,$BX$14:$BX$15>90,$BX$16:$BX$17<90,$BY$14:$BY$17=$BY$15,$BZ$14>$BZ$15,$BZ$15:$BZ$17=$BZ$15),1,0)} -> 0 | CX15: {=IF(AND($BW$14:$BW$17=$BW$15,$BX$14:$BX$15<90,$BX$16:$BX$17>90,$BY$14:$BY$17=$BY$15,$BZ$14:$BZ$16=$BZ$15,$BZ$15>$BZ$17),1,0)} -> 0 | CY15: {=IF(AND($BW$14:$BW$17=$BW$15,$BX$14>90,$BX$17>90,$BX$15:$BX$16<90,$BY$14:$BY$17=$BY$15,$BZ$14>$BZ$15:$BZ$17,$BZ$15:$BZ$17=$BZ$15),1,0)} -> 0 | DF15: 3 | DG15: 3 | DI15: 4
A16: {=IF(ROWS(A$13:A16)<=$C$12,INDEX(INDIRECT(A$12),SMALL(IF(Nivell=$B$12,ROW(Nivell)-ROW(Equipos!$C$2)+1),ROWS(B$12:B15))),"")} -> Catar | F16: 43639 | G16: =BV50+VLOOKUP($G$2,$BO$39:$BS$51,4,0)*VLOOKUP($G$2,$BO$39:$BS$51,5,0) -> 43639.667 | H16: J3 | I16: =A16 -> Catar | K16: 0 | L16: 2 | N16: =A13 -> Argentina | O16: =IF(NOT(OR(ISBLANK(K16),ISBLANK(L16))),1,0) -> 1 | Q16: 3 | R16: =VLOOKUP(Q16,$AG$14:$AI$17,3,0) -> Paraguay | S16: =VLOOKUP(R16,$AI$14:$AR$17,2,FALSE) -> 2 | T16: =VLOOKUP($R16,$AI$14:$AR$17,3,FALSE) -> 3 | U16: =VLOOKUP($R16,$AI$14:$AR$17,4,FALSE) -> 0 | V16: =VLOOKUP($R16,$AI$14:$AR$17,5,FALSE) -> 2 | W16: =VLOOKUP($R16,$AI$14:$AR$17,6,FALSE) -> 1 | X16: =VLOOKUP($R16,$AI$14:$AR$17,7,FALSE) -> 3 | Y16: =VLOOKUP($R16,$AI$14:$AR$17,8,FALSE) -> 4 | Z16: =VLOOKUP($R16,$AI$14:$AR$17,9,FALSE) -> -1 | AA16: =IF(SUM($AK$14:$AK$17)=12,MIN(ABS(BS15-BS16),ABS(BS16-BS17)),100) -> 1.0201e+09 | AB16: =IF(AND(AA16>=0,AA16<90),VLOOKUP(Q16,$BO$14:$BP$17,2,0),"") | AF16: =VLOOKUP($R16,$AI$14:$AR$17,10,FALSE) -> 1.990311e+09 | AG16: =RANK(AU16,$AU$14:$AU$17) -> 3 | AH16: =RANK(AR16,$AR$14:$AR$17) -> 3 | AI16: =A15 -> Paraguay | AJ16: =AL16*3+AM16*1+AN16*0 -> 2 | AK16: =COUNTIFS($I$12:$I$17,AI16,$K$12:$K$17,"<>",$L$12:$L$17,"<>")+COUNTIFS($N$12:$N$17,AI16,$L$12:$L$17,"<>",$K$12:$K$17,"<>") -> 3 | AL16: {=SUM((I$12:I$17=AI16)*(K$12:K$17<>"")*(L$12:L$17<>"")*(K$12:K$17>L$12:L$17),(N$12:N$17=AI16)*(K$12:K$17<>"")*(L$12:L$17<>"")*(K$12:K$17<L$12:L$17))} -> 0 | AM16: {=SUM((I$12:I$17=AI16)*(K$12:K$17<>"")*(L$12:L$17<>"")*(K$12:K$17=L$12:L$17),(N$12:N$17=AI16)*(K$12:K$17<>"")*(L$12:L$17<>"")*(K$12:K$17=L$12:L$17))} -> 2 | AN16: {=SUM((I$12:I$17=AI16)*(L$12:L$17<>"")*(K$12:K$17<>"")*(K$12:K$17<L$12:L$17),(K$12:K$17<>"")*(N$12:N$17=AI16)*(L$12:L$17<>"")*(K$12:K$17>L$12:L$17))} -> 1 | AO16: {=SUMIFS($K$12:$K$17,$I$12:$I$17,AI16,$K$12:$K$17,"<>",$L$12:$L$17,"<>")+SUMIFS($L$12:$L$17,$N$12:$N$17,AI16,$K$12:$K$17,"<>",$L$12:$L$17,"<>")} -> 3 | AP16: {=SUMIFS($K$12:$K$17,$N$12:$N$17,AI16,$K$12:$K$17,"<>",$L$12:$L$17,"<>")+SUMIFS($L$12:$L$17,$I$12:$I$17,AI16,$K$12:$K$17,"<>",$L$12:$L$17,"<>")} -> 4 | AQ16: =AO16-AP16 -> -1 | AR16: =IF(AK16=0,-($AW$9*VLOOKUP(AI16,Tabla3[[NombreEquipo]:[Rank]],3,FALSE)),AJ16*$AW$4+AQ16*$AW$5+AO16*$AW$6+BA16-($AW$9*VLOOKUP(AI16,Tabla3[[NombreEquipo]:[Rank]],3,FALSE)/100)) -> 1.990311e+09 | AS16: =AH16 -> 3 | AU16: =IFERROR(AR16-VLOOKUP(AI16,$AB$14:$AC$17,2,0),AR16) -> 1.990311e+09 | AY16: =AI16 -> Paraguay | AZ16: =COUNTIF(AJ14:AJ17,AJ16) -> 1 | BA16: =(BB16*$AW$8)+(BH16*$AW$7) -> 11000 | BB16: =RANK(BC16,BC14:BC17,1) -> 1 | BC16: =SUM(IF(AND(AJ16=AJ17,AQ16=AQ17,AO16=AO17),BG16,0),IF(AND(AJ16=AJ14,AQ16=AQ14,AO16=AO14),BD16,0),IF(AND(AJ16=AJ15,AQ16=AQ15,AO16=AO15),BE16,0)) -> 0 | BD16: {=SUMIFS($K$12:$K$17,$I$12:$I$17,$AY16,$K$12:$K$17,"<>",$L$12:$L$17,"<>",$N$12:$N$17,BD13)+SUMIFS($L$12:$L$17,$I$12:$I$17,BD13,$K$12:$K$17,"<>",$L$12:$L$17,"<>",$N$12:$N$17,$AY16)} -> 1 | BE16: {=SUMIFS($K$12:$K$17,$I$12:$I$17,$AY16,$K$12:$K$17,"<>",$L$12:$L$17,"<>",$N$12:$N$17,BE13)+SUMIFS($L$12:$L$17,$I$12:$I$17,BE13,$K$12:$K$17,"<>",$L$12:$L$17,"<>",$N$12:$N$17,$AY16)} -> 0 | BF16: 0 | BG16: {=SUMIFS($K$12:$K$17,$I$12:$I$17,$AY16,$K$12:$K$17,"<>",$L$12:$L$17,"<>",$N$12:$N$17,BG13)+SUMIFS($L$12:$L$17,$I$12:$I$17,BG13,$K$12:$K$17,"<>",$L$12:$L$17,"<>",$N$12:$N$17,$AY16)} -> 2 | BH16: =RANK(BI16,BI14:BI17,1) -> 1 | BI16: =SUM(IF(AND(AJ16=AJ17,AQ16=AQ17,AO16=AO17),BM16,0),IF(AND(AJ16=AJ14,AQ16=AQ14,AO16=AO14),BJ16,0),IF(AND(AJ16=AJ15,AQ16=AQ15,AO16=AO15),BK16,0)) -> 0 | BJ16: =BD16-BF14 -> 0 | BK16: =BE16-BF15 -> -1 | BL16: 0 | BM16: =BG16-BF17 -> 0 | BN16: 3 | BO16: =RANK(BQ16,$BQ$14:$BQ$17) -> 3 | BP16: =A15 -> Paraguay | BQ16: =IF(AK16=0,-($AW$9*VLOOKUP(AI16,Tabla3[[NombreEquipo]:[Rank]],3,FALSE)),AJ16*$AW$4+AQ16*$AW$5+AO16*$AW$6+BA16-($AW$9*VLOOKUP(AI16,Tabla3[[NombreEquipo]:[Rank]],3,FALSE)/100)) -> 1.990311e+09 | BR16: =VLOOKUP(Q16,$AH$14:$AI$17,2,0) -> Paraguay | BS16: =VLOOKUP($BR16,$AI$14:$AR$17,10,FALSE) -> 1.990311e+09 | BU16: 3 | BV16: =VLOOKUP(BU16,$AH$14:$AI$17,2,0) -> Paraguay | BW16: =VLOOKUP(BV16,$AI$14:$AR$17,2,FALSE) -> 2 | BX16: =IF(SUM($AK$14:$AK$17)=12,MIN(ABS(BS15-BS16),ABS(BS16-BS17)),100) -> 1.0201e+09 | BY16: =VLOOKUP($BV16,$AI$14:$AR$17,9,FALSE) -> -1 | BZ16: =VLOOKUP($BV16,$AI$14:$AR$17,7,FALSE) -> 3 | CA16: {=IF($CB$14=$CD$13,$DF$13:$DF$16,IF($CB$14=$CE$13,$DG$13:$DG$15,IF(OR($CB$14=$CF$13,$CB$14=$CJ$13),$DJ$13:$DJ$14,IF($CB$14=$CH$13,$DI$13:$DI$15,(IF($CB$14=$CI$13,$DK$13:$DK$14,$DN$13))))))} -> 3 | CC16: 3 | CD16: {=IF(AND($BW$14:$BW$17=$BW$8,$BX$14:$BX$17<90,$AQ$14:$AQ$17=$AQ$8,$BZ$14:$BZ$17=$BZ$8),1,0)} -> 0 | CE16: {=IF(AND($BW$14:$BW$16=$BW$16,$BX$14:$BX$16<90,$BW$16<>$BW$17),1,0)} -> 0 | CF16: {=IF(AND($BW$16:$BW$17=$BW$16,$BX$16:$BX$17<90,$BW$16<>$BW$15),1,0)} -> 0 | CG16: {=IF(OR(AND($BW$16<>$BW$15,$BW$16<>$BW$17),AND($BW$16<>$BW$15,$BW$16=$BW$17,$BX$16>90,$BX$17>90)),1,0)} -> 1 | CH16: {=IF(AND($BW$15:$BW$17=$BW$15,$BX$15:$BX$17<90,$BW$14<>$BW$16),1,0)} -> 0 | CI16: {=IF(AND($BW$15:$BW$16=$BW$16,$BX$15:$BX$16<90,$BW$16<>$BW$14,$BW$16<>$BW$17),1,0)} -> 0 | CJ16: {=IF(AND($BW$16:$BW$17=$BW$16,$BX$16:$BX$17<90,$BW$16<>$BW$15),1,0)} -> 0 | CK16: {=IF(AND($BW$16<>$BW$15,$BW$16<>$BW$17),1,0)} -> 1 | CL16: {=IF(AND($BW$14:$BW$17=$BW$14,$BX$14:$BX$17<90,$BY$16:$BY$17=$BY$16,$BY$15<>$BY$16),1,0)} -> 0 | CM16: {=IF(AND($BW$14:$BW$17=$BW$14,$BX$14:$BX$17<90,$BY$14:$BY$17=$BY$14,$BZ$16=$BZ$17,$BZ$15<>$BZ$16),1,0)} -> 0 | CN16: {=IF(AND($BW$14:$BW$16=$BW$16,$BX$14:$BX$15<90,$BX$16>90),1,0)} -> 0 | CO16: {=IF(AND($BW$15<>$BW$14,$BW$15:$BW$17=$BW$16,$BX$15>90,$BX$16:$BX$17<90),1,0)} -> 0 | CP16: {=IF(AND($BW$15<>$BW$14,$BW$15:$BW$17=$BW$15,$BX$17>90,$BX$15:$BX$16<90),1,0)} -> 0 | CQ16: {=IF(AND($BW$16<>$BW$17,$BW$14:$BW$16=$BW$16,$BX$14>90,$BX$15:$BX$16<90),1,0)} -> 0 | CR16: {=IF(AND($BW$14:$BW$17=$BW$15,$BX$15:$BX$17<90,$BX$14<>$BX$16),1,0)} -> 0 | CS16: {=IF(AND($BW$14:$BW$17=$BW$16,$BX$14:$BX$16<90,$BX$16<>$BX$17),1,0)} -> 0 | CT16: {=IF(AND($BW$14:$BW$17=$BW$16,$BX$14:$BX$15>90,$BX$16:$BX$17<90,$BY$14:$BY$17=$BY$16,$BZ$14>$BZ$15,$BZ$15>$BZ$16,$BZ$16=$BZ$17),1,0)} -> 0 | CU16: {=IF(AND($BW$14:$BW$17=$BW$16,$BX$14>90,$BX$15:$BX$16<90,$BX$17>90,$BY$14:$BY$17=$BY$16,$BZ$14>$BZ$15,$BZ$15=$BZ$16,$BZ$16>$BZ$17),1,0)} -> 0 | CV16: {=IF(AND($BW$14:$BW$17=$BW$16,$BX$14:$BX$15<90,$BX$16:$BX$17>90,$BY$14:$BY$17=$BY$16,$BZ$14=$BZ$15,$BZ$15>$BZ$16,$BZ$16>$BZ$17),1,0)} -> 0 | CW16: {=IF(AND($BW$14:$BW$17=$BW$16,$BX$14:$BX$15>90,$BX$16:$BX$17<90,$BY$14:$BY$17=$BY$15,$BZ$14>$BZ$16,$BZ$15:$BZ$17=$BZ$16),1,0)} -> 0 | CX16: {=IF(AND($BW$14:$BW$17=$BW$16,$BX$14:$BX$15<90,$BX$16:$BX$17>90,$BY$14:$BY$17=$BY$16,$BZ$14:$BZ$16=$BZ$16,$BZ$16>$BZ$17),1,0)} -> 0 | CY16: {=IF(AND($BW$14:$BW$17=$BW$16,$BX$14>90,$BX$17>90,$BX$15:$BX$16<90,$BY$14:$BY$17=$BY$16,$BZ$14>$BZ$15:$BZ$17,$BZ$15:$BZ$17=$BZ$16),1,0)} -> 0 | DF16: 4
F17: 43639 | G17: =BV51+VLOOKUP($G$2,$BO$39:$BS$51,4,0)*VLOOKUP($G$2,$BO$39:$BS$51,5,0) -> 43639.667 | H17: J3 | I17: =A14 -> Colombia | K17: 1 | L17: 0 | N17: =A15 -> Paraguay | O17: =IF(NOT(OR(ISBLANK(K17),ISBLANK(L17))),1,0) -> 1 | Q17: 4 | R17: =VLOOKUP(Q17,$AG$14:$AI$17,3,0) -> Catar | S17: =VLOOKUP(R17,$AI$14:$AR$17,2,FALSE) -> 1 | T17: =VLOOKUP($R17,$AI$14:$AR$17,3,FALSE) -> 3 | U17: =VLOOKUP($R17,$AI$14:$AR$17,4,FALSE) -> 0 | V17: =VLOOKUP($R17,$AI$14:$AR$17,5,FALSE) -> 1 | W17: =VLOOKUP($R17,$AI$14:$AR$17,6,FALSE) -> 2 | X17: =VLOOKUP($R17,$AI$14:$AR$17,7,FALSE) -> 2 | Y17: =VLOOKUP($R17,$AI$14:$AR$17,8,FALSE) -> 5 | Z17: =VLOOKUP($R17,$AI$14:$AR$17,9,FALSE) -> -3 | AA17: =IF(SUM($AK$14:$AK$17)=12,MIN(ABS(BS16-BS17),ABS(BS17-BS27)),100) -> 9.70211e+08 | AB17: =IF(AND(AA17>=0,AA17<90),VLOOKUP(Q17,$BO$14:$BP$17,2,0),"") | AF17: =VLOOKUP($R17,$AI$14:$AR$17,10,FALSE) -> 9.70211e+08 | AG17: =RANK(AU17,$AU$14:$AU$17) -> 4 | AH17: =RANK(AR17,$AR$14:$AR$17) -> 4 | AI17: =A16 -> Catar | AJ17: =AL17*3+AM17*1+AN17*0 -> 1 | AK17: =COUNTIFS($I$12:$I$17,AI17,$K$12:$K$17,"<>",$L$12:$L$17,"<>")+COUNTIFS($N$12:$N$17,AI17,$L$12:$L$17,"<>",$K$12:$K$17,"<>") -> 3 | AL17: {=SUM((I$12:I$17=AI17)*(K$12:K$17<>"")*(L$12:L$17<>"")*(K$12:K$17>L$12:L$17),(N$12:N$17=AI17)*(K$12:K$17<>"")*(L$12:L$17<>"")*(K$12:K$17<L$12:L$17))} -> 0 | AM17: {=SUM((I$12:I$17=AI17)*(K$12:K$17<>"")*(L$12:L$17<>"")*(K$12:K$17=L$12:L$17),(N$12:N$17=AI17)*(K$12:K$17<>"")*(L$12:L$17<>"")*(K$12:K$17=L$12:L$17))} -> 1 | AN17: {=SUM((I$12:I$17=AI17)*(L$12:L$17<>"")*(K$12:K$17<>"")*(K$12:K$17<L$12:L$17),(K$12:K$17<>"")*(N$12:N$17=AI17)*(L$12:L$17<>"")*(K$12:K$17>L$12:L$17))} -> 2 | AO17: {=SUMIFS($K$12:$K$17,$I$12:$I$17,AI17,$K$12:$K$17,"<>",$L$12:$L$17,"<>")+SUMIFS($L$12:$L$17,$N$12:$N$17,AI17,$K$12:$K$17,"<>",$L$12:$L$17,"<>")} -> 2 | AP17: {=SUMIFS($K$12:$K$17,$N$12:$N$17,AI17,$K$12:$K$17,"<>",$L$12:$L$17,"<>")+SUMIFS($L$12:$L$17,$I$12:$I$17,AI17,$K$12:$K$17,"<>",$L$12:$L$17,"<>")} -> 5 | AQ17: =AO17-AP17 -> -3 | AR17: =IF(AK17=0,-($AW$9*VLOOKUP(AI17,Tabla3[[NombreEquipo]:[Rank]],3,FALSE)),AJ17*$AW$4+AQ17*$AW$5+AO17*$AW$6+BA17-($AW$9*VLOOKUP(AI17,Tabla3[[NombreEquipo]:[Rank]],3,FALSE)/100)) -> 9.70211e+08 | AS17: =AH17 -> 4 | AU17: =IFERROR(AR17-VLOOKUP(AI17,$AB$14:$AC$17,2,0),AR17) -> 9.70211e+08 | AY17: =AI17 -> Catar | AZ17: =COUNTIF(AJ14:AJ17,AJ17) -> 1 | BA17: =(BB17*$AW$8)+(BH17*$AW$7) -> 11000 | BB17: =RANK(BC17,BC14:BC17,1) -> 1 | BC17: =SUM(IF(AND(AJ17=AJ14,AQ17=AQ14,AO17=AO14),BD17,0),IF(AND(AJ17=AJ15,AQ17=AQ15,AO17=AO15),BE17,0),IF(AND(AJ17=AJ16,AQ17=AQ16,AO17=AO16),BF17,0)) -> 0 | BD17: {=SUMIFS($K$12:$K$17,$I$12:$I$17,$AY17,$K$12:$K$17,"<>",$L$12:$L$17,"<>",$N$12:$N$17,BD13)+SUMIFS($L$12:$L$17,$I$12:$I$17,BD13,$K$12:$K$17,"<>",$L$12:$L$17,"<>",$N$12:$N$17,$AY17)} -> 0 | BE17: {=SUMIFS($K$12:$K$17,$I$12:$I$17,$AY17,$K$12:$K$17,"<>",$L$12:$L$17,"<>",$N$12:$N$17,BE13)+SUMIFS($L$12:$L$17,$I$12:$I$17,BE13,$K$12:$K$17,"<>",$L$12:$L$17,"<>",$N$12:$N$17,$AY17)} -> 0 | BF17: {=SUMIFS($K$12:$K$17,$I$12:$I$17,$AY17,$K$12:$K$17,"<>",$L$12:$L$17,"<>",$N$12:$N$17,BF13)+SUMIFS($L$12:$L$17,$I$12:$I$17,BF13,$K$12:$K$17,"<>",$L$12:$L$17,"<>",$N$12:$N$17,$AY17)} -> 2 | BG17: 0 | BH17: =RANK(BI17,BI14:BI17,1) -> 1 | BI17: =SUM(IF(AND(AJ17=AJ14,AQ17=AQ14,AO17=AO14),BJ17,0),IF(AND(AJ17=AJ15,AQ17=AQ15,AO17=AO15),BK17,0),IF(AND(AJ17=AJ16,AQ17=AQ16,AO17=AO16),BL17,0)) -> 0 | BJ17: =BD17-BG14 -> -2 | BK17: =BE17-BG15 -> -1 | BL17: =BF17-BG16 -> 0 | BM17: 0 | BN17: 4 | BO17: =RANK(BQ17,$BQ$14:$BQ$17) -> 4 | BP17: =A16 -> Catar | BQ17: =IF(AK17=0,-($AW$9*VLOOKUP(AI17,Tabla3[[NombreEquipo]:[Rank]],3,FALSE)),AJ17*$AW$4+AQ17*$AW$5+AO17*$AW$6+BA17-($AW$9*VLOOKUP(AI17,Tabla3[[NombreEquipo]:[Rank]],3,FALSE)/100)) -> 9.70211e+08 | BR17: =VLOOKUP(Q17,$AH$14:$AI$17,2,0) -> Catar | BS17: =VLOOKUP($BR17,$AI$14:$AR$17,10,FALSE) -> 9.70211e+08 | BU17: 4 | BV17: =VLOOKUP(BU17,$AH$14:$AI$17,2,0) -> Catar | BW17: =VLOOKUP(BV17,$AI$14:$AR$17,2,FALSE) -> 1 | BX17: =IF(SUM($AK$14:$AK$17)=12,MIN(ABS(BS16-BS17),ABS(BS17-BS27)),100) -> 9.70211e+08 | BY17: =VLOOKUP($BV17,$AI$14:$AR$17,9,FALSE) -> -3 | BZ17: =VLOOKUP($BV17,$AI$14:$AR$17,7,FALSE) -> 2 | CA17: {=IF($CB$14=$CD$13,$DF$13:$DF$16,IF(OR($CB$14=$CF$13,$CB$14=$CJ$13),$DJ$13:$DJ$14,IF($CB$14=$CH$13,$DI$13:$DI$15,$DO$13)))} -> 4 | CC17: 4 | CD17: {=IF(AND($BW$14:$BW$17=$BW$17,$BX$14:$BX$17<90,$AQ$14:$AQ$17=$AQ$17,$BZ$14:$BZ$17=$BZ$17),1,0)} -> 0 | CE17: {=IF(AND($BW$14:$BW$16=$BW$14,$BX$14:$BX$16<90,$BX$17>90,$BW$14<>$BW$17),1,0)} -> 0 | CF17: {=IF(AND($BW$16:$BW$17=$BW$16,$BX$16:$BX$17<90,$BW$16<>$BW$15),1,0)} -> 0 | CG17: {=IF(AND($BW$17<>$BW$15,$BW$17<>$BW$14),1,0)} -> 1 | CH17: {=IF(AND($BW$15:$BW$17=$BW$15,$BX$15:$BX$17<90,$BW$14<>$BW$17),1,0)} -> 0 | CI17: {=IF(AND($BW$17<>$BW$15,$BW$17<>$BW$14),1,0)} -> 1 | CJ17: {=IF(AND($BW$16:$BW$17=$BW$16,$BX$16:$BX$17<90,$BW$16<>$BW$15),1,0)} -> 0 | CK17: {=IF(AND($BW$17<>$BW$15,$BW$17<>$BW$14),1,0)} -> 1 | CL17: {=IF(AND($BW$14:$BW$17=$BW$14,$BX$14:$BX$17<90,$BY$16:$BY$17=$BY$17,$BY$15<>$BY$17),1,0)} -> 0 | CM17: {=IF(AND($BW$14:$BW$17=$BW$14,$BX$14:$BX$17<90,$BY$14:$BY$17=$BY$14,$BZ$16=$BZ$17,$BZ$15<>$BZ$16),1,0)} -> 0 | CN17: {=IF(AND($BW$14:$BW$16=$BW$14,$BX$14:$BX$15<90,$BW$16<>$BW$17),1,0)} -> 0 | CO17: {=IF(AND($BW$15<>$BW$14,$BW$15:$BW$17=$BW$16,$BX$15>90,$BX$16:$BX$17<90),1,0)} -> 0 | CP17: {=IF(AND($BW$15<>$BW$14,$BW$15:$BW$17=$BW$15,$BX$17>90,$BX$15:$BX$16<90),1,0)} -> 0 | CQ17: {=IF(AND($BW$17<>$BW$15,$BW$17<>$BW$16),1,0)} -> 1 | CR17: {=IF(AND($BW$14:$BW$17=$BW$15,$BX$15:$BX$17<90,$BX$14<>$BX$17),1,0)} -> 0 | CS17: {=IF(AND($BW$14:$BW$17=$BW$14,$BX$14:$BX$16<90,$BX$16<>$BX$17),1,0)} -> 0 | CT17: {=IF(AND($BW$14:$BW$17=$BW$17,$BX$14:$BX$15>90,$BX$16:$BX$17<90,$BY$14:$BY$17=$BY$17,$BZ$14>$BZ$15,$BZ$15>$BZ$17,$BZ$16=$BZ$17),1,0)} -> 0 | CU17: {=IF(AND($BW$14:$BW$17=$BW$15,$BX$14>90,$BX$15:$BX$16<90,$BX$17>90,$BY$14:$BY$17=$BY$17,$BZ$14>$BZ$17,$BZ$15=$BZ$16,$BZ$15>$BZ$17),1,0)} -> 0 | CV17: {=IF(AND($BW$14:$BW$17=$BW$17,$BX$14:$BX$15<90,$BX$16:$BX$17>90,$BY$14:$BY$17=$BY$17,$BZ$14=$BZ$15,$BZ$15>$BZ$16,$BZ$16>$BZ$17),1,0)} -> 0 | CW17: {=IF(AND($BW$14:$BW$17=$BW$17,$BX$14:$BX$15>90,$BX$16:$BX$17<90,$BY$14:$BY$17=$BY$17,$BZ$14>$BZ$17,$BZ$15:$BZ$17=$BZ$17),1,0)} -> 0 | CX17: {=IF(AND($BW$14:$BW$17=$BW$17,$BX$14:$BX$15<90,$BX$16:$BX$17>90,$BY$14:$BY$17=$BY$17,$BZ$14:$BZ$16=$BZ$16,$BZ$14:$BZ$16>$BZ$17),1,0)} -> 0 | CY17: {=IF(AND($BW$14:$BW$17=$BW$17,$BX$14>90,$BX$17>90,$BX$15:$BX$16<90,$BY$14:$BY$17=$BY$17,$BZ$14>$BZ$15:$BZ$17,$BZ$15:$BZ$17=$BZ$17),1,0)} -> 0
F19: =F3 -> Fecha | G19: =G3 -> Hora | H19: =H3 -> Jor. | I19: =I3 -> Casa | K19: =K3 -> Gol | L19: =L3 -> Gol | N19: =N3 -> Fuera | CD19: 1 | CE19: 12 | CF19: 18 | CG19: 19 | CH19: 13 | CI19: 20 | CJ19: 21 | CK19: 22 | CL19: 3 | CM19: 2 | CN19: 14 | CO19: 17 | CP19: 16 | CQ19: 15 | CR19: 4 | CS19: 5 | CT19: 10 | CU19: 8 | CV19: 6 | CW19: 11 | CX19: 7 | CY19: 9 | CZ19: - | DA19: - | DF19: OP1 | DG19: OP2 | DH19: OP3 | DI19: OP4 | DJ19: OP5 | DK19: OP6 | DL19: OP7 | DM19: OP8 | DN19: OP9 | DO19: OP10
A20: NombreEquipo | B20: C | C20: =COUNTIF(Equipos!$C$2:$C$13,'COPA AMERICA'!B20) -> 4 | E20: C | F20: 43632 | G20: =BV53+VLOOKUP($G$2,$BO$39:$BS$51,4,0)*VLOOKUP($G$2,$BO$39:$BS$51,5,0) -> 43632.792 | H20: J1 | I20: =A21 -> Uruguay | K20: 4 | L20: 0 | N20: =A22 -> Ecuador | O20: =IF(NOT(OR(ISBLANK(K20),ISBLANK(L20))),1,0) -> 1 | Q20: =CONCATENATE("Grupo"," ",B20) -> Grupo C | AB20: ¡EMPATE! Puedes seleccionar el orden de los empatados. | AH20: =CONCATENATE("Auxiliar - ",Q20) -> Auxiliar - Grupo C | AU20: NR | AY20: =CONCATENATE(Q20," - GOLAVERAGE") -> Grupo C - GOLAVERAGE | BB20: Goles - Partidos Cruzados | BH20: Diferencia de Goles - Partidos Cruzados | CB20: Valor | CC20: Sum | CD20: =SUM(CD22:CD25) -> 0 | CE20: =SUM(CE22:CE25) -> 0 | CF20: =SUM(CF22:CF25) -> 0 | CG20: =SUM(CG22:CG25) -> 2 | CH20: =SUM(CH22:CH25) -> 0 | CI20: =SUM(CI22:CI25) -> 2 | CJ20: =SUM(CJ22:CJ25) -> 2 | CK20: =SUM(CK22:CK25) -> 3 | ... DA20: =SUM(DA22:DA25) -> 0 | DF20: 1234 | DG20: 123 | DH20: 12 | DI20: 234 | DJ20: 34 | DK20: 23 | DL20: 1 | DM20: 2 | DN20: 3 | DO20: 4
A21: {=IF(ROWS(A$21:A21)<=$C$20,INDEX(INDIRECT(A$20),SMALL(IF(Nivell=$B$20,ROW(Nivell)-ROW(Equipos!$C$2)+1),ROWS(B$20:B20))),"")} -> Uruguay | F21: 43633 | G21: =BV54+VLOOKUP($G$2,$BO$39:$BS$51,4,0)*VLOOKUP($G$2,$BO$39:$BS$51,5,0) -> 43633.833 | H21: J1 | I21: =A23 -> Japón | K21: 0 | L21: 4 | N21: =A24 -> Chile | O21: =IF(NOT(OR(ISBLANK(K21),ISBLANK(L21))),1,0) -> 1 | Q21: Pos | R21: Selección | S21: Pts | T21: J | U21: G | V21: E | W21: P | X21: GF | Y21: GC | Z21: DG | AA21: =COUNTIF(AA22:AA25,"<100") -> 0 | AG21: NR | AH21: Puesto | AI21: Equipo | AJ21: Ptos | AK21: J | AL21: G | AM21: E | AN21: P | AO21: GF | AP21: GC | AQ21: Dif | AR21: Rank | AS21: Puesto | AY21: Equipo | AZ21: NEquipEqual | BA21: PUNTOS | BB21: Ranking Inv | BC21: Entre Iguales | BD21: =AY22 -> Uruguay | BE21: =AY23 -> Ecuador | BF21: =AY24 -> Japón | BG21: =AY25 -> Chile | BH21: Ranking Inv | BI21: Entre Iguales | BJ21: =BD21 -> Uruguay | BK21: =BE21 -> Ecuador | BL21: =BF21 -> Japón | BM21: =BG21 -> Chile | BP21: Inicio | BR21: 1R | BV21: Equipo | BW21: Ptos | BX21: Signo | BY21: Dif | BZ21: Gf | CC21: Com | CD21: COM_1 | CE21: COM_2 | CF21: COM_3 | CG21: COM_4 | CH21: COM_5 | CI21: COM_6 | CJ21: COM_7 | CK21: COM_8 | CL21: COM_3 | CM21: COM_3 | CN21: COM_4 | CO21: COM_7 | CP21: COM_6 | CQ21: COM_6 | CR21: COM_5 | CS21: COM_2 | CT21: COM_7 | CU21: COM_6 | CV21: COM_4 | CW21: COM_7 | CX21: COM_4 | CY21: COM_6 | DF21: 1 | DG21: 1 | DH21: 1 | DI21: 2 | DJ21: 3 | DK21: 2 | DL21: 1 | DM21: 2 | DN21: 3 | DO21: 4
A22: {=IF(ROWS(A$21:A22)<=$C$20,INDEX(INDIRECT(A$20),SMALL(IF(Nivell=$B$20,ROW(Nivell)-ROW(Equipos!$C$2)+1),ROWS(B$20:B21))),"")} -> Ecuador | F22: 43636 | G22: =BV55+VLOOKUP($G$2,$BO$39:$BS$51,4,0)*VLOOKUP($G$2,$BO$39:$BS$51,5,0) -> 43636.833 | H22: J2 | I22: =A21 -> Uruguay | K22: 2 | L22: 0 | N22: =A23 -> Japón | O22: =IF(NOT(OR(ISBLANK(K22),ISBLANK(L22))),1,0) -> 1 | Q22: 1 | R22: =VLOOKUP(Q22,$AG$22:$AI$25,3,0) -> Uruguay | S22: =VLOOKUP(R22,$AI$22:$AR$25,2,FALSE) -> 9 | T22: =VLOOKUP($R22,$AI$22:$AR$25,3,FALSE) -> 3 | U22: =VLOOKUP($R22,$AI$22:$AR$25,4,FALSE) -> 3 | V22: =VLOOKUP($R22,$AI$22:$AR$25,5,FALSE) -> 0 | W22: =VLOOKUP($R22,$AI$22:$AR$25,6,FALSE) -> 0 | X22: =VLOOKUP($R22,$AI$22:$AR$25,7,FALSE) -> 7 | Y22: =VLOOKUP($R22,$AI$22:$AR$25,8,FALSE) -> 0 | Z22: =VLOOKUP($R22,$AI$22:$AR$25,9,FALSE) -> 7 | AA22: =IF(SUM($AK$22:$AK$25)=12,MIN(ABS(BS21-BS22),ABS(BS22-BS23)),100) -> 3.0301e+09 | AB22: =IF(AND(AA22>=0,AA22<90),VLOOKUP(Q22,$BO$22:$BP$25,2,0),"") | AF22: =VLOOKUP($R22,$AI$22:$AR$25,10,FALSE) -> 9.070711e+09 | AG22: =RANK(AU22,$AU$22:$AU$25) -> 1 | AH22: =RANK(AR22,$AR$22:$AR$25) -> 1 | AI22: =A21 -> Uruguay | AJ22: =AL22*3+AM22*1+AN22*0 -> 9 | AK22: =COUNTIFS($I$20:$I$25,AI22,$K$20:$K$25,"<>",$L$20:$L$25,"<>")+COUNTIFS($N$20:$N$25,AI22,$L$20:$L$25,"<>",$K$20:$K$25,"<>") -> 3 | AL22: {=SUM((I$20:I$25=AI22)*(K$20:K$25<>"")*(L$20:L$25<>"")*(K$20:K$25>L$20:L$25),(N$20:N$25=AI22)*(K$20:K$25<>"")*(L$20:L$25<>"")*(K$20:K$25<L$20:L$25))} -> 3 | AM22: {=SUM((I$20:I$25=AI22)*(K$20:K$25<>"")*(L$20:L$25<>"")*(K$20:K$25=L$20:L$25),(N$20:N$25=AI22)*(K$20:K$25<>"")*(L$20:L$25<>"")*(K$20:K$25=L$20:L$25))} -> 0 | AN22: {=SUM((I$20:I$25=AI22)*(L$20:L$25<>"")*(K$20:K$25<>"")*(K$20:K$25<L$20:L$25),(K$20:K$25<>"")*(N$20:N$25=AI22)*(L$20:L$25<>"")*(K$20:K$25>L$20:L$25))} -> 0 | AO22: {=SUMIFS($K$20:$K$25,$I$20:$I$25,AI22,$K$20:$K$25,"<>",$L$20:$L$25,"<>")+SUMIFS($L$20:$L$25,$N$20:$N$25,AI22,$K$20:$K$25,"<>",$L$20:$L$25,"<>")} -> 7 | AP22: {=SUMIFS($K$20:$K$25,$N$20:$N$25,AI22,$K$20:$K$25,"<>",$L$20:$L$25,"<>")+SUMIFS($L$20:$L$25,$I$20:$I$25,AI22,$K$20:$K$25,"<>",$L$20:$L$25,"<>")} -> 0 | AQ22: =AO22-AP22 -> 7 | AR22: =IF(AK22=0,-($AW$9*VLOOKUP(AI22,Tabla3[[NombreEquipo]:[Rank]],3,FALSE)),AJ22*$AW$4+AQ22*$AW$5+AO22*$AW$6+BA22-($AW$9*VLOOKUP(AI22,Tabla3[[NombreEquipo]:[Rank]],3,FALSE)/100)) -> 9.070711e+09 | AS22: =AH22 -> 1 | AU22: =IFERROR(AR22-VLOOKUP(AI22,$AB$22:$AC$25,2,0),AR22) -> 9.070711e+09 | AY22: =AI22 -> Uruguay | AZ22: =COUNTIF(AJ22:AJ25,AJ22) -> 1 | BA22: =(BB22*$AW$8)+(BH22*$AW$7) -> 11000 | BB22: =RANK(BC22,BC22:BC25,1) -> 1 | BC22: =SUM(IF(AND(AJ22=AJ23,AQ22=AQ23,AO22=AO23),BE22,0),IF(AND(AJ22=AJ24,AQ22=AQ24,AO22=AO24),BF22,0),IF(AND(AJ22=AJ25,AQ22=AQ25,AO22=AO25),BG22,0)) -> 0 | BD22: 0 | BE22: {=SUMIFS($K$20:$K$25,$I$20:$I$25,$AY22,$K$20:$K$25,"<>",$L$20:$L$25,"<>",$N$20:$N$25,BE21)+SUMIFS($L$20:$L$25,$I$20:$I$25,BE21,$K$20:$K$25,"<>",$L$20:$L$25,"<>",$N$20:$N$25,$AY22)} -> 4 | BF22: {=SUMIFS($K$20:$K$25,$I$20:$I$25,$AY22,$K$20:$K$25,"<>",$L$20:$L$25,"<>",$N$20:$N$25,BF21)+SUMIFS($L$20:$L$25,$I$20:$I$25,BF21,$K$20:$K$25,"<>",$L$20:$L$25,"<>",$N$20:$N$25,$AY22)} -> 2 | BG22: {=SUMIFS($K$20:$K$25,$I$20:$I$25,$AY22,$K$20:$K$25,"<>",$L$20:$L$25,"<>",$N$20:$N$25,BG21)+SUMIFS($L$20:$L$25,$I$20:$I$25,BG21,$K$20:$K$25,"<>",$L$20:$L$25,"<>",$N$20:$N$25,$AY22)} -> 1 | BH22: =RANK(BI22,BI22:BI25,1) -> 1 | BI22: =SUM(IF(AND(AJ22=AJ23,AQ22=AQ23,AO22=AO23),BK22,0),IF(AND(AJ22=AJ24,AQ22=AQ24,AO22=AO24),BL22,0),IF(AND(AJ22=AJ25,AQ22=AQ25,AO22=AO25),BM22,0)) -> 0 | BJ22: 0 | BK22: =BE22-BD23 -> 4 | BL22: =BF22-BD24 -> 2 | BM22: =BG22-BD25 -> 1 | BN22: 1 | BO22: =RANK(BQ22,$BQ$22:$BQ$25) -> 1 | BP22: =A21 -> Uruguay | BQ22: =IF(AK22=0,-($AW$9*VLOOKUP(AI22,Tabla3[[NombreEquipo]:[Rank]],3,FALSE)),AJ22*$AW$4+AQ22*$AW$5+AO22*$AW$6+BA22-($AW$9*VLOOKUP(AI22,Tabla3[[NombreEquipo]:[Rank]],3,FALSE)/100)) -> 9.070711e+09 | BR22: =VLOOKUP(Q22,$AH$22:$AI$25,2,0) -> Uruguay | BS22: =VLOOKUP($BR22,$AI$22:$AR$25,10,FALSE) -> 9.070711e+09 | BU22: 1 | BV22: =VLOOKUP(BU22,$AH$22:$AI$25,2,0) -> Uruguay | BW22: =VLOOKUP(BV22,$AI$22:$AR$25,2,FALSE) -> 9 | BX22: =IF(SUM($AK$22:$AK$25)=12,MIN(ABS(BS21-BS22),ABS(BS22-BS23)),100) -> 3.0301e+09 | BY22: =VLOOKUP($BV22,$AI$22:$AR$25,9,FALSE) -> 7 | BZ22: =VLOOKUP($BV22,$AI$22:$AR$25,7,FALSE) -> 7 | CA22: {=IF($CB$22=$CD$21,$DF$21:$DF$24,IF($CB$22=$CE$21,$DG$21:$DG$23,IF(OR($CB$22=$CF$21,$CB$22=$CG$21),$DH$21:$DH$22,$DL$21)))} -> 1 | CB22: =IFERROR(HLOOKUP(4,CD20:DA21,2,0),CK21) -> COM_8 | CC22: 1 | CD22: {=IF(AND($BW$22:$BW$25=$BW$22,$BX$22:$BX$25<90,$AQ$22:$AQ$25=$AQ$22,$BZ$22:$BZ$25=$BZ$22),1,0)} -> 0 | CE22: {=IF(AND($BW$22:$BW$24=$BW$22,$BX$22:$BX$24<90,$BW$22<>$BW$25),1,0)} -> 0 | CF22: {=IF(AND($BW$22:$BW$23=$BW$22,$BX$22:$BX$23<90,$BW$22<>$BW$24),1,0)} -> 0 | CG22: {=IF(AND($BW$22:$BW$23=$BW$22,$BX$22:$BX$23<90,$BW$22<>$BW$24),1,0)} -> 0 | CH22: {=IF(AND($BW$23:$BW$25=$BW$23,$BX$23:$BX$25<90,$BW$22<>$BW$23),1,0)} -> 0 | CI22: {=IF(AND($BW$22<>$BW$23,$BW$22<>$BW$25),1,0)} -> 1 | CJ22: {=IF(AND($BW$22<>$BW$23,$BW$22<>$BW$25),1,0)} -> 1 | CK22: {=IF(AND($BW$22<>$BW$23,$BW$22<>$BW$25),1,0)} -> 1 | CL22: {=IF(AND($BW$22:$BW$25=$BW$22,$BX$22:$BX$25<90,$BY$22:$BY$23=$BY$22,$BY$22<>$BY$24),1,0)} -> 0 | CM22: {=IF(AND($BW$22:$BW$25=$BW$22,$BX$22:$BX$25<90,$BY$22:$BY$25=$BY$22,$BZ$22=$BZ$23,$BZ$22<>$BZ$24),1,0)} -> 0 | CN22: {=IF(AND($BW$22:$BW$24=$BW$22,$BX$22:$BX$23<90,$BX$24>90),1,0)} -> 0 | CO22: {=IF(AND($BW$22<>$BW$23,$BW$22<>$BW$24),1,0)} -> 1 | CP22: {=IF(AND($BW$22<>$BW$23,$BW$22<>$BW$24),1,0)} -> 1 | CQ22: {=IF(AND($BW$22<>$BW$25,$BW$22:$BW$24=$BW$22,$BX$22>90,$BX$23:$BX$24<90),1,0)} -> 0 | CR22: {=IF(AND($BW$22:$BW$25=$BW$22,$BX$23:$BX$25<90,$BX$22<>$BX$23),1,0)} -> 0 | CS22: {=IF(AND($BW$22:$BW$25=$BW$22,$BX$22:$BX$24<90,$BX$22<>$BX$25),1,0)} -> 0 | CT22: {=IF(AND($BW$22:$BW$25=$BW$22,$BX$22:$BX$23>90,$BX$24:$BX$25<90,$BY$22:$BY$25=$BY$22,$BZ$22>$BZ$23,$BZ$22>$BZ$24,$BZ$22>$BZ$25),1,0)} -> 0 | CU22: {=IF(AND($BW$22:$BW$25=$BW$22,$BX$22>90,$BX$23:$BX$24<90,$BX$25>90,$BY$22:$BY$25=$BY$22,$BZ$22>$BZ$23,$BZ$22>$BZ$24,$BZ$22>$BZ$25),1,0)} -> 0 | CV22: {=IF(AND($BW$22:$BW$25=$BW$22,$BX$22:$BX$23<90,$BX$24:$BX$25>90,$BY$22:$BY$25=$BY$22,$BZ$22=$BZ$23,$BZ$22>$BZ$24,$BZ$22>$BZ$25),1,0)} -> 0 | CW22: {=IF(AND($BW$22:$BW$25=$BW$22,$BX$22:$BX$23>90,$BX$24:$BX$25<90,$BY$22:$BY$25=$BY$22,$BZ$22>$BZ$23,$BZ$23:$BZ$25=$BZ$23),1,0)} -> 0 | CX22: {=IF(AND($BW$22:$BW$25=$BW$22,$BX$22:$BX$23<90,$BX$24:$BX$25>90,$BY$22:$BY$25=$BY$22,$BZ$22:$BZ$24=$BZ$22,$BZ$22>$BZ$25),1,0)} -> 0 | CY22: {=IF(AND($BW$22:$BW$25=$BW$22,$BX$22>90,$BX$25>90,$BX$23:$BX$24<90,$BY$22:$BY$25=$BY$22,$BZ$22>$BZ$23:$BZ$25),1,0)} -> 0 | DF22: 2 | DG22: 2 | DH22: 2 | DI22: 3 | DJ22: 4 | DK22: 3
A23: {=IF(ROWS(A$21:A23)<=$C$20,INDEX(INDIRECT(A$20),SMALL(IF(Nivell=$B$20,ROW(Nivell)-ROW(Equipos!$C$2)+1),ROWS(B$20:B22))),"")} -> Japón | F23: 43637 | G23: =BV56+VLOOKUP($G$2,$BO$39:$BS$51,4,0)*VLOOKUP($G$2,$BO$39:$BS$51,5,0) -> 43637.833 | H23: J2 | I23: =A22 -> Ecuador | K23: 1 | L23: 2 | N23: =A24 -> Chile | O23: =IF(NOT(OR(ISBLANK(K23),ISBLANK(L23))),1,0) -> 1 | Q23: 2 | R23: =VLOOKUP(Q23,$AG$22:$AI$25,3,0) -> Chile | S23: =VLOOKUP(R23,$AI$22:$AR$25,2,FALSE) -> 6 | T23: =VLOOKUP($R23,$AI$22:$AR$25,3,FALSE) -> 3 | U23: =VLOOKUP($R23,$AI$22:$AR$25,4,FALSE) -> 2 | V23: =VLOOKUP($R23,$AI$22:$AR$25,5,FALSE) -> 0 | W23: =VLOOKUP($R23,$AI$22:$AR$25,6,FALSE) -> 1 | X23: =VLOOKUP($R23,$AI$22:$AR$25,7,FALSE) -> 6 | Y23: =VLOOKUP($R23,$AI$22:$AR$25,8,FALSE) -> 2 | Z23: =VLOOKUP($R23,$AI$22:$AR$25,9,FALSE) -> 4 | AA23: =IF(SUM($AK$22:$AK$25)=12,MIN(ABS(BS22-BS23),ABS(BS23-BS24)),100) -> 3.0301e+09 | AB23: =IF(AND(AA23>=0,AA23<90),VLOOKUP(Q23,$BO$22:$BP$25,2,0),"") | AF23: =VLOOKUP($R23,$AI$22:$AR$25,10,FALSE) -> 6.040611e+09 | AG23: =RANK(AU23,$AU$22:$AU$25) -> 3 | AH23: =RANK(AR23,$AR$22:$AR$25) -> 3 | AI23: =A22 -> Ecuador | AJ23: =AL23*3+AM23*1+AN23*0 -> 1 | AK23: =COUNTIFS($I$20:$I$25,AI23,$K$20:$K$25,"<>",$L$20:$L$25,"<>")+COUNTIFS($N$20:$N$25,AI23,$L$20:$L$25,"<>",$K$20:$K$25,"<>") -> 3 | AL23: {=SUM((I$20:I$25=AI23)*(K$20:K$25<>"")*(L$20:L$25<>"")*(K$20:K$25>L$20:L$25),(N$20:N$25=AI23)*(K$20:K$25<>"")*(L$20:L$25<>"")*(K$20:K$25<L$20:L$25))} -> 0 | AM23: {=SUM((I$20:I$25=AI23)*(K$20:K$25<>"")*(L$20:L$25<>"")*(K$20:K$25=L$20:L$25),(N$20:N$25=AI23)*(K$20:K$25<>"")*(L$20:L$25<>"")*(K$20:K$25=L$20:L$25))} -> 1 | AN23: {=SUM((I$20:I$25=AI23)*(L$20:L$25<>"")*(K$20:K$25<>"")*(K$20:K$25<L$20:L$25),(K$20:K$25<>"")*(N$20:N$25=AI23)*(L$20:L$25<>"")*(K$20:K$25>L$20:L$25))} -> 2 | AO23: {=SUMIFS($K$20:$K$25,$I$20:$I$25,AI23,$K$20:$K$25,"<>",$L$20:$L$25,"<>")+SUMIFS($L$20:$L$25,$N$20:$N$25,AI23,$K$20:$K$25,"<>",$L$20:$L$25,"<>")} -> 2 | AP23: {=SUMIFS($K$20:$K$25,$N$20:$N$25,AI23,$K$20:$K$25,"<>",$L$20:$L$25,"<>")+SUMIFS($L$20:$L$25,$I$20:$I$25,AI23,$K$20:$K$25,"<>",$L$20:$L$25,"<>")} -> 7 | AQ23: =AO23-AP23 -> -5 | AR23: =IF(AK23=0,-($AW$9*VLOOKUP(AI23,Tabla3[[NombreEquipo]:[Rank]],3,FALSE)),AJ23*$AW$4+AQ23*$AW$5+AO23*$AW$6+BA23-($AW$9*VLOOKUP(AI23,Tabla3[[NombreEquipo]:[Rank]],3,FALSE)/100)) -> 9.50211e+08 | AS23: =AH23 -> 3 | AU23: =IFERROR(AR23-VLOOKUP(AI23,$AB$22:$AC$25,2,0),AR23) -> 9.50211e+08 | AY23: =AI23 -> Ecuador | AZ23: =COUNTIF(AJ22:AJ25,AJ23) -> 2 | BA23: =(BB23*$AW$8)+(BH23*$AW$7) -> 11000 | BB23: =RANK(BC23,BC22:BC25,1) -> 1 | BC23: =SUM(IF(AND(AJ23=AJ24,AQ23=AQ24,AO23=AO24),BF23,0),IF(AND(AJ23=AJ25,AQ23=AQ25,AO23=AO25),BG23,0),IF(AND(AJ23=AJ22,AQ23=AQ22,AO23=AO22),BD23,0)) -> 0 | BD23: {=SUMIFS($K$20:$K$25,$I$20:$I$25,$AY23,$K$20:$K$25,"<>",$L$20:$L$25,"<>",$N$20:$N$25,BD21)+SUMIFS($L$20:$L$25,$I$20:$I$25,BD21,$K$20:$K$25,"<>",$L$20:$L$25,"<>",$N$20:$N$25,$AY23)} -> 0 | BE23: 0 | BF23: {=SUMIFS($K$20:$K$25,$I$20:$I$25,$AY23,$K$20:$K$25,"<>",$L$20:$L$25,"<>",$N$20:$N$25,BF21)+SUMIFS($L$20:$L$25,$I$20:$I$25,BF21,$K$20:$K$25,"<>",$L$20:$L$25,"<>",$N$20:$N$25,$AY23)} -> 1 | BG23: {=SUMIFS($K$20:$K$25,$I$20:$I$25,$AY23,$K$20:$K$25,"<>",$L$20:$L$25,"<>",$N$20:$N$25,BG21)+SUMIFS($L$20:$L$25,$I$20:$I$25,BG21,$K$20:$K$25,"<>",$L$20:$L$25,"<>",$N$20:$N$25,$AY23)} -> 1 | BH23: =RANK(BI23,BI22:BI25,1) -> 1 | BI23: =SUM(IF(AND(AJ23=AJ24,AQ23=AQ24,AO23=AO24),BL23,0),IF(AND(AJ23=AJ25,AQ23=AQ25,AO23=AO25),BM23,0),IF(AND(AJ23=AJ22,AQ23=AQ22,AO23=AO22),BJ23,0)) -> 0 | BJ23: =BD23-BE22 -> -4 | BK23: 0 | BL23: =BF23-BE24 -> 0 | BM23: =BG23-BE25 -> -1 | BN23: 2 | BO23: =RANK(BQ23,$BQ$22:$BQ$25) -> 3 | BP23: =A22 -> Ecuador | BQ23: =IF(AK23=0,-($AW$9*VLOOKUP(AI23,Tabla3[[NombreEquipo]:[Rank]],3,FALSE)),AJ23*$AW$4+AQ23*$AW$5+AO23*$AW$6+BA23-($AW$9*VLOOKUP(AI23,Tabla3[[NombreEquipo]:[Rank]],3,FALSE)/100)) -> 9.50211e+08 | BR23: =VLOOKUP(Q23,$AH$22:$AI$25,2,0) -> Chile | BS23: =VLOOKUP($BR23,$AI$22:$AR$25,10,FALSE) -> 6.040611e+09 | BU23: 2 | BV23: =VLOOKUP(BU23,$AH$22:$AI$25,2,0) -> Chile | BW23: =VLOOKUP(BV23,$AI$22:$AR$25,2,FALSE) -> 6 | BX23: =IF(SUM($AK$22:$AK$25)=12,MIN(ABS(BS22-BS23),ABS(BS23-BS24)),100) -> 3.0301e+09 | BY23: =VLOOKUP($BV23,$AI$22:$AR$25,9,FALSE) -> 4 | BZ23: =VLOOKUP($BV23,$AI$22:$AR$25,7,FALSE) -> 6 | CA23: {=IF($CB$22=$CD$21,$DF$21:$DF$24,IF($CB$22=$CE$21,$DG$21:$DG$23,IF(OR($CB$22=$CF$21,$CB$22=$CG$21),$DH$21:$DH$22,IF($CB$22=$CH$21,$DI$21:$DI$23,(IF($CB$22=$CI$21,$DK$21:$DK$22,$DM$21))))))} -> 2 | CC23: 2 | CD23: {=IF(AND($BW$22:$BW$25=$BW$23,$BX$22:$BX$25<90,$AQ$22:$AQ$25=$AQ$23,$BZ$22:$BZ$25=$BZ$23),1,0)} -> 0 | CE23: {=IF(AND($BW$22:$BW$24=$BW$23,$BX$22:$BX$24<90,$BW$23<>$BW$25),1,0)} -> 0 | CF23: {=IF(AND($BW$22:$BW$23=$BW$22,$BX$22:$BX$23<90,$BW$22<>$BW$24),1,0)} -> 0 | CG23: {=IF(AND($BW$22:$BW$23=$BW$22,$BX$22:$BX$23<90,$BW$22<>$BW$24),1,0)} -> 0 | CH23: {=IF(AND($BW$23:$BW$25=$BW$23,$BX$23:$BX$25<90,$BW$22<>$BW$23),1,0)} -> 0 | CI23: {=IF(AND($BW$23:$BW$24=$BW$23,$BX$23:$BX$24<90,$BW$23<>$BW$22,$BW$23<>$BW$25),1,0)} -> 0 | CJ23: {=IF(AND($BW$23<>$BW$22,$BW$23<>$BW$24),1,0)} -> 1 | CK23: {=IF(AND($BW$23<>$BW$22,$BW$23<>$BW$24),1,0)} -> 1 | CL23: {=IF(AND($BW$22:$BW$25=$BW$22,$BX$22:$BX$25<90,$BY$22:$BY$23=$BY$22,$BY$23<>$BY$24),1,0)} -> 0 | CM23: {=IF(AND($BW$22:$BW$25=$BW$22,$BX$22:$BX$25<90,$BY$22:$BY$25=$BY$22,$BZ$22=$BZ$23,$BZ$23<>$BZ$24),1,0)} -> 0 | CN23: {=IF(AND($BW$22:$BW$24=$BW$23,$BX$22:$BX$23<90,$BX$24>90),1,0)} -> 0 | CO23: {=IF(AND($BW$23<>$BW$22,$BW$23:$BW$25=$BW$23,$BX$23>90,$BX$24:$BX$25<90),1,0)} -> 0 | CP23: {=IF(AND($BW$23<>$BW$22,$BW$23:$BW$25=$BW$23,$BX$25>90,$BX$23:$BX$24<90),1,0)} -> 0 | CQ23: {=IF(AND($BW$23<>$BW$25,$BW$22:$BW$24=$BW$23,$BX$22>90,$BX$23:$BX$24<90),1,0)} -> 0 | CR23: {=IF(AND($BW$22:$BW$25=$BW$23,$BX$23:$BX$25<90,$BX$22<>$BX$23),1,0)} -> 0 | CS23: {=IF(AND($BW$22:$BW$25=$BW$23,$BX$22:$BX$24<90,$BX$23<>$BX$25),1,0)} -> 0 | CT23: {=IF(AND($BW$22:$BW$25=$BW$23,$BX$22:$BX$23>90,$BX$24:$BX$25<90,$BY$22:$BY$25=$BY$23,$BZ$22>$BZ$23,$BZ$23>$BZ$24,$BZ$23>$BZ$25),1,0)} -> 0 | CU23: {=IF(AND($BW$22:$BW$25=$BW$23,$BX$22>90,$BX$23:$BX$24<90,$BX$25>90,$BY$22:$BY$25=$BY$23,$BZ$22>$BZ$23,$BZ$23=$BZ$24,$BZ$23>$BZ$25),1,0)} -> 0 | CV23: {=IF(AND($BW$22:$BW$25=$BW$23,$BX$22:$BX$23<90,$BX$24:$BX$25>90,$BY$22:$BY$25=$BY$23,$BZ$22=$BZ$23,$BZ$23>$BZ$24,$BZ$23>$BZ$25),1,0)} -> 0 | CW23: {=IF(AND($BW$22:$BW$25=$BW$23,$BX$22:$BX$23>90,$BX$24:$BX$25<90,$BY$22:$BY$25=$BY$23,$BZ$22>$BZ$23,$BZ$23:$BZ$25=$BZ$23),1,0)} -> 0 | CX23: {=IF(AND($BW$22:$BW$25=$BW$23,$BX$22:$BX$23<90,$BX$24:$BX$25>90,$BY$22:$BY$25=$BY$23,$BZ$22:$BZ$24=$BZ$23,$BZ$23>$BZ$25),1,0)} -> 0 | CY23: {=IF(AND($BW$22:$BW$25=$BW$23,$BX$22>90,$BX$25>90,$BX$23:$BX$24<90,$BY$22:$BY$25=$BY$23,$BZ$22>$BZ$23:$BZ$25,$BZ$23:$BZ$25=$BZ$23),1,0)} -> 0 | DF23: 3 | DG23: 3 | DI23: 4
A24: {=IF(ROWS(A$21:A24)<=$C$20,INDEX(INDIRECT(A$20),SMALL(IF(Nivell=$B$20,ROW(Nivell)-ROW(Equipos!$C$2)+1),ROWS(B$20:B23))),"")} -> Chile | F24: 43640 | G24: =BV57+VLOOKUP($G$2,$BO$39:$BS$51,4,0)*VLOOKUP($G$2,$BO$39:$BS$51,5,0) -> 43640.833 | H24: J3 | I24: =A24 -> Chile | K24: 0 | L24: 1 | N24: =A21 -> Uruguay | O24: =IF(NOT(OR(ISBLANK(K24),ISBLANK(L24))),1,0) -> 1 | Q24: 3 | R24: =VLOOKUP(Q24,$AG$22:$AI$25,3,0) -> Ecuador | S24: =VLOOKUP(R24,$AI$22:$AR$25,2,FALSE) -> 1 | T24: =VLOOKUP($R24,$AI$22:$AR$25,3,FALSE) -> 3 | U24: =VLOOKUP($R24,$AI$22:$AR$25,4,FALSE) -> 0 | V24: =VLOOKUP($R24,$AI$22:$AR$25,5,FALSE) -> 1 | W24: =VLOOKUP($R24,$AI$22:$AR$25,6,FALSE) -> 2 | X24: =VLOOKUP($R24,$AI$22:$AR$25,7,FALSE) -> 2 | Y24: =VLOOKUP($R24,$AI$22:$AR$25,8,FALSE) -> 7 | Z24: =VLOOKUP($R24,$AI$22:$AR$25,9,FALSE) -> -5 | AA24: =IF(SUM($AK$22:$AK$25)=12,MIN(ABS(BS23-BS24),ABS(BS24-BS25)),100) -> 10100000 | AB24: =IF(AND(AA24>=0,AA24<90),VLOOKUP(Q24,$BO$22:$BP$25,2,0),"") | AF24: =VLOOKUP($R24,$AI$22:$AR$25,10,FALSE) -> 9.50211e+08 | AG24: =RANK(AU24,$AU$22:$AU$25) -> 4 | AH24: =RANK(AR24,$AR$22:$AR$25) -> 4 | AI24: =A23 -> Japón | AJ24: =AL24*3+AM24*1+AN24*0 -> 1 | AK24: =COUNTIFS($I$20:$I$25,AI24,$K$20:$K$25,"<>",$L$20:$L$25,"<>")+COUNTIFS($N$20:$N$25,AI24,$L$20:$L$25,"<>",$K$20:$K$25,"<>") -> 3 | AL24: {=SUM((I$20:I$25=AI24)*(K$20:K$25<>"")*(L$20:L$25<>"")*(K$20:K$25>L$20:L$25),(N$20:N$25=AI24)*(K$20:K$25<>"")*(L$20:L$25<>"")*(K$20:K$25<L$20:L$25))} -> 0 | AM24: {=SUM((I$20:I$25=AI24)*(K$20:K$25<>"")*(L$20:L$25<>"")*(K$20:K$25=L$20:L$25),(N$20:N$25=AI24)*(K$20:K$25<>"")*(L$20:L$25<>"")*(K$20:K$25=L$20:L$25))} -> 1 | AN24: {=SUM((I$20:I$25=AI24)*(L$20:L$25<>"")*(K$20:K$25<>"")*(K$20:K$25<L$20:L$25),(K$20:K$25<>"")*(N$20:N$25=AI24)*(L$20:L$25<>"")*(K$20:K$25>L$20:L$25))} -> 2 | AO24: {=SUMIFS($K$20:$K$25,$I$20:$I$25,AI24,$K$20:$K$25,"<>",$L$20:$L$25,"<>")+SUMIFS($L$20:$L$25,$N$20:$N$25,AI24,$K$20:$K$25,"<>",$L$20:$L$25,"<>")} -> 1 | AP24: {=SUMIFS($K$20:$K$25,$N$20:$N$25,AI24,$K$20:$K$25,"<>",$L$20:$L$25,"<>")+SUMIFS($L$20:$L$25,$I$20:$I$25,AI24,$K$20:$K$25,"<>",$L$20:$L$25,"<>")} -> 7 | AQ24: =AO24-AP24 -> -6 | AR24: =IF(AK24=0,-($AW$9*VLOOKUP(AI24,Tabla3[[NombreEquipo]:[Rank]],3,FALSE)),AJ24*$AW$4+AQ24*$AW$5+AO24*$AW$6+BA24-($AW$9*VLOOKUP(AI24,Tabla3[[NombreEquipo]:[Rank]],3,FALSE)/100)) -> 9.40111e+08 | AS24: =AH24 -> 4 | AU24: =IFERROR(AR24-VLOOKUP(AI24,$AB$22:$AC$25,2,0),AR24) -> 9.40111e+08 | AY24: =AI24 -> Japón | AZ24: =COUNTIF(AJ22:AJ25,AJ24) -> 2 | BA24: =(BB24*$AW$8)+(BH24*$AW$7) -> 11000 | BB24: =RANK(BC24,BC22:BC25,1) -> 1 | BC24: =SUM(IF(AND(AJ24=AJ25,AQ24=AQ25,AO24=AO25),BG24,0),IF(AND(AJ24=AJ22,AQ24=AQ22,AO24=AO22),BD24,0),IF(AND(AJ24=AJ23,AQ24=AQ23,AO24=AO23),BE24,0)) -> 0 | BD24: {=SUMIFS($K$20:$K$25,$I$20:$I$25,$AY24,$K$20:$K$25,"<>",$L$20:$L$25,"<>",$N$20:$N$25,BD21)+SUMIFS($L$20:$L$25,$I$20:$I$25,BD21,$K$20:$K$25,"<>",$L$20:$L$25,"<>",$N$20:$N$25,$AY24)} -> 0 | BE24: {=SUMIFS($K$20:$K$25,$I$20:$I$25,$AY24,$K$20:$K$25,"<>",$L$20:$L$25,"<>",$N$20:$N$25,BE21)+SUMIFS($L$20:$L$25,$I$20:$I$25,BE21,$K$20:$K$25,"<>",$L$20:$L$25,"<>",$N$20:$N$25,$AY24)} -> 1 | BF24: 0 | BG24: {=SUMIFS($K$20:$K$25,$I$20:$I$25,$AY24,$K$20:$K$25,"<>",$L$20:$L$25,"<>",$N$20:$N$25,BG21)+SUMIFS($L$20:$L$25,$I$20:$I$25,BG21,$K$20:$K$25,"<>",$L$20:$L$25,"<>",$N$20:$N$25,$AY24)} -> 0 | BH24: =RANK(BI24,BI22:BI25,1) -> 1 | BI24: =SUM(IF(AND(AJ24=AJ25,AQ24=AQ25,AO24=AO25),BM24,0),IF(AND(AJ24=AJ22,AQ24=AQ22,AO24=AO22),BJ24,0),IF(AND(AJ24=AJ23,AQ24=AQ23,AO24=AO23),BK24,0)) -> 0 | BJ24: =BD24-BF22 -> -2 | BK24: =BE24-BF23 -> 0 | BL24: 0 | BM24: =BG24-BF25 -> -4 | BN24: 3 | BO24: =RANK(BQ24,$BQ$22:$BQ$25) -> 4 | BP24: =A23 -> Japón | BQ24: =IF(AK24=0,-($AW$9*VLOOKUP(AI24,Tabla3[[NombreEquipo]:[Rank]],3,FALSE)),AJ24*$AW$4+AQ24*$AW$5+AO24*$AW$6+BA24-($AW$9*VLOOKUP(AI24,Tabla3[[NombreEquipo]:[Rank]],3,FALSE)/100)) -> 9.40111e+08 | BR24: =VLOOKUP(Q24,$AH$22:$AI$25,2,0) -> Ecuador | BS24: =VLOOKUP($BR24,$AI$22:$AR$25,10,FALSE) -> 9.50211e+08 | BU24: 3 | BV24: =VLOOKUP(BU24,$AH$22:$AI$25,2,0) -> Ecuador | BW24: =VLOOKUP(BV24,$AI$22:$AR$25,2,FALSE) -> 1 | BX24: =IF(SUM($AK$22:$AK$25)=12,MIN(ABS(BS23-BS24),ABS(BS24-BS25)),100) -> 10100000 | BY24: =VLOOKUP($BV24,$AI$22:$AR$25,9,FALSE) -> -5 | BZ24: =VLOOKUP($BV24,$AI$22:$AR$25,7,FALSE) -> 2 | CA24: {=IF($CB$22=$CD$21,$DF$21:$DF$24,IF($CB$22=$CE$21,$DG$21:$DG$23,IF(OR($CB$22=$CF$21,$CB$22=$CJ$21),$DJ$21:$DJ$22,IF($CB$22=$CH$21,$DI$21:$DI$23,(IF($CB$22=$CI$21,$DK$21:$DK$22,$DN$21))))))} -> 3 | CC24: 3 | CD24: {=IF(AND($BW$22:$BW$25=$BW$8,$BX$22:$BX$25<90,$AQ$22:$AQ$25=$AQ$8,$BZ$22:$BZ$25=$BZ$8),1,0)} -> 0 | CE24: {=IF(AND($BW$22:$BW$24=$BW$24,$BX$22:$BX$24<90,$BW$24<>$BW$25),1,0)} -> 0 | CF24: {=IF(AND($BW$24:$BW$25=$BW$24,$BX$24:$BX$25<90,$BW$24<>$BW$23),1,0)} -> 0 | CG24: {=IF(OR(AND($BW$24<>$BW$23,$BW$24<>$BW$25),AND($BW$24<>$BW$23,$BW$24=$BW$25,$BX$24>90,$BX$25>90)),1,0)} -> 1 | CH24: {=IF(AND($BW$23:$BW$25=$BW$23,$BX$23:$BX$25<90,$BW$22<>$BW$24),1,0)} -> 0 | CI24: {=IF(AND($BW$23:$BW$24=$BW$24,$BX$23:$BX$24<90,$BW$24<>$BW$22,$BW$24<>$BW$25),1,0)} -> 0 | CJ24: {=IF(AND($BW$24:$BW$25=$BW$24,$BX$24:$BX$25<90,$BW$24<>$BW$23),1,0)} -> 0 | CK24: {=IF(AND($BW$24<>$BW$23,$BW$24<>$BW$25),1,0)} -> 0 | CL24: {=IF(AND($BW$22:$BW$25=$BW$22,$BX$22:$BX$25<90,$BY$24:$BY$25=$BY$24,$BY$23<>$BY$24),1,0)} -> 0 | CM24: {=IF(AND($BW$22:$BW$25=$BW$22,$BX$22:$BX$25<90,$BY$22:$BY$25=$BY$22,$BZ$24=$BZ$25,$BZ$23<>$BZ$24),1,0)} -> 0 | CN24: {=IF(AND($BW$22:$BW$24=$BW$24,$BX$22:$BX$23<90,$BX$24>90),1,0)} -> 0 | CO24: {=IF(AND($BW$23<>$BW$22,$BW$23:$BW$25=$BW$24,$BX$23>90,$BX$24:$BX$25<90),1,0)} -> 0 | CP24: {=IF(AND($BW$23<>$BW$22,$BW$23:$BW$25=$BW$23,$BX$25>90,$BX$23:$BX$24<90),1,0)} -> 0 | CQ24: {=IF(AND($BW$24<>$BW$25,$BW$22:$BW$24=$BW$24,$BX$22>90,$BX$23:$BX$24<90),1,0)} -> 0 | CR24: {=IF(AND($BW$22:$BW$25=$BW$23,$BX$23:$BX$25<90,$BX$22<>$BX$24),1,0)} -> 0 | CS24: {=IF(AND($BW$22:$BW$25=$BW$24,$BX$22:$BX$24<90,$BX$24<>$BX$25),1,0)} -> 0 | CT24: {=IF(AND($BW$22:$BW$25=$BW$24,$BX$22:$BX$23>90,$BX$24:$BX$25<90,$BY$22:$BY$25=$BY$24,$BZ$22>$BZ$23,$BZ$23>$BZ$24,$BZ$24=$BZ$25),1,0)} -> 0 | CU24: {=IF(AND($BW$22:$BW$25=$BW$24,$BX$22>90,$BX$23:$BX$24<90,$BX$25>90,$BY$22:$BY$25=$BY$24,$BZ$22>$BZ$23,$BZ$23=$BZ$24,$BZ$24>$BZ$25),1,0)} -> 0 | CV24: {=IF(AND($BW$22:$BW$25=$BW$24,$BX$22:$BX$23<90,$BX$24:$BX$25>90,$BY$22:$BY$25=$BY$24,$BZ$22=$BZ$23,$BZ$23>$BZ$24,$BZ$24>$BZ$25),1,0)} -> 0 | CW24: {=IF(AND($BW$22:$BW$25=$BW$24,$BX$22:$BX$23>90,$BX$24:$BX$25<90,$BY$22:$BY$25=$BY$23,$BZ$22>$BZ$24,$BZ$23:$BZ$25=$BZ$24),1,0)} -> 0 | CX24: {=IF(AND($BW$22:$BW$25=$BW$24,$BX$22:$BX$23<90,$BX$24:$BX$25>90,$BY$22:$BY$25=$BY$24,$BZ$22:$BZ$24=$BZ$24,$BZ$24>$BZ$25),1,0)} -> 0 | CY24: {=IF(AND($BW$22:$BW$25=$BW$24,$BX$22>90,$BX$25>90,$BX$23:$BX$24<90,$BY$22:$BY$25=$BY$24,$BZ$22>$BZ$23:$BZ$25,$BZ$23:$BZ$25=$BZ$24),1,0)} -> 0 | DF24: 4
F25: 43640 | G25: =BV58+VLOOKUP($G$2,$BO$39:$BS$51,4,0)*VLOOKUP($G$2,$BO$39:$BS$51,5,0) -> 43640.833 | H25: J3 | I25: =A22 -> Ecuador | K25: 1 | L25: 1 | N25: =A23 -> Japón | O25: =IF(NOT(OR(ISBLANK(K25),ISBLANK(L25))),1,0) -> 1 | Q25: 4 | R25: =VLOOKUP(Q25,$AG$22:$AI$25,3,0) -> Japón | S25: =VLOOKUP(R25,$AI$22:$AR$25,2,FALSE) -> 1 | T25: =VLOOKUP($R25,$AI$22:$AR$25,3,FALSE) -> 3 | U25: =VLOOKUP($R25,$AI$22:$AR$25,4,FALSE) -> 0 | V25: =VLOOKUP($R25,$AI$22:$AR$25,5,FALSE) -> 1 | W25: =VLOOKUP($R25,$AI$22:$AR$25,6,FALSE) -> 2 | X25: =VLOOKUP($R25,$AI$22:$AR$25,7,FALSE) -> 1 | Y25: =VLOOKUP($R25,$AI$22:$AR$25,8,FALSE) -> 7 | Z25: =VLOOKUP($R25,$AI$22:$AR$25,9,FALSE) -> -6 | AA25: =IF(SUM($AK$22:$AK$25)=12,MIN(ABS(BS24-BS25),ABS(BS25-BS41)),100) -> 10100000 | AB25: =IF(AND(AA25>=0,AA25<90),VLOOKUP(Q25,$BO$22:$BP$25,2,0),"") | AF25: =VLOOKUP($R25,$AI$22:$AR$25,10,FALSE) -> 9.40111e+08 | AG25: =RANK(AU25,$AU$22:$AU$25) -> 2 | AH25: =RANK(AR25,$AR$22:$AR$25) -> 2 | AI25: =A24 -> Chile | AJ25: =AL25*3+AM25*1+AN25*0 -> 6 | AK25: =COUNTIFS($I$20:$I$25,AI25,$K$20:$K$25,"<>",$L$20:$L$25,"<>")+COUNTIFS($N$20:$N$25,AI25,$L$20:$L$25,"<>",$K$20:$K$25,"<>") -> 3 | AL25: {=SUM((I$20:I$25=AI25)*(K$20:K$25<>"")*(L$20:L$25<>"")*(K$20:K$25>L$20:L$25),(N$20:N$25=AI25)*(K$20:K$25<>"")*(L$20:L$25<>"")*(K$20:K$25<L$20:L$25))} -> 2 | AM25: {=SUM((I$20:I$25=AI25)*(K$20:K$25<>"")*(L$20:L$25<>"")*(K$20:K$25=L$20:L$25),(N$20:N$25=AI25)*(K$20:K$25<>"")*(L$20:L$25<>"")*(K$20:K$25=L$20:L$25))} -> 0 | AN25: {=SUM((I$20:I$25=AI25)*(L$20:L$25<>"")*(K$20:K$25<>"")*(K$20:K$25<L$20:L$25),(K$20:K$25<>"")*(N$20:N$25=AI25)*(L$20:L$25<>"")*(K$20:K$25>L$20:L$25))} -> 1 | AO25: {=SUMIFS($K$20:$K$25,$I$20:$I$25,AI25,$K$20:$K$25,"<>",$L$20:$L$25,"<>")+SUMIFS($L$20:$L$25,$N$20:$N$25,AI25,$K$20:$K$25,"<>",$L$20:$L$25,"<>")} -> 6 | AP25: {=SUMIFS($K$20:$K$25,$N$20:$N$25,AI25,$K$20:$K$25,"<>",$L$20:$L$25,"<>")+SUMIFS($L$20:$L$25,$I$20:$I$25,AI25,$K$20:$K$25,"<>",$L$20:$L$25,"<>")} -> 2 | AQ25: =AO25-AP25 -> 4 | AR25: =IF(AK25=0,-($AW$9*VLOOKUP(AI25,Tabla3[[NombreEquipo]:[Rank]],3,FALSE)),AJ25*$AW$4+AQ25*$AW$5+AO25*$AW$6+BA25-($AW$9*VLOOKUP(AI25,Tabla3[[NombreEquipo]:[Rank]],3,FALSE)/100)) -> 6.040611e+09 | AS25: =AH25 -> 2 | AU25: =IFERROR(AR25-VLOOKUP(AI25,$AB$22:$AC$25,2,0),AR25) -> 6.040611e+09 | AY25: =AI25 -> Chile | AZ25: =COUNTIF(AJ22:AJ25,AJ25) -> 1 | BA25: =(BB25*$AW$8)+(BH25*$AW$7) -> 11000 | BB25: =RANK(BC25,BC22:BC25,1) -> 1 | BC25: =SUM(IF(AND(AJ25=AJ22,AQ25=AQ22,AO25=AO22),BD25,0),IF(AND(AJ25=AJ23,AQ25=AQ23,AO25=AO23),BE25,0),IF(AND(AJ25=AJ24,AQ25=AQ24,AO25=AO24),BF25,0)) -> 0 | BD25: {=SUMIFS($K$20:$K$25,$I$20:$I$25,$AY25,$K$20:$K$25,"<>",$L$20:$L$25,"<>",$N$20:$N$25,BD21)+SUMIFS($L$20:$L$25,$I$20:$I$25,BD21,$K$20:$K$25,"<>",$L$20:$L$25,"<>",$N$20:$N$25,$AY25)} -> 0 | BE25: {=SUMIFS($K$20:$K$25,$I$20:$I$25,$AY25,$K$20:$K$25,"<>",$L$20:$L$25,"<>",$N$20:$N$25,BE21)+SUMIFS($L$20:$L$25,$I$20:$I$25,BE21,$K$20:$K$25,"<>",$L$20:$L$25,"<>",$N$20:$N$25,$AY25)} -> 2 | BF25: {=SUMIFS($K$20:$K$25,$I$20:$I$25,$AY25,$K$20:$K$25,"<>",$L$20:$L$25,"<>",$N$20:$N$25,BF21)+SUMIFS($L$20:$L$25,$I$20:$I$25,BF21,$K$20:$K$25,"<>",$L$20:$L$25,"<>",$N$20:$N$25,$AY25)} -> 4 | BG25: 0 | BH25: =RANK(BI25,BI22:BI25,1) -> 1 | BI25: =SUM(IF(AND(AJ25=AJ22,AQ25=AQ22,AO25=AO22),BJ25,0),IF(AND(AJ25=AJ23,AQ25=AQ23,AO25=AO23),BK25,0),IF(AND(AJ25=AJ24,AQ25=AQ24,AO25=AO24),BL25,0)) -> 0 | BJ25: =BD25-BG22 -> -1 | BK25: =BE25-BG23 -> 1 | BL25: =BF25-BG24 -> 4 | BM25: 0 | BN25: 4 | BO25: =RANK(BQ25,$BQ$22:$BQ$25) -> 2 | BP25: =A24 -> Chile | BQ25: =IF(AK25=0,-($AW$9*VLOOKUP(AI25,Tabla3[[NombreEquipo]:[Rank]],3,FALSE)),AJ25*$AW$4+AQ25*$AW$5+AO25*$AW$6+BA25-($AW$9*VLOOKUP(AI25,Tabla3[[NombreEquipo]:[Rank]],3,FALSE)/100)) -> 6.040611e+09 | BR25: =VLOOKUP(Q25,$AH$22:$AI$25,2,0) -> Japón | BS25: =VLOOKUP($BR25,$AI$22:$AR$25,10,FALSE) -> 9.40111e+08 | BU25: 4 | BV25: =VLOOKUP(BU25,$AH$22:$AI$25,2,0) -> Japón | BW25: =VLOOKUP(BV25,$AI$22:$AR$25,2,FALSE) -> 1 | BX25: =IF(SUM($AK$22:$AK$25)=12,MIN(ABS(BS24-BS25),ABS(BS25-BS41)),100) -> 10100000 | BY25: =VLOOKUP($BV25,$AI$22:$AR$25,9,FALSE) -> -6 | BZ25: =VLOOKUP($BV25,$AI$22:$AR$25,7,FALSE) -> 1 | CA25: {=IF($CB$22=$CD$21,$DF$21:$DF$24,IF(OR($CB$22=$CF$21,$CB$22=$CJ$21),$DJ$21:$DJ$22,IF($CB$22=$CH$21,$DI$21:$DI$23,$DO$21)))} -> 4 | CC25: 4 | CD25: {=IF(AND($BW$22:$BW$25=$BW$25,$BX$22:$BX$25<90,$AQ$22:$AQ$25=$AQ$25,$BZ$22:$BZ$25=$BZ$25),1,0)} -> 0 | CE25: {=IF(AND($BW$22:$BW$24=$BW$22,$BX$22:$BX$24<90,$BX$25>90,$BW$22<>$BW$25),1,0)} -> 0 | CF25: {=IF(AND($BW$24:$BW$25=$BW$24,$BX$24:$BX$25<90,$BW$24<>$BW$23),1,0)} -> 0 | CG25: {=IF(AND($BW$25<>$BW$23,$BW$25<>$BW$22),1,0)} -> 1 | CH25: {=IF(AND($BW$23:$BW$25=$BW$23,$BX$23:$BX$25<90,$BW$22<>$BW$25),1,0)} -> 0 | CI25: {=IF(AND($BW$25<>$BW$23,$BW$25<>$BW$22),1,0)} -> 1 | CJ25: {=IF(AND($BW$24:$BW$25=$BW$24,$BX$24:$BX$25<90,$BW$24<>$BW$23),1,0)} -> 0 | CK25: {=IF(AND($BW$25<>$BW$23,$BW$25<>$BW$22),1,0)} -> 1 | CL25: {=IF(AND($BW$22:$BW$25=$BW$22,$BX$22:$BX$25<90,$BY$24:$BY$25=$BY$25,$BY$23<>$BY$25),1,0)} -> 0 | CM25: {=IF(AND($BW$22:$BW$25=$BW$22,$BX$22:$BX$25<90,$BY$22:$BY$25=$BY$22,$BZ$24=$BZ$25,$BZ$23<>$BZ$24),1,0)} -> 0 | CN25: {=IF(AND($BW$22:$BW$24=$BW$22,$BX$22:$BX$23<90,$BW$24<>$BW$25),1,0)} -> 0 | CO25: {=IF(AND($BW$23<>$BW$22,$BW$23:$BW$25=$BW$24,$BX$23>90,$BX$24:$BX$25<90),1,0)} -> 0 | CP25: {=IF(AND($BW$23<>$BW$22,$BW$23:$BW$25=$BW$23,$BX$25>90,$BX$23:$BX$24<90),1,0)} -> 0 | CQ25: {=IF(AND($BW$25<>$BW$23,$BW$25<>$BW$24),1,0)} -> 0 | CR25: {=IF(AND($BW$22:$BW$25=$BW$23,$BX$23:$BX$25<90,$BX$22<>$BX$25),1,0)} -> 0 | CS25: {=IF(AND($BW$22:$BW$25=$BW$22,$BX$22:$BX$24<90,$BX$24<>$BX$25),1,0)} -> 0 | CT25: {=IF(AND($BW$22:$BW$25=$BW$25,$BX$22:$BX$23>90,$BX$24:$BX$25<90,$BY$22:$BY$25=$BY$25,$BZ$22>$BZ$23,$BZ$23>$BZ$25,$BZ$24=$BZ$25),1,0)} -> 0 | CU25: {=IF(AND($BW$22:$BW$25=$BW$23,$BX$22>90,$BX$23:$BX$24<90,$BX$25>90,$BY$22:$BY$25=$BY$25,$BZ$22>$BZ$25,$BZ$23=$BZ$24,$BZ$23>$BZ$25),1,0)} -> 0 | CV25: {=IF(AND($BW$22:$BW$25=$BW$25,$BX$22:$BX$23<90,$BX$24:$BX$25>90,$BY$22:$BY$25=$BY$25,$BZ$22=$BZ$23,$BZ$23>$BZ$24,$BZ$24>$BZ$25),1,0)} -> 0 | CW25: {=IF(AND($BW$22:$BW$25=$BW$25,$BX$22:$BX$23>90,$BX$24:$BX$25<90,$BY$22:$BY$25=$BY$25,$BZ$22>$BZ$25,$BZ$23:$BZ$25=$BZ$25),1,0)} -> 0 | CX25: {=IF(AND($BW$22:$BW$25=$BW$25,$BX$22:$BX$23<90,$BX$24:$BX$25>90,$BY$22:$BY$25=$BY$25,$BZ$22:$BZ$24=$BZ$24,$BZ$22:$BZ$24>$BZ$25),1,0)} -> 0 | CY25: {=IF(AND($BW$22:$BW$25=$BW$25,$BX$22>90,$BX$25>90,$BX$23:$BX$24<90,$BY$22:$BY$25=$BY$25,$BZ$22>$BZ$23:$BZ$25,$BZ$23:$BZ$25=$BZ$25),1,0)} -> 0
E28: =COUNTIF(AA6:AA9,"<100")+COUNTIF(AA14:AA17,"<100")+COUNTIF(AA22:AA25,"<100") -> 0 | F28: =CONCATENATE("¡EN LA FASE DE GRUPOS HAY EMPATES EN EL GRUPO ,",IF(COUNTIF(AA6:AA9,"<100")=0,"","A, "),IF(COUNTIF(AA14:AA17,"<100")=0,"","B,"),IF(COUNTIF(AA22:AA25,"<100")=0,"","C "),"!") -> ¡EN LA FASE DE GRUPOS HAY EMPATES EN EL GRUPO ,!
F29: =CONCATENATE("En el grupo ",IF(COUNTIF(AA6:AA9,"<100")=0,"","A, "),IF(COUNTIF(AA14:AA17,"<100")=0,"","B, "),IF(COUNTIF(AA22:AA25,"<100")=0,"","C, ")," hay selecciones igualadas en puntos, goles y golaveraje (marcados con un signo de exclamación amarillo). Si el orden no es correcto, selecciona a la derecha del grupo el orden de las selecciones empatadas.") -> En el grupo hay selecciones igualadas en puntos, goles y golaveraje (marcados con un signo de exclamación amarillo). Si el orden no es correcto, selecciona a la derecha del grupo el orden de las selecciones empatadas.
CD30: 1 | CE30: 2 | CF30: 3 | CG30: 4 | CH30: 5 | CI30: 6 | CJ30: 7 | CK30: 8 | CL30: 9 | CM30: 10 | CN30: 11 | DF30: OP1 | DG30: OP2 | DH30: OP3 | DI30: OP4 | DJ30: OP5 | DK30: OP6 | MAT30: matejero
E31: Mejores terceros | P31: ¡EMPATE! Puedes seleccionar el orden de los empatados. | AH31: Auxiliar Terceros | AU31: NR | AW31: GRUPO | AX31: Con | AY31: orden | AZ31: VF | BA31: A | BB31: B | CB31: Valor | CC31: Sum | CD31: =SUM(CD33:CD35) -> 0 | CE31: =SUM(CE33:CE35) -> 0 | CF31: =SUM(CF33:CF35) -> 0 | CG31: =SUM(CG33:CG35) -> 0 | CH31: =SUM(CH33:CH35) -> 0 | CI31: =SUM(CI33:CI35) -> 0 | CJ31: =SUM(CJ33:CJ35) -> 0 | CK31: =SUM(CK33:CK35) -> 0 | ... CN31: =SUM(CN33:CN35) -> 3 | DF31: 123 | DG31: 12 | DH31: 23 | DI31: 1 | DJ31: 2 | DK31: 3
E32: Pos | F32: Selección | G32: Pts | H32: J | I32: G | J32: E | K32: P | L32: GF | M32: GC | N32: DG | O32: =COUNTIF(O33:O35,"<100") -> 0 | AG32: NR | AH32: Puesto | AI32: Equipo | AJ32: Ptos | AK32: J | AL32: G | AM32: E | AN32: P | AO32: GF | AP32: GC | AQ32: Dif | AR32: Rank | AS32: Puesto | AY32: AB | AZ32: =IF($AX$33=AY32,1,0) -> 1 | BA32: =R16 -> Paraguay | BB32: =R8 -> Perú | BP32: Inicio | BR32: 1R | BV32: Equipo | BW32: Ptos | BX32: Signo | BY32: Dif | BZ32: Gf | CC32: Com | CD32: COM_1 | CE32: COM_2 | CF32: COM_3 | CG32: COM_3 | CH32: COM_2 | CI32: COM_4 | CJ32: COM_2 | CK32: COM_4 | CL32: COM_3 | CM32: COM_4 | CN32: COM_4 | DF32: 1 | DG32: 1 | DH32: 2 | DI32: 1 | DJ32: 2 | DK32: 3
A33: =R8 -> Perú | E33: 1 | F33: =VLOOKUP(E33,$AG$33:$AI$35,3,0) -> Perú | G33: =VLOOKUP(F33,$AI$33:$AR$35,2,FALSE) -> 4 | H33: =VLOOKUP($F33,$AI$33:$AR$35,3,FALSE) -> 3 | I33: =VLOOKUP($F33,$AI$33:$AR$35,4,FALSE) -> 1 | J33: =VLOOKUP($F33,$AI$33:$AR$35,5,FALSE) -> 1 | K33: =VLOOKUP($F33,$AI$33:$AR$35,6,FALSE) -> 1 | L33: =VLOOKUP($F33,$AI$33:$AR$35,7,FALSE) -> 3 | M33: =VLOOKUP($F33,$AI$33:$AR$35,8,FALSE) -> 6 | N33: =VLOOKUP($F33,$AI$33:$AR$35,9,FALSE) -> -3 | O33: =IF(SUM($AK$33:$AK$35)=9,MIN(ABS(BS32-BS33),ABS(BS33-BS34)),100) -> 1.98e+09 | P33: =IF(AND(O33>=0,O33<90),VLOOKUP(E33,$BO$33:$BP$35,2,0),"") | AF33: =VLOOKUP($F33,$AI$33:$AR$35,10,FALSE) -> 3.970311e+09 | AG33: =RANK(AU33,$AU$33:$AU$35) -> 1 | AH33: =RANK(AR33,$AR$33:$AR$35) -> 1 | AI33: =IF(SUM($AK$6:$AK$9)=12,VLOOKUP(3,$AG$6:$AI$9,3,0),"3A") -> Perú | AJ33: =IF(SUM($AK$6:$AK$9)=12,VLOOKUP(3,$AG$6:$AR$9,4,0),"3A") -> 4 | AK33: =IF(SUM($AK$6:$AK$9)=12,VLOOKUP(3,$AG$6:$AR$9,5,0),"3A") -> 3 | AL33: =IF(SUM($AK$6:$AK$9)=12,VLOOKUP(3,$AG$6:$AR$9,6,0),"3A") -> 1 | AM33: =IF(SUM($AK$6:$AK$9)=12,VLOOKUP(3,$AG$6:$AR$9,7,0),"3A") -> 1 | AN33: =IF(SUM($AK$6:$AK$9)=12,VLOOKUP(3,$AG$6:$AR$9,8,0),"3A") -> 1 | AO33: =IF(SUM($AK$6:$AK$9)=12,VLOOKUP(3,$AG$6:$AR$9,9,0),"3A") -> 3 | AP33: =IF(SUM($AK$6:$AK$9)=12,VLOOKUP(3,$AG$6:$AR$9,10,0),"3A") -> 6 | AQ33: =IF(SUM($AK$6:$AK$9)=12,VLOOKUP(3,$AG$6:$AR$9,11,0),"3A") -> -3 | AR33: =IF(SUM($AK$6:$AK$9)=12,VLOOKUP(3,$AG$6:$AR$9,12,0),3) -> 3.970311e+09 | AS33: =AH33 -> 1 | AU33: =IFERROR(AR33-VLOOKUP(AI33,$P$33:$Q$35,2,0),AR33) -> 3.970311e+09 | AW33: =IF(COUNTIF($A$5:$A$8,F33)>0,$B$4,IF(COUNTIF($A$13:$A$16,F33)>0,$B$12,IF(COUNTIF($A$21:$A$24,F33)>0,$B$20,"NO"))) -> A | AX33: =CONCATENATE(AW33,AW34) -> AB | AY33: AC | AZ33: =IF($AX$33=AY33,1,0) -> 0 | BA33: =R24 -> Ecuador | BB33: =R8 -> Perú | BN33: 1 | BO33: =RANK(BQ33,$BQ$33:$BQ$35) -> 1 | BP33: =A33 -> Perú | BQ33: =IF(SUM($AK$6:$AK$9)=12,VLOOKUP(3,$AG$6:$AR$9,12,0),"3A") -> 3.970311e+09 | BR33: =VLOOKUP(E33,$AH$33:$AI$35,2,0) -> Perú | BS33: =VLOOKUP($BR33,$AI$33:$AR$35,10,FALSE) -> 3.970311e+09 | BU33: 1 | BV33: =VLOOKUP(BU33,$AH$33:$AI$35,2,0) -> Perú | BW33: =VLOOKUP(BV33,$AI$33:$AR$35,2,FALSE) -> 4 | BX33: =IF(SUM($AK$22:$AK$25)=12,MIN(ABS(BS32-BS33),ABS(BS33-BS34)),100) -> 1.98e+09 | BY33: =VLOOKUP($BV33,$AI$33:$AR$35,9,FALSE) -> -3 | BZ33: =VLOOKUP($BV33,$AI$33:$AR$35,7,FALSE) -> 3 | CA33: {=IF($CB$33=$CD$32,$DF$32:$DF$34,IF($CB$33=$CE$32,$DG$32:$DG$33,$DI$32))} -> 1 | CB33: =IFERROR(HLOOKUP(3,CD31:CN32,2,0),CI32) -> COM_4 | CC33: 1 | CD33: {=IF(AND($BW$33:$BW$35=BW33,$BX$33:$BX$35<90,$BY$33:$BY$35=$BY$33,$BZ$33:$BZ$35=$BZ$33),1,0)} -> 0 | CE33: {=IF(AND($BW$33:$BW$35=BW33,$BX$33:$BX$35<90,$BY$33:$BY$35=$BY$33,$BZ$33:$BZ$34=$BZ$33,$BZ$33<>$BZ$35),1,0)} -> 0 | CF33: {=IF(AND($BW$33:$BW$35=BW33,$BX$33:$BX$35<90,$BY$33:$BY$35=$BY$33,$BZ$34:$BZ$35<>$BZ$33),1,0)} -> 0 | CG33: {=IF(AND($BW$33:$BW$35=BW33,$BX$34:$BX$35<90,$BX$33<>$BX$34),1,0)} -> 0 | CH33: {=IF(AND($BW$33:$BW$35=BW33,$BX$33:$BX$34<90,$BX$33<>$BX$35),1,0)} -> 0 | CI33: {=IF(AND($BW$33:$BW$35=BW33,$BX$33:$BX$35>90),1,0)} -> 0 | CJ33: {=IF(AND($BW$33:$BW$34=BW33,$BX$33:$BX$34<90,BX35>90,$BY$33:$BY$34=BY33,$BZ$33:$BZ$34=BZ33),1,0)} -> 0 | CK33: {=IF(AND($BW$33:$BW$34=BW33,$BX$33:$BX$34<90,BX35>90,$BY$33:$BY$34=BY33,$BZ$33>$BZ$34),1,0)} -> 0 | CL33: {=IF(AND($BW$33>$BW$34,$BW$34=$BW$35,BX33>90,$BX$34:$BX$35<90),1,0)} -> 0 | CM33: {=IF(AND($BW$33>$BW$34,$BW$34=$BW$35,BX33>90,$BX$34:$BX$35<90),1,0)} -> 0 | CN33: {=IF(AND($BW$33<>$BW$34,$BW$33<>$BW$35),1,0)} -> 1 | DF33: 2 | DG33: 2 | DH33: 3
A34: =R16 -> Paraguay | E34: 2 | F34: =VLOOKUP(E34,$AG$33:$AI$35,3,0) -> Paraguay | G34: =VLOOKUP(F34,$AI$33:$AR$35,2,FALSE) -> 2 | H34: =VLOOKUP($F34,$AI$33:$AR$35,3,FALSE) -> 3 | I34: =VLOOKUP($F34,$AI$33:$AR$35,4,FALSE) -> 0 | J34: =VLOOKUP($F34,$AI$33:$AR$35,5,FALSE) -> 2 | K34: =VLOOKUP($F34,$AI$33:$AR$35,6,FALSE) -> 1 | L34: =VLOOKUP($F34,$AI$33:$AR$35,7,FALSE) -> 3 | M34: =VLOOKUP($F34,$AI$33:$AR$35,8,FALSE) -> 4 | N34: =VLOOKUP($F34,$AI$33:$AR$35,9,FALSE) -> -1 | O34: =IF(SUM($AK$33:$AK$35)=9,MIN(ABS(BS33-BS34),ABS(BS34-BS35)),100) -> 1.0401e+09 | P34: =IF(AND(O34>=0,O34<90),VLOOKUP(E34,$BO$33:$BP$35,2,0),"") | AF34: =VLOOKUP($F34,$AI$33:$AR$35,10,FALSE) -> 1.990311e+09 | AG34: =RANK(AU34,$AU$33:$AU$35) -> 2 | AH34: =RANK(AR34,$AR$33:$AR$35) -> 2 | AI34: =IF(SUM($AK$14:$AK$17)=12,VLOOKUP(3,$AG$14:$AI$17,3,0),"3B") -> Paraguay | AJ34: =IF(SUM($AK$14:$AK$17)=12,VLOOKUP(3,$AG$14:$AR$17,4,0),"3B") -> 2 | AK34: =IF(SUM($AK$14:$AK$17)=12,VLOOKUP(3,$AG$14:$AR$17,5,0),"3B") -> 3 | AL34: =IF(SUM($AK$14:$AK$17)=12,VLOOKUP(3,$AG$14:$AR$17,6,0),"3B") -> 0 | AM34: =IF(SUM($AK$14:$AK$17)=12,VLOOKUP(3,$AG$14:$AR$17,7,0),"3B") -> 2 | AN34: =IF(SUM($AK$14:$AK$17)=12,VLOOKUP(3,$AG$14:$AR$17,8,0),"3B") -> 1 | AO34: =IF(SUM($AK$14:$AK$17)=12,VLOOKUP(3,$AG$14:$AR$17,9,0),"3B") -> 3 | AP34: =IF(SUM($AK$14:$AK$17)=12,VLOOKUP(3,$AG$14:$AR$17,10,0),"3B") -> 4 | AQ34: =IF(SUM($AK$14:$AK$17)=12,VLOOKUP(3,$AG$14:$AR$17,11,0),"3B") -> -1 | AR34: =IF(SUM($AK$14:$AK$17)=12,VLOOKUP(3,$AG$14:$AR$17,12,0),2) -> 1.990311e+09 | AS34: =AH34 -> 2 | AU34: =IFERROR(AR34-VLOOKUP(AI34,$P$33:$Q$35,2,0),AR34) -> 1.990311e+09 | AW34: =IF(COUNTIF($A$5:$A$8,F34)>0,$B$4,IF(COUNTIF($A$13:$A$16,F34)>0,$B$12,IF(COUNTIF($A$21:$A$24,F34)>0,$B$20,"NO"))) -> B | AY34: BC | AZ34: =IF($AX$33=AY34,1,0) -> 0 | BA34: =R24 -> Ecuador | BB34: =R16 -> Paraguay | BN34: 2 | BO34: =RANK(BQ34,$BQ$33:$BQ$35) -> 2 | BP34: =A34 -> Paraguay | BQ34: =IF(SUM($AK$14:$AK$17)=12,VLOOKUP(3,$AG$14:$AR$17,12,0),"3B") -> 1.990311e+09 | BR34: =VLOOKUP(E34,$AH$33:$AI$35,2,0) -> Paraguay | BS34: =VLOOKUP($BR34,$AI$33:$AR$35,10,FALSE) -> 1.990311e+09 | BU34: 2 | BV34: =VLOOKUP(BU34,$AH$33:$AI$35,2,0) -> Paraguay | BW34: =VLOOKUP(BV34,$AI$33:$AR$35,2,FALSE) -> 2 | BX34: =IF(SUM($AK$22:$AK$25)=12,MIN(ABS(BS33-BS34),ABS(BS34-BS35)),100) -> 1.0401e+09 | BY34: =VLOOKUP($BV34,$AI$33:$AR$35,9,FALSE) -> -1 | BZ34: =VLOOKUP($BV34,$AI$33:$AR$35,7,FALSE) -> 3 | CA34: {=IF($CB$33=$CD$32,$DF$32:$DF$34,IF($CB$33=$CE$32,$DG$32:$DG$33,IF($CB$33=$CF$32,$DH$32:$DH$33,$DJ$32)))} -> 2 | CC34: 2 | CD34: {=IF(AND($BW$33:$BW$35=BW34,$BX$33:$BX$35<90,$BY$33:$BY$35=$BY$34,$BZ$33:$BZ$35=$BZ$34),1,0)} -> 0 | CE34: {=IF(AND($BW$33:$BW$35=BW34,$BX$33:$BX$35<90,$BY$33:$BY$35=$BY$34,$BZ$33:$BZ$34=$BZ$34,$BZ$34<>$BZ$35),1,0)} -> 0 | CF34: {=IF(AND($BW$33:$BW$35=BW34,$BX$33:$BX$35<90,$BY$33:$BY$35=$BY$34,$BZ$34:$BZ$35=$BZ$34,$BZ$34<>$BZ$33),1,0)} -> 0 | CG34: {=IF(AND($BW$33:$BW$35=BW34,$BX$34:$BX$35<90,$BX$33<>$BX$34),1,0)} -> 0 | CH34: {=IF(AND($BW$33:$BW$35=BW34,$BX$33:$BX$34<90,$BX$34<>$BX$35),1,0)} -> 0 | CI34: {=IF(AND($BW$33:$BW$35=BW34,$BX$33:$BX$35>90),1,0)} -> 0 | CJ34: {=IF(AND($BW$33:$BW$34=BW34,$BX$33:$BX$34<90,BX35>90,$BY$33:$BY$34=BY34,$BZ$33:$BZ$34=BZ34),1,0)} -> 0 | CK34: {=IF(AND($BW$33:$BW$34=BW33,$BX$33:$BX$34<90,BX35>90,$BY$33:$BY$34=BY34,$BZ$33>$BZ$34),1,0)} -> 0 | CL34: {=IF(AND($BW$34:$BW$35=BW34,$BX$34:$BX$35<90,BX33>90,$BY$34:$BY$35=BY34,$BZ$34:$BZ$35=BZ34),1,0)} -> 0 | CM34: {=IF(AND($BW$34:$BW$35=BW34,$BX$34:$BX$35<90,BX33>90,$BY$34:$BY$35=BY34,$BZ$34>$BZ$35),1,0)} -> 0 | CN34: {=IF(AND($BW$34<>$BW$33,$BW$34<>$BW$35),1,0)} -> 1 | DF34: 3
A35: =R24 -> Ecuador | E35: 3 | F35: =VLOOKUP(E35,$AG$33:$AI$35,3,0) -> Ecuador | G35: =VLOOKUP(F35,$AI$33:$AR$35,2,FALSE) -> 1 | H35: =VLOOKUP($F35,$AI$33:$AR$35,3,FALSE) -> 3 | I35: =VLOOKUP($F35,$AI$33:$AR$35,4,FALSE) -> 0 | J35: =VLOOKUP($F35,$AI$33:$AR$35,5,FALSE) -> 1 | K35: =VLOOKUP($F35,$AI$33:$AR$35,6,FALSE) -> 2 | L35: =VLOOKUP($F35,$AI$33:$AR$35,7,FALSE) -> 2 | M35: =VLOOKUP($F35,$AI$33:$AR$35,8,FALSE) -> 7 | N35: =VLOOKUP($F35,$AI$33:$AR$35,9,FALSE) -> -5 | O35: =IF(SUM($AK$33:$AK$35)=9,MIN(ABS(BS34-BS35),ABS(BS35-BS37)),100) -> 9.50211e+08 | P35: =IF(AND(O35>=0,O35<90),VLOOKUP(E35,$BO$33:$BP$35,2,0),"") | AF35: =VLOOKUP($F35,$AI$33:$AR$35,10,FALSE) -> 9.50211e+08 | AG35: =RANK(AU35,$AU$33:$AU$35) -> 3 | AH35: =RANK(AR35,$AR$33:$AR$35) -> 3 | AI35: =IF(SUM($AK$22:$AK$25)=12,VLOOKUP(3,$AG$22:$AI$25,3,0),"3C") -> Ecuador | AJ35: =IF(SUM($AK$22:$AK$25)=12,VLOOKUP(3,$AG$22:$AR$25,4,0),"3C") -> 1 | AK35: =IF(SUM($AK$22:$AK$25)=12,VLOOKUP(3,$AG$22:$AR$25,5,0),"3C") -> 3 | AL35: =IF(SUM($AK$22:$AK$25)=12,VLOOKUP(3,$AG$22:$AR$25,6,0),"3C") -> 0 | AM35: =IF(SUM($AK$22:$AK$25)=12,VLOOKUP(3,$AG$22:$AR$25,7,0),"3C") -> 1 | AN35: =IF(SUM($AK$22:$AK$25)=12,VLOOKUP(3,$AG$22:$AR$25,8,0),"3C") -> 2 | AO35: =IF(SUM($AK$22:$AK$25)=12,VLOOKUP(3,$AG$22:$AR$25,9,0),"3C") -> 2 | AP35: =IF(SUM($AK$22:$AK$25)=12,VLOOKUP(3,$AG$22:$AR$25,10,0),"3C") -> 7 | AQ35: =IF(SUM($AK$22:$AK$25)=12,VLOOKUP(3,$AG$22:$AR$25,11,0),"3C") -> -5 | AR35: =IF(SUM($AK$22:$AK$25)=12,VLOOKUP(3,$AG$22:$AR$25,12,0),1) -> 9.50211e+08 | AS35: =AH35 -> 3 | AU35: =IFERROR(AR35-VLOOKUP(AI35,$P$33:$Q$35,2,0),AR35) -> 9.50211e+08 | AW35: =IF(COUNTIF($A$5:$A$8,F35)>0,$B$4,IF(COUNTIF($A$13:$A$16,F35)>0,$B$12,IF(COUNTIF($A$21:$A$24,F35)>0,$B$20,"NO"))) -> C | AY35: BA | AZ35: =IF($AX$33=AY35,1,0) -> 0 | BA35: =R16 -> Paraguay | BB35: =R8 -> Perú | BN35: 3 | BO35: =RANK(BQ35,$BQ$33:$BQ$35) -> 3 | BP35: =A35 -> Ecuador | BQ35: =IF(SUM($AK$22:$AK$25)=12,VLOOKUP(3,$AG$22:$AR$25,12,0),"3B") -> 9.50211e+08 | BR35: =VLOOKUP(E35,$AH$33:$AI$35,2,0) -> Ecuador | BS35: =VLOOKUP($BR35,$AI$33:$AR$35,10,FALSE) -> 9.50211e+08 | BU35: 3 | BV35: =VLOOKUP(BU35,$AH$33:$AI$35,2,0) -> Ecuador | BW35: =VLOOKUP(BV35,$AI$33:$AR$35,2,FALSE) -> 1 | BX35: =IF(SUM($AK$22:$AK$25)=12,MIN(ABS(BS34-BS35),ABS(BS35-BS37)),100) -> 9.50211e+08 | BY35: =VLOOKUP($BV35,$AI$33:$AR$35,9,FALSE) -> -5 | BZ35: =VLOOKUP($BV35,$AI$33:$AR$35,7,FALSE) -> 2 | CA35: {=IF($CB$33=$CD$32,$DF$32:$DF$34,IF($CB$33=$CE$32,$DK$32,IF($CB$33=$CF$32,$DH$32:$DH$33,$DK$32)))} -> 3 | CC35: 3 | CD35: {=IF(AND($BW$33:$BW$35=BW35,$BX$33:$BX$35<90,$BY$33:$BY$35=$BY$35,$BZ$33:$BZ$35=$BZ$35),1,0)} -> 0 | CE35: {=IF(AND($BW$33:$BW$35=BW35,$BX$33:$BX$35<90,$BY$33:$BY$35=$BY$35,$BZ$33:$BZ$34<>$BZ$35),1,0)} -> 0 | CF35: {=IF(AND($BW$33:$BW$35=BW35,$BX$33:$BX$35<90,$BY$33:$BY$35=$BY$35,$BZ$34:$BZ$35=$BZ$34,$BZ$35<>$BZ$33),1,0)} -> 0 | CG35: {=IF(AND($BW$33:$BW$35=BW34,$BX$34:$BX$35<90,$BX$33<>$BX$35),1,0)} -> 0 | CH35: {=IF(AND($BW$33:$BW$35=BW33,$BX$33:$BX$34<90,$BX$34<>$BX$35),1,0)} -> 0 | CI35: {=IF(AND($BW$33:$BW$35=BW34,$BX$33:$BX$35>90),1,0)} -> 0 | CJ35: {=IF(AND($BW$33:$BW$34=BW34,$BX$33:$BX$34<90,BX35>90),1,0)} -> 0 | CK35: {=IF(AND($BW$33:$BW$34=BW34,$BX$33:$BX$34<90,BX35>90),1,0)} -> 0 | CL35: {=IF(AND($BW$34:$BW$35=BW35,$BX$34:$BX$35<90,BX33>90,$BY$34:$BY$35=BY35,$BZ$34:$BZ$35=BZ35),1,0)} -> 0 | CM35: {=IF(AND($BW$34:$BW$35=BW35,$BX$34:$BX$35<90,BX33>90,$BY$34:$BY$35=BY35,$BZ$34>$BZ$35),1,0)} -> 0 | CN35: {=IF(AND($BW$35<>$BW$33,$BW$35<>$BW$34),1,0)} -> 1
AY36: CA | AZ36: =IF($AX$33=AY36,1,0) -> 0 | BA36: =R24 -> Ecuador | BB36: =R8 -> Perú
E37: Cuartos de final | AY37: CB | AZ37: =IF($AX$33=AY37,1,0) -> 0 | BA37: =R24 -> Ecuador | BB37: =R16 -> Paraguay
F38: =F3 -> Fecha | G38: =G3 -> Hora | I38: C | J38: X | K38: =K3 -> Gol | L38: =L3 -> Gol | M38: X | N38: F | BP38: 1 | BV38: GA
E39: 1/4 | F39: 43643 | G39: =BV60+VLOOKUP($G$2,$BO$39:$BS$51,4,0)*VLOOKUP($G$2,$BO$39:$BS$51,5,0) -> 43643.896 | I39: =IF(SUM(AK6:AK9)=12,VLOOKUP(1,$Q$6:$R$9,2,FALSE),"1A") -> Brasil | K39: 0 | L39: 0 | N39: =IF(SUM(AK33:AK35)=9,VLOOKUP(1,AZ32:BB37,2,FALSE),"3B/C") -> Paraguay | O39: =IF(I45="WC1",0,1) -> 0 | BL39: HORAS---> | BO39: 1 | BP39: Argentina | BQ39: 1 | BR39: 0 | BS39: 1 | BV39: 43630.896
F40: 43644 | G40: =BV61+VLOOKUP($G$2,$BO$39:$BS$51,4,0)*VLOOKUP($G$2,$BO$39:$BS$51,5,0) -> 43644.667 | I40: =IF(SUM(AK6:AK9)=12,VLOOKUP(2,$Q$6:$R$9,2,FALSE),"2A") -> Venezuela | K40: 0 | L40: 0 | N40: =IF(SUM(AK14:AK19)=12,VLOOKUP(2,$Q$14:$R$19,2,FALSE),"2B") -> Argentina | O40: =IF(N45="WC2",0,1) -> 0 | BO40: 2 | BP40: Bolivia | BQ40: 2 | BR40: 0.041666667 | BS40: -1 | BV40: 43631.667
F41: 43644 | G41: =BV62+VLOOKUP($G$2,$BO$39:$BS$51,4,0)*VLOOKUP($G$2,$BO$39:$BS$51,5,0) -> 43644.833 | I41: =IF(SUM(AK14:AK19)=12,VLOOKUP(1,$Q$14:$R$19,2,FALSE),"1B") -> Colombia | K41: 0 | L41: 0 | N41: =IF(SUM(AK22:AK25)=12,VLOOKUP(2,$Q$22:$R$25,2,FALSE),"2C") -> Chile | O41: =IF(I46="WC3",0,1) -> 0 | BO41: 3 | BP41: Brasil | BQ41: 3 | BR41: 0 | BS41: 1 | BV41: 43634.896
F42: 43645 | G42: =BV63+VLOOKUP($G$2,$BO$39:$BS$51,4,0)*VLOOKUP($G$2,$BO$39:$BS$51,5,0) -> 43645.667 | I42: =IF(SUM(AK22:AK25)=12,VLOOKUP(1,$Q$22:$R$25,2,FALSE),"1C") -> Uruguay | K42: 0 | L42: 0 | N42: =IF(SUM(AK33:AK35)=9,VLOOKUP(1,AZ32:BB37,3,FALSE),"3A/B") -> Perú | O42: =IF(N46="WC4",0,1) -> 0 | BO42: 4 | BP42: Catar | BQ42: 4 | BR42: 0.25 | BS42: 1 | BV42: 43634.771
E43: Semifinales | BO43: 5 | BP43: Chile | BQ43: 5 | BR43: 0 | BS43: 1 | BV43: 43638.667
F44: =F3 -> Fecha | G44: =G3 -> Hora | I44: C | J44: X | K44: Gol | L44: Gol | M44: X | N44: F | BO44: 6 | BP44: Colombia | BQ44: 6 | BR44: 0.083333333 | BS44: -1 | BV44: 43638.667
E45: 1/2 | F45: 43648 | G45: =BV65+VLOOKUP($G$2,$BO$39:$BS$51,4,0)*VLOOKUP($G$2,$BO$39:$BS$51,5,0) -> 43648.896 | I45: =IF(AND(OR(K39="",L39="")),"WC1",IF(K39>L39,I39,IF(K39<L39,N39,IF(AND(K39=L39,J39=M39),"WC1",IF(AND(K39=L39,OR(J39="",M39="")),"WC1",IF(AND(K39=L39,J39>M39),I39,N39)))))) -> WC1 | K45: 0 | L45: 0 | N45: =IF(AND(OR(K40="",L40="")),"WC2",IF(K40>L40,I40,IF(K40<L40,N40,IF(AND(K40=L40,J40=M40),"WC2",IF(AND(K40=L40,OR(J40="",M40="")),"WC2",IF(AND(K40=L40,J40>M40),I40,N40)))))) -> WC2 | O45: =IF(I52="WS1",0,1) -> 0 | BO45: 7 | BP45: Ecuador | BQ45: 7 | BR45: 0.083333333 | BS45: -1 | BV45: GB
F46: 43649 | G46: =BV66+VLOOKUP($G$2,$BO$39:$BS$51,4,0)*VLOOKUP($G$2,$BO$39:$BS$51,5,0) -> 43649.896 | I46: =IF(AND(OR(K41="",L41="")),"WC3",IF(K41>L41,I41,IF(K41<L41,N41,IF(AND(K41=L41,J41=M41),"WC3",IF(AND(K41=L41,OR(J41="",M41="")),"WC3",IF(AND(K41=L41,J41>M41),I41,N41)))))) -> WC3 | K46: 0 | L46: 0 | N46: =IF(AND(OR(K42="",L42="")),"WC4",IF(K42>L42,I42,IF(K42<L42,N42,IF(AND(K42=L42,J42=M42),"WC4",IF(AND(K42=L42,OR(J42="",M42="")),"WC4",IF(AND(K42=L42,J42>M42),I42,N42)))))) -> WC4 | O46: =IF(N52="WS2",0,1) -> 0 | BO46: 8 | BP46: España | BQ46: 8 | BR46: 0.70833333 | BS46: -1 | BV46: 43631.792
E47: 3º y 4º puesto | BO47: 9 | BP47: Japón | BQ47: 9 | BR47: 0.5 | BS47: 1 | BV47: 43632.667
F48: =F3 -> Fecha | G48: =G3 -> Hora | I48: C | J48: X | K48: Gol | L48: Gol | M48: X | N48: F | BO48: 10 | BP48: Paraguay | BQ48: 10 | BR48: 0 | BS48: 1 | BV48: 43635.896 | CPG48: matejero
E49: 3-4 | F49: 43652 | G49: =BV68+VLOOKUP($G$2,$BO$39:$BS$51,4,0)*VLOOKUP($G$2,$BO$39:$BS$51,5,0) -> 43652.667 | I49: =IF(AND(OR(K45="",L45="")),"LS1",IF(K45<L45,I45,IF(K45>L45,N45,IF(AND(K45=L45,J45=M45),"LS1",IF(AND(K45=L45,OR(J45="",M45="")),"LS1",IF(AND(K45=L45,J45<M45),I45,N45)))))) -> LS1 | N49: =IF(AND(OR(K46="",L46="")),"LS2",IF(K46<L46,I46,IF(K46>L46,N46,IF(AND(K46=L46,J46=M46),"LS2",IF(AND(K46=L46,OR(J46="",M46="")),"LS2",IF(AND(K46=L46,J46<M46),I46,N46)))))) -> LS2 | O49: =IF(I57="W34",0,1) -> 0 | BO49: 11 | BP49: Perú | BQ49: 11 | BR49: 0.083333333 | BS49: -1 | BV49: 43635.771
E50: Final | BO50: 12 | BP50: Uruguay | BQ50: 12 | BR50: 0 | BS50: 1 | BV50: 43639.667
F51: =F3 -> Fecha | G51: =G3 -> Hora | I51: C | J51: X | K51: Gol | L51: Gol | M51: X | N51: F | BO51: 13 | BP51: Venezuela | BQ51: 13 | BR51: 0.041666667 | BS51: -1 | BV51: 43639.667
E52: F | F52: 43653 | G52: =BV70+VLOOKUP($G$2,$BO$39:$BS$51,4,0)*VLOOKUP($G$2,$BO$39:$BS$51,5,0) -> 43653.708 | I52: =IF(AND(OR(K45="",L45="")),"WS1",IF(K45>L45,I45,IF(K45<L45,N45,IF(AND(K45=L45,J45=M45),"WS1",IF(AND(K45=L45,OR(J45="",M45="")),"WS1",IF(AND(K45=L45,J45>M45),I45,N45)))))) -> WS1 | N52: =IF(AND(OR(K46="",L46="")),"WS2",IF(K46>L46,I46,IF(K46<L46,N46,IF(AND(K46=L46,J46=M46),"WS2",IF(AND(K46=L46,OR(J46="",M46="")),"WS2",IF(AND(K46=L46,J46>M46),I46,N46)))))) -> WS2 | O52: =IF(I55="WF",0,1) -> 0 | BV52: GC
BV53: 43632.792
I54: CUADRO DE HONOR | BV54: 43633.833
E55: Campeón | I55: =IF(AND(OR(K52="",L52="")),"WF",IF(K52>L52,I52,IF(K52<L52,N52,IF(AND(K52=L52,J52=M52),"WF",IF(AND(K52=L52,OR(J52="",M52="")),"WF",IF(AND(K52=L52,J52>M52),I52,N52)))))) -> WF | O55: =IF(I55="WF",0,1) -> 0 | BV55: 43636.833
E56: Subcampeón | I56: =IF(AND(OR(K52="",L52="")),"LF",IF(K52>L52,N52,IF(K52<L52,I52,IF(AND(K52=L52,J52=M52),"LF",IF(AND(K52=L52,OR(J52="",M52="")),"LF",IF(AND(K52=L52,J52>M52),N52,I52)))))) -> LF | O56: =IF(I56="LF",0,1) -> 0 | BV56: 43637.833
E57: 3º Puesto | I57: =IF(AND(OR(K49="",L49="")),"W34",IF(K49>L49,I49,IF(K49<L49,N49,IF(AND(K49=L49,J49=M49),"W34",IF(AND(K49=L49,OR(J49="",M49="")),"W34",IF(AND(K49=L49,J49>M49),I49,N49)))))) -> W34 | O57: =IF(I57="W34",0,1) -> 0 | BV57: 43640.833
BV58: 43640.833
E59: Goleador del torneo | O59: =IF(I59="Escribe un Jugador",0,IF(I59="",0,1)) -> 0 | BV59: CF
E60: Mejor jugador del torneo | O60: =IF(I60="Escribe un Jugador",0,IF(I60="",0,1)) -> 0 | BV60: 43643.896
E61: Mejor portero del torneo | O61: =IF(I61="Escribe un Jugador",0,IF(I61="",0,1)) -> 0 | BV61: 43644.667
BV62: 43644.833
E63: TU NOMBRE | I63: ESCRIBE TU NOMBRE | O63: =IF(I63="Escribe tu nombre",0,IF(I63="",0,1)) -> 0 | BV63: 43645.667
BV64: SF
BV65: 43648.896
BV66: 43649.896
BV67: 3-4
BV68: 43652.667
BV69: F
BV70: 43653.708
RPS93: mat
AFM95: matejero

Sheet Apuesta
C1: Para el administrador de la quiniela | D1: EL ADMINISTRADOR DE LA QUINIELA COPIARA DE LA C6 A LA C85 Y LA PEGARÁ EN LA PLANTILLA DEL ADMINISTRADOR
B2: PARTICIPANTE
B3: Nombre | C3: ='COPA AMERICA'!I63 -> ESCRIBE TU NOMBRE
C4: ¡No tocar nada, se rellena solo!
B5: FASE DE GRUPOS
B6: =CONCATENATE('COPA AMERICA'!I4,"-",'COPA AMERICA'!N4) -> Brasil-Bolivia | C6: =CONCATENATE(IF('COPA AMERICA'!K4>'COPA AMERICA'!L4,1,IF('COPA AMERICA'!K4<'COPA AMERICA'!L4,2,IF(AND('COPA AMERICA'!K4='COPA AMERICA'!L4,'COPA AMERICA'!K4<>"",'COPA AMERICA'!L4<>""),"X",0))),"|",'COPA AMERICA'!K4,"-",'COPA AMERICA'!L4) -> 1|3-0
B7: =CONCATENATE('COPA AMERICA'!I5,"-",'COPA AMERICA'!N5) -> Venezuela-Perú | C7: =CONCATENATE(IF('COPA AMERICA'!K5>'COPA AMERICA'!L5,1,IF('COPA AMERICA'!K5<'COPA AMERICA'!L5,2,IF(AND('COPA AMERICA'!K5='COPA AMERICA'!L5,'COPA AMERICA'!K5<>"",'COPA AMERICA'!L5<>""),"X",0))),"|",'COPA AMERICA'!K5,"-",'COPA AMERICA'!L5) -> X|0-0
B8: =CONCATENATE('COPA AMERICA'!I6,"-",'COPA AMERICA'!N6) -> Brasil-Venezuela | C8: =CONCATENATE(IF('COPA AMERICA'!K6>'COPA AMERICA'!L6,1,IF('COPA AMERICA'!K6<'COPA AMERICA'!L6,2,IF(AND('COPA AMERICA'!K6='COPA AMERICA'!L6,'COPA AMERICA'!K6<>"",'COPA AMERICA'!L6<>""),"X",0))),"|",'COPA AMERICA'!K6,"-",'COPA AMERICA'!L6) -> X|0-0
B9: =CONCATENATE('COPA AMERICA'!I7,"-",'COPA AMERICA'!N7) -> Bolivia-Perú | C9: =CONCATENATE(IF('COPA AMERICA'!K7>'COPA AMERICA'!L7,1,IF('COPA AMERICA'!K7<'COPA AMERICA'!L7,2,IF(AND('COPA AMERICA'!K7='COPA AMERICA'!L7,'COPA AMERICA'!K7<>"",'COPA AMERICA'!L7<>""),"X",0))),"|",'COPA AMERICA'!K7,"-",'COPA AMERICA'!L7) -> 2|1-3
B10: =CONCATENATE('COPA AMERICA'!I8,"-",'COPA AMERICA'!N8) -> Perú-Brasil | C10: =CONCATENATE(IF('COPA AMERICA'!K8>'COPA AMERICA'!L8,1,IF('COPA AMERICA'!K8<'COPA AMERICA'!L8,2,IF(AND('COPA AMERICA'!K8='COPA AMERICA'!L8,'COPA AMERICA'!K8<>"",'COPA AMERICA'!L8<>""),"X",0))),"|",'COPA AMERICA'!K8,"-",'COPA AMERICA'!L8) -> 2|0-5
B11: =CONCATENATE('COPA AMERICA'!I9,"-",'COPA AMERICA'!N9) -> Bolivia-Venezuela | C11: =CONCATENATE(IF('COPA AMERICA'!K9>'COPA AMERICA'!L9,1,IF('COPA AMERICA'!K9<'COPA AMERICA'!L9,2,IF(AND('COPA AMERICA'!K9='COPA AMERICA'!L9,'COPA AMERICA'!K9<>"",'COPA AMERICA'!L9<>""),"X",0))),"|",'COPA AMERICA'!K9,"-",'COPA AMERICA'!L9) -> 2|1-3
B12: =CONCATENATE('COPA AMERICA'!I12,"-",'COPA AMERICA'!N12) -> Argentina-Colombia | C12: =CONCATENATE(IF('COPA AMERICA'!K12>'COPA AMERICA'!L12,1,IF('COPA AMERICA'!K12<'COPA AMERICA'!L12,2,IF(AND('COPA AMERICA'!K12='COPA AMERICA'!L12,'COPA AMERICA'!K12<>"",'COPA AMERICA'!L12<>""),"X",0))),"|",'COPA AMERICA'!K12,"-",'COPA AMERICA'!L12) -> 2|0-2
B13: =CONCATENATE('COPA AMERICA'!I13,"-",'COPA AMERICA'!N13) -> Paraguay-Catar | C13: =CONCATENATE(IF('COPA AMERICA'!K13>'COPA AMERICA'!L13,1,IF('COPA AMERICA'!K13<'COPA AMERICA'!L13,2,IF(AND('COPA AMERICA'!K13='COPA AMERICA'!L13,'COPA AMERICA'!K13<>"",'COPA AMERICA'!L13<>""),"X",0))),"|",'COPA AMERICA'!K13,"-",'COPA AMERICA'!L13) -> X|2-2
B14: =CONCATENATE('COPA AMERICA'!I14,"-",'COPA AMERICA'!N14) -> Argentina-Paraguay | C14: =CONCATENATE(IF('COPA AMERICA'!K14>'COPA AMERICA'!L14,1,IF('COPA AMERICA'!K14<'COPA AMERICA'!L14,2,IF(AND('COPA AMERICA'!K14='COPA AMERICA'!L14,'COPA AMERICA'!K14<>"",'COPA AMERICA'!L14<>""),"X",0))),"|",'COPA AMERICA'!K14,"-",'COPA AMERICA'!L14) -> X|1-1
B15: =CONCATENATE('COPA AMERICA'!I15,"-",'COPA AMERICA'!N15) -> Colombia-Catar | C15: =CONCATENATE(IF('COPA AMERICA'!K15>'COPA AMERICA'!L15,1,IF('COPA AMERICA'!K15<'COPA AMERICA'!L15,2,IF(AND('COPA AMERICA'!K15='COPA AMERICA'!L15,'COPA AMERICA'!K15<>"",'COPA AMERICA'!L15<>""),"X",0))),"|",'COPA AMERICA'!K15,"-",'COPA AMERICA'!L15) -> 1|1-0
B16: =CONCATENATE('COPA AMERICA'!I16,"-",'COPA AMERICA'!N16) -> Catar-Argentina | C16: =CONCATENATE(IF('COPA AMERICA'!K16>'COPA AMERICA'!L16,1,IF('COPA AMERICA'!K16<'COPA AMERICA'!L16,2,IF(AND('COPA AMERICA'!K16='COPA AMERICA'!L16,'COPA AMERICA'!K16<>"",'COPA AMERICA'!L16<>""),"X",0))),"|",'COPA AMERICA'!K16,"-",'COPA AMERICA'!L16) -> 2|0-2
B17: =CONCATENATE('COPA AMERICA'!I17,"-",'COPA AMERICA'!N17) -> Colombia-Paraguay | C17: =CONCATENATE(IF('COPA AMERICA'!K17>'COPA AMERICA'!L17,1,IF('COPA AMERICA'!K17<'COPA AMERICA'!L17,2,IF(AND('COPA AMERICA'!K17='COPA AMERICA'!L17,'COPA AMERICA'!K17<>"",'COPA AMERICA'!L17<>""),"X",0))),"|",'COPA AMERICA'!K17,"-",'COPA AMERICA'!L17) -> 1|1-0
B18: =CONCATENATE('COPA AMERICA'!I20,"-",'COPA AMERICA'!N20) -> Uruguay-Ecuador | C18: =CONCATENATE(IF('COPA AMERICA'!K20>'COPA AMERICA'!L20,1,IF('COPA AMERICA'!K20<'COPA AMERICA'!L20,2,IF(AND('COPA AMERICA'!K20='COPA AMERICA'!L20,'COPA AMERICA'!K20<>"",'COPA AMERICA'!L20<>""),"X",0))),"|",'COPA AMERICA'!K20,"-",'COPA AMERICA'!L20) -> 1|4-0
B19: =CONCATENATE('COPA AMERICA'!I21,"-",'COPA AMERICA'!N21) -> Japón-Chile | C19: =CONCATENATE(IF('COPA AMERICA'!K21>'COPA AMERICA'!L21,1,IF('COPA AMERICA'!K21<'COPA AMERICA'!L21,2,IF(AND('COPA AMERICA'!K21='COPA AMERICA'!L21,'COPA AMERICA'!K21<>"",'COPA AMERICA'!L21<>""),"X",0))),"|",'COPA AMERICA'!K21,"-",'COPA AMERICA'!L21) -> 2|0-4
B20: =CONCATENATE('COPA AMERICA'!I22,"-",'COPA AMERICA'!N22) -> Uruguay-Japón | C20: =CONCATENATE(IF('COPA AMERICA'!K22>'COPA AMERICA'!L22,1,IF('COPA AMERICA'!K22<'COPA AMERICA'!L22,2,IF(AND('COPA AMERICA'!K22='COPA AMERICA'!L22,'COPA AMERICA'!K22<>"",'COPA AMERICA'!L22<>""),"X",0))),"|",'COPA AMERICA'!K22,"-",'COPA AMERICA'!L22) -> 1|2-0
B21: =CONCATENATE('COPA AMERICA'!I23,"-",'COPA AMERICA'!N23) -> Ecuador-Chile | C21: =CONCATENATE(IF('COPA AMERICA'!K23>'COPA AMERICA'!L23,1,IF('COPA AMERICA'!K23<'COPA AMERICA'!L23,2,IF(AND('COPA AMERICA'!K23='COPA AMERICA'!L23,'COPA AMERICA'!K23<>"",'COPA AMERICA'!L23<>""),"X",0))),"|",'COPA AMERICA'!K23,"-",'COPA AMERICA'!L23) -> 2|1-2
B22: =CONCATENATE('COPA AMERICA'!I24,"-",'COPA AMERICA'!N24) -> Chile-Uruguay | C22: =CONCATENATE(IF('COPA AMERICA'!K24>'COPA AMERICA'!L24,1,IF('COPA AMERICA'!K24<'COPA AMERICA'!L24,2,IF(AND('COPA AMERICA'!K24='COPA AMERICA'!L24,'COPA AMERICA'!K24<>"",'COPA AMERICA'!L24<>""),"X",0))),"|",'COPA AMERICA'!K24,"-",'COPA AMERICA'!L24) -> 2|0-1
B23: =CONCATENATE('COPA AMERICA'!I25,"-",'COPA AMERICA'!N25) -> Ecuador-Japón | C23: =CONCATENATE(IF('COPA AMERICA'!K25>'COPA AMERICA'!L25,1,IF('COPA AMERICA'!K25<'COPA AMERICA'!L25,2,IF(AND('COPA AMERICA'!K25='COPA AMERICA'!L25,'COPA AMERICA'!K25<>"",'COPA AMERICA'!L25<>""),"X",0))),"|",'COPA AMERICA'!K25,"-",'COPA AMERICA'!L25) -> X|1-1
B25: POSICIÓN GRUPOS
B26: 1º GRUPO A | C26: =IF(SUM('COPA AMERICA'!$T$6:$T$9)=12,'COPA AMERICA'!R6,B26) -> Brasil
B27: 2º GRUPO A | C27: =IF(SUM('COPA AMERICA'!$T$6:$T$9)=12,'COPA AMERICA'!R7,B27) -> Venezuela
B28: 3º GRUPO A | C28: =IF(SUM('COPA AMERICA'!$T$6:$T$9)=12,'COPA AMERICA'!R8,B28) -> Perú
B29: 4º GRUPO A | C29: =IF(SUM('COPA AMERICA'!$T$6:$T$9)=12,'COPA AMERICA'!R9,B29) -> Bolivia
B30: 1º GRUPO B | C30: =IF(SUM('COPA AMERICA'!$T$14:$T$17)=12,'COPA AMERICA'!R14,B30) -> Colombia
B31: 2º GRUPO B | C31: =IF(SUM('COPA AMERICA'!$T$14:$T$17)=12,'COPA AMERICA'!R15,B31) -> Argentina
B32: 3º GRUPO B | C32: =IF(SUM('COPA AMERICA'!$T$14:$T$17)=12,'COPA AMERICA'!R16,B32) -> Paraguay
B33: 4º GRUPO B | C33: =IF(SUM('COPA AMERICA'!$T$14:$T$17)=12,'COPA AMERICA'!R17,B33) -> Catar
B34: 1º GRUPO C | C34: =IF(SUM('COPA AMERICA'!$T$22:$T$25)=12,'COPA AMERICA'!R22,B34) -> Uruguay
B35: 2º GRUPO C | C35: =IF(SUM('COPA AMERICA'!$T$22:$T$25)=12,'COPA AMERICA'!R23,B35) -> Chile
B36: 3º GRUPO C | C36: =IF(SUM('COPA AMERICA'!$T$22:$T$25)=12,'COPA AMERICA'!R24,B36) -> Ecuador
B37: 4º GRUPO C | C37: =IF(SUM('COPA AMERICA'!$T$22:$T$25)=12,'COPA AMERICA'!R25,B37) -> Japón
B39: CLASIFICADOS PARA CUARTOS
B40: Cuartofinalista | C40: ='COPA AMERICA'!I39 -> Brasil
B41: Cuartofinalista | C41: ='COPA AMERICA'!I40 -> Venezuela
B42: Cuartofinalista | C42: ='COPA AMERICA'!I41 -> Colombia
B43: Cuartofinalista | C43: ='COPA AMERICA'!I42 -> Uruguay
B44: Cuartofinalista | C44: ='COPA AMERICA'!N39 -> Paraguay
B45: Cuartofinalista | C45: ='COPA AMERICA'!N40 -> Argentina
B46: Cuartofinalista | C46: ='COPA AMERICA'!N41 -> Chile
B47: Cuartofinalista | C47: ='COPA AMERICA'!N42 -> Perú
B49: ENFRENTAMIENTOS CUARTOS
B50: =CONCATENATE('COPA AMERICA'!I39,"-",'COPA AMERICA'!N39) -> Brasil-Paraguay | C50: =CONCATENATE('COPA AMERICA'!I39,"-",'COPA AMERICA'!N39,"· ",IF('COPA AMERICA'!K39>'COPA AMERICA'!L39,1,IF('COPA AMERICA'!K39<'COPA AMERICA'!L39,2,IF(AND('COPA AMERICA'!K39='COPA AMERICA'!L39,'COPA AMERICA'!K39<>"",'COPA AMERICA'!L39<>""),"X",0))),"|",'COPA AMERICA'!K39,"-",'COPA AMERICA'!L39) -> Brasil-Paraguay· X|0-0
B51: =CONCATENATE('COPA AMERICA'!I40,"-",'COPA AMERICA'!N40) -> Venezuela-Argentina | C51: =CONCATENATE('COPA AMERICA'!I40,"-",'COPA AMERICA'!N40,"· ",IF('COPA AMERICA'!K40>'COPA AMERICA'!L40,1,IF('COPA AMERICA'!K40<'COPA AMERICA'!L40,2,IF(AND('COPA AMERICA'!K40='COPA AMERICA'!L40,'COPA AMERICA'!K40<>"",'COPA AMERICA'!L40<>""),"X",0))),"|",'COPA AMERICA'!K40,"-",'COPA AMERICA'!L40) -> Venezuela-Argentina· X|0-0
B52: =CONCATENATE('COPA AMERICA'!I41,"-",'COPA AMERICA'!N41) -> Colombia-Chile | C52: =CONCATENATE('COPA AMERICA'!I41,"-",'COPA AMERICA'!N41,"· ",IF('COPA AMERICA'!K41>'COPA AMERICA'!L41,1,IF('COPA AMERICA'!K41<'COPA AMERICA'!L41,2,IF(AND('COPA AMERICA'!K41='COPA AMERICA'!L41,'COPA AMERICA'!K41<>"",'COPA AMERICA'!L41<>""),"X",0))),"|",'COPA AMERICA'!K41,"-",'COPA AMERICA'!L41) -> Colombia-Chile· X|0-0
B53: =CONCATENATE('COPA AMERICA'!I42,"-",'COPA AMERICA'!N42) -> Uruguay-Perú | C53: =CONCATENATE('COPA AMERICA'!I42,"-",'COPA AMERICA'!N42,"· ",IF('COPA AMERICA'!K42>'COPA AMERICA'!L42,1,IF('COPA AMERICA'!K42<'COPA AMERICA'!L42,2,IF(AND('COPA AMERICA'!K42='COPA AMERICA'!L42,'COPA AMERICA'!K42<>"",'COPA AMERICA'!L42<>""),"X",0))),"|",'COPA AMERICA'!K42,"-",'COPA AMERICA'!L42) -> Uruguay-Perú· X|0-0
B55: CLASIFICADOS PARA SEMIFINALES
B56: Semifinalista | C56: ='COPA AMERICA'!I45 -> WC1
B57: Semifinalista | C57: ='COPA AMERICA'!I46 -> WC3
B58: Semifinalista | C58: ='COPA AMERICA'!N45 -> WC2
B59: Semifinalista | C59: ='COPA AMERICA'!N46 -> WC4
B61: ENFRENTAMIENTOS SEMIFINALES
B62: =CONCATENATE('COPA AMERICA'!I45,"-",'COPA AMERICA'!N45) -> WC1-WC2 | C62: =CONCATENATE('COPA AMERICA'!I45,"-",'COPA AMERICA'!N45,"· ",IF('COPA AMERICA'!K45>'COPA AMERICA'!L45,1,IF('COPA AMERICA'!K45<'COPA AMERICA'!L45,2,IF(AND('COPA AMERICA'!K45='COPA AMERICA'!L45,'COPA AMERICA'!K45<>"",'COPA AMERICA'!L45<>""),"X",0))),"|",'COPA AMERICA'!K45,"-",'COPA AMERICA'!L45) -> WC1-WC2· X|0-0
B63: =CONCATENATE('COPA AMERICA'!I46,"-",'COPA AMERICA'!N46) -> WC3-WC4 | C63: =CONCATENATE('COPA AMERICA'!I46,"-",'COPA AMERICA'!N46,"· ",IF('COPA AMERICA'!K46>'COPA AMERICA'!L46,1,IF('COPA AMERICA'!K46<'COPA AMERICA'!L46,2,IF(AND('COPA AMERICA'!K46='COPA AMERICA'!L46,'COPA AMERICA'!K46<>"",'COPA AMERICA'!L46<>""),"X",0))),"|",'COPA AMERICA'!K46,"-",'COPA AMERICA'!L46) -> WC3-WC4· X|0-0
B65: 3º y 4º PUESTO
B66: 3º y 4º puesto (1) | C66: ='COPA AMERICA'!I49 -> LS1
B67: 3º y 4º puesto (2) | C67: ='COPA AMERICA'!N49 -> LS2
B69: Partido 3º y 4º Puesto
B70: =CONCATENATE('COPA AMERICA'!I49,"-",'COPA AMERICA'!N49) -> LS1-LS2 | C70: =CONCATENATE('COPA AMERICA'!I49,"-",'COPA AMERICA'!N49,"· ",IF('COPA AMERICA'!K49>'COPA AMERICA'!L49,1,IF('COPA AMERICA'!K49<'COPA AMERICA'!L49,2,IF(AND('COPA AMERICA'!K49='COPA AMERICA'!L49,'COPA AMERICA'!K49<>"",'COPA AMERICA'!L49<>""),"X",0))),"|",'COPA AMERICA'!K49,"-",'COPA AMERICA'!L49) -> LS1-LS2· 0|-
B72: CLASIFICADOS PARA LA FINAL
B73: Finalista | C73: ='COPA AMERICA'!I52 -> WS1
B74: Finalista | C74: ='COPA AMERICA'!N52 -> WS2
B76: ENFRENTAMIENTO FINAL
B77: =CONCATENATE('COPA AMERICA'!I52,"-",'COPA AMERICA'!N52) -> WS1-WS2 | C77: =CONCATENATE('COPA AMERICA'!I52,"-",'COPA AMERICA'!N52,"· ",IF('COPA AMERICA'!K52>'COPA AMERICA'!L52,1,IF('COPA AMERICA'!K52<'COPA AMERICA'!L52,2,IF(AND('COPA AMERICA'!K52='COPA AMERICA'!L52,'COPA AMERICA'!K52<>"",'COPA AMERICA'!L52<>""),"X",0))),"|",'COPA AMERICA'!K52,"-",'COPA AMERICA'!L52) -> WS1-WS2· 0|-
B79: CAMPEONES
B80: ='COPA AMERICA'!E55 -> Campeón | C80: ='COPA AMERICA'!I55 -> WF
B81: ='COPA AMERICA'!E56 -> Subcampeón | C81: ='COPA AMERICA'!I56 -> LF
B82: ='COPA AMERICA'!E57 -> 3º Puesto | C82: ='COPA AMERICA'!I57 -> W34
B83: ='COPA AMERICA'!E59 -> Goleador del torneo | C83: ='COPA AMERICA'!I59 -> 0
B84: ='COPA AMERICA'!E60 -> Mejor jugador del torneo | C84: ='COPA AMERICA'!I60 -> 0
B85: ='COPA AMERICA'!E61 -> Mejor portero del torneo | C85: ='COPA AMERICA'!I61 -> 0

Sheet Print
C1: =TODAY() -> 43641
C6: GRUPO A | N6: GRUPO B | Y6: GRUPO C
B7: J1 | C7: ='COPA AMERICA'!I4 -> Brasil | D7: =IF(ISBLANK('COPA AMERICA'!K4),"",'COPA AMERICA'!K4) -> 3 | E7: =IF(ISBLANK('COPA AMERICA'!L4),"",'COPA AMERICA'!L4) -> 0 | F7: ='COPA AMERICA'!N4 -> Bolivia | M7: J1 | N7: ='COPA AMERICA'!I12 -> Argentina | O7: =IF(ISBLANK('COPA AMERICA'!K12),"",'COPA AMERICA'!K12) -> 0 | P7: =IF(ISBLANK('COPA AMERICA'!L12),"",'COPA AMERICA'!L12) -> 2 | Q7: ='COPA AMERICA'!N12 -> Colombia | X7: J1 | Y7: ='COPA AMERICA'!I20 -> Uruguay | Z7: =IF(ISBLANK('COPA AMERICA'!K20),"",'COPA AMERICA'!K20) -> 4 | AA7: =IF(ISBLANK('COPA AMERICA'!L20),"",'COPA AMERICA'!L20) -> 0 | AB7: ='COPA AMERICA'!N20 -> Ecuador
C8: ='COPA AMERICA'!I5 -> Venezuela | D8: =IF(ISBLANK('COPA AMERICA'!K5),"",'COPA AMERICA'!K5) -> 0 | E8: =IF(ISBLANK('COPA AMERICA'!L5),"",'COPA AMERICA'!L5) -> 0 | F8: ='COPA AMERICA'!N5 -> Perú | N8: ='COPA AMERICA'!I13 -> Paraguay | O8: =IF(ISBLANK('COPA AMERICA'!K13),"",'COPA AMERICA'!K13) -> 2 | P8: =IF(ISBLANK('COPA AMERICA'!L13),"",'COPA AMERICA'!L13) -> 2 | Q8: ='COPA AMERICA'!N13 -> Catar | Y8: ='COPA AMERICA'!I21 -> Japón | Z8: =IF(ISBLANK('COPA AMERICA'!K21),"",'COPA AMERICA'!K21) -> 0 | AA8: =IF(ISBLANK('COPA AMERICA'!L21),"",'COPA AMERICA'!L21) -> 4 | AB8: ='COPA AMERICA'!N21 -> Chile
B9: J2 | C9: ='COPA AMERICA'!I6 -> Brasil | D9: =IF(ISBLANK('COPA AMERICA'!K6),"",'COPA AMERICA'!K6) -> 0 | E9: =IF(ISBLANK('COPA AMERICA'!L6),"",'COPA AMERICA'!L6) -> 0 | F9: ='COPA AMERICA'!N6 -> Venezuela | M9: J2 | N9: ='COPA AMERICA'!I14 -> Argentina | O9: =IF(ISBLANK('COPA AMERICA'!K14),"",'COPA AMERICA'!K14) -> 1 | P9: =IF(ISBLANK('COPA AMERICA'!L14),"",'COPA AMERICA'!L14) -> 1 | Q9: ='COPA AMERICA'!N14 -> Paraguay | X9: J2 | Y9: ='COPA AMERICA'!I22 -> Uruguay | Z9: =IF(ISBLANK('COPA AMERICA'!K22),"",'COPA AMERICA'!K22) -> 2 | AA9: =IF(ISBLANK('COPA AMERICA'!L22),"",'COPA AMERICA'!L22) -> 0 | AB9: ='COPA AMERICA'!N22 -> Japón
C10: ='COPA AMERICA'!I7 -> Bolivia | D10: =IF(ISBLANK('COPA AMERICA'!K7),"",'COPA AMERICA'!K7) -> 1 | E10: =IF(ISBLANK('COPA AMERICA'!L7),"",'COPA AMERICA'!L7) -> 3 | F10: ='COPA AMERICA'!N7 -> Perú | N10: ='COPA AMERICA'!I15 -> Colombia | O10: =IF(ISBLANK('COPA AMERICA'!K15),"",'COPA AMERICA'!K15) -> 1 | P10: =IF(ISBLANK('COPA AMERICA'!L15),"",'COPA AMERICA'!L15) -> 0 | Q10: ='COPA AMERICA'!N15 -> Catar | Y10: ='COPA AMERICA'!I23 -> Ecuador | Z10: =IF(ISBLANK('COPA AMERICA'!K23),"",'COPA AMERICA'!K23) -> 1 | AA10: =IF(ISBLANK('COPA AMERICA'!L23),"",'COPA AMERICA'!L23) -> 2 | AB10: ='COPA AMERICA'!N23 -> Chile
B11: J3 | C11: ='COPA AMERICA'!I8 -> Perú | D11: =IF(ISBLANK('COPA AMERICA'!K8),"",'COPA AMERICA'!K8) -> 0 | E11: =IF(ISBLANK('COPA AMERICA'!L8),"",'COPA AMERICA'!L8) -> 5 | F11: ='COPA AMERICA'!N8 -> Brasil | M11: J3 | N11: ='COPA AMERICA'!I16 -> Catar | O11: =IF(ISBLANK('COPA AMERICA'!K16),"",'COPA AMERICA'!K16) -> 0 | P11: =IF(ISBLANK('COPA AMERICA'!L16),"",'COPA AMERICA'!L16) -> 2 | Q11: ='COPA AMERICA'!N16 -> Argentina | X11: J3 | Y11: ='COPA AMERICA'!I24 -> Chile | Z11: =IF(ISBLANK('COPA AMERICA'!K24),"",'COPA AMERICA'!K24) -> 0 | AA11: =IF(ISBLANK('COPA AMERICA'!L24),"",'COPA AMERICA'!L24) -> 1 | AB11: ='COPA AMERICA'!N24 -> Uruguay
C12: ='COPA AMERICA'!I9 -> Bolivia | D12: =IF(ISBLANK('COPA AMERICA'!K9),"",'COPA AMERICA'!K9) -> 1 | E12: =IF(ISBLANK('COPA AMERICA'!L9),"",'COPA AMERICA'!L9) -> 3 | F12: ='COPA AMERICA'!N9 -> Venezuela | N12: ='COPA AMERICA'!I17 -> Colombia | O12: =IF(ISBLANK('COPA AMERICA'!K17),"",'COPA AMERICA'!K17) -> 1 | P12: =IF(ISBLANK('COPA AMERICA'!L17),"",'COPA AMERICA'!L17) -> 0 | Q12: ='COPA AMERICA'!N17 -> Paraguay | Y12: ='COPA AMERICA'!I25 -> Ecuador | Z12: =IF(ISBLANK('COPA AMERICA'!K25),"",'COPA AMERICA'!K25) -> 1 | AA12: =IF(ISBLANK('COPA AMERICA'!L25),"",'COPA AMERICA'!L25) -> 1 | AB12: ='COPA AMERICA'!N25 -> Japón
C14: CLASIFICACION GRUPO A | N14: CLASIFICACION GRUPO B | Y14: CLASIFICACION GRUPO C
B15: ='COPA AMERICA'!Q5 -> Pos | C15: ='COPA AMERICA'!R5 -> Selección | D15: ='COPA AMERICA'!S5 -> Pts | E15: ='COPA AMERICA'!T5 -> J | F15: ='COPA AMERICA'!U5 -> G | G15: ='COPA AMERICA'!V5 -> E | H15: ='COPA AMERICA'!W5 -> P | I15: ='COPA AMERICA'!X5 -> GF | ... K15: ='COPA AMERICA'!Z5 -> DG | M15: ='COPA AMERICA'!Q13 -> Pos | N15: ='COPA AMERICA'!R13 -> Selección | O15: ='COPA AMERICA'!S13 -> Pts | P15: ='COPA AMERICA'!T13 -> J | Q15: ='COPA AMERICA'!U13 -> G | R15: ='COPA AMERICA'!V13 -> E | S15: ='COPA AMERICA'!W13 -> P | T15: ='COPA AMERICA'!X13 -> GF | ... V15: ='COPA AMERICA'!Z13 -> DG | X15: ='COPA AMERICA'!Q21 -> Pos | Y15: ='COPA AMERICA'!R21 -> Selección | Z15: ='COPA AMERICA'!S21 -> Pts | AA15: ='COPA AMERICA'!T21 -> J | AB15: ='COPA AMERICA'!U21 -> G | AC15: ='COPA AMERICA'!V21 -> E | AD15: ='COPA AMERICA'!W21 -> P | AE15: ='COPA AMERICA'!X21 -> GF | ... AG15: ='COPA AMERICA'!Z21 -> DG
B16: ='COPA AMERICA'!Q6 -> 1 | C16: ='COPA AMERICA'!R6 -> Brasil | D16: ='COPA AMERICA'!S6 -> 7 | E16: ='COPA AMERICA'!T6 -> 3 | F16: ='COPA AMERICA'!U6 -> 2 | G16: ='COPA AMERICA'!V6 -> 1 | H16: ='COPA AMERICA'!W6 -> 0 | I16: ='COPA AMERICA'!X6 -> 8 | ... K16: ='COPA AMERICA'!Z6 -> 8 | M16: ='COPA AMERICA'!Q14 -> 1 | N16: ='COPA AMERICA'!R14 -> Colombia | O16: ='COPA AMERICA'!S14 -> 9 | P16: ='COPA AMERICA'!T14 -> 3 | Q16: ='COPA AMERICA'!U14 -> 3 | R16: ='COPA AMERICA'!V14 -> 0 | S16: ='COPA AMERICA'!W14 -> 0 | T16: ='COPA AMERICA'!X14 -> 4 | ... V16: ='COPA AMERICA'!Z14 -> 4 | X16: ='COPA AMERICA'!Q22 -> 1 | Y16: ='COPA AMERICA'!R22 -> Uruguay | Z16: ='COPA AMERICA'!S22 -> 9 | AA16: ='COPA AMERICA'!T22 -> 3 | AB16: ='COPA AMERICA'!U22 -> 3 | AC16: ='COPA AMERICA'!V22 -> 0 | AD16: ='COPA AMERICA'!W22 -> 0 | AE16: ='COPA AMERICA'!X22 -> 7 | ... AG16: ='COPA AMERICA'!Z22 -> 7
B17: ='COPA AMERICA'!Q7 -> 2 | C17: ='COPA AMERICA'!R7 -> Venezuela | D17: ='COPA AMERICA'!S7 -> 5 | E17: ='COPA AMERICA'!T7 -> 3 | F17: ='COPA AMERICA'!U7 -> 1 | G17: ='COPA AMERICA'!V7 -> 2 | H17: ='COPA AMERICA'!W7 -> 0 | I17: ='COPA AMERICA'!X7 -> 3 | ... K17: ='COPA AMERICA'!Z7 -> 2 | M17: ='COPA AMERICA'!Q15 -> 2 | N17: ='COPA AMERICA'!R15 -> Argentina | O17: ='COPA AMERICA'!S15 -> 4 | P17: ='COPA AMERICA'!T15 -> 3 | Q17: ='COPA AMERICA'!U15 -> 1 | R17: ='COPA AMERICA'!V15 -> 1 | S17: ='COPA AMERICA'!W15 -> 1 | T17: ='COPA AMERICA'!X15 -> 3 | ... V17: ='COPA AMERICA'!Z15 -> 0 | X17: ='COPA AMERICA'!Q23 -> 2 | Y17: ='COPA AMERICA'!R23 -> Chile | Z17: ='COPA AMERICA'!S23 -> 6 | AA17: ='COPA AMERICA'!T23 -> 3 | AB17: ='COPA AMERICA'!U23 -> 2 | AC17: ='COPA AMERICA'!V23 -> 0 | AD17: ='COPA AMERICA'!W23 -> 1 | AE17: ='COPA AMERICA'!X23 -> 6 | ... AG17: ='COPA AMERICA'!Z23 -> 4
B18: ='COPA AMERICA'!Q8 -> 3 | C18: ='COPA AMERICA'!R8 -> Perú | D18: ='COPA AMERICA'!S8 -> 4 | E18: ='COPA AMERICA'!T8 -> 3 | F18: ='COPA AMERICA'!U8 -> 1 | G18: ='COPA AMERICA'!V8 -> 1 | H18: ='COPA AMERICA'!W8 -> 1 | I18: ='COPA AMERICA'!X8 -> 3 | ... K18: ='COPA AMERICA'!Z8 -> -3 | M18: ='COPA AMERICA'!Q16 -> 3 | N18: ='COPA AMERICA'!R16 -> Paraguay | O18: ='COPA AMERICA'!S16 -> 2 | P18: ='COPA AMERICA'!T16 -> 3 | Q18: ='COPA AMERICA'!U16 -> 0 | R18: ='COPA AMERICA'!V16 -> 2 | S18: ='COPA AMERICA'!W16 -> 1 | T18: ='COPA AMERICA'!X16 -> 3 | ... V18: ='COPA AMERICA'!Z16 -> -1 | X18: ='COPA AMERICA'!Q24 -> 3 | Y18: ='COPA AMERICA'!R24 -> Ecuador | Z18: ='COPA AMERICA'!S24 -> 1 | AA18: ='COPA AMERICA'!T24 -> 3 | AB18: ='COPA AMERICA'!U24 -> 0 | AC18: ='COPA AMERICA'!V24 -> 1 | AD18: ='COPA AMERICA'!W24 -> 2 | AE18: ='COPA AMERICA'!X24 -> 2 | ... AG18: ='COPA AMERICA'!Z24 -> -5
B19: ='COPA AMERICA'!Q9 -> 4 | C19: ='COPA AMERICA'!R9 -> Bolivia | D19: ='COPA AMERICA'!S9 -> 0 | E19: ='COPA AMERICA'!T9 -> 3 | F19: ='COPA AMERICA'!U9 -> 0 | G19: ='COPA AMERICA'!V9 -> 0 | H19: ='COPA AMERICA'!W9 -> 3 | I19: ='COPA AMERICA'!X9 -> 2 | ... K19: ='COPA AMERICA'!Z9 -> -7 | M19: ='COPA AMERICA'!Q17 -> 4 | N19: ='COPA AMERICA'!R17 -> Catar | O19: ='COPA AMERICA'!S17 -> 1 | P19: ='COPA AMERICA'!T17 -> 3 | Q19: ='COPA AMERICA'!U17 -> 0 | R19: ='COPA AMERICA'!V17 -> 1 | S19: ='COPA AMERICA'!W17 -> 2 | T19: ='COPA AMERICA'!X17 -> 2 | ... V19: ='COPA AMERICA'!Z17 -> -3 | X19: ='COPA AMERICA'!Q25 -> 4 | Y19: ='COPA AMERICA'!R25 -> Japón | Z19: ='COPA AMERICA'!S25 -> 1 | AA19: ='COPA AMERICA'!T25 -> 3 | AB19: ='COPA AMERICA'!U25 -> 0 | AC19: ='COPA AMERICA'!V25 -> 1 | AD19: ='COPA AMERICA'!W25 -> 2 | AE19: ='COPA AMERICA'!X25 -> 1 | ... AG19: ='COPA AMERICA'!Z25 -> -6
N21: CLASIFICACION TERCEROS
M22: ='COPA AMERICA'!E32 -> Pos | N22: ='COPA AMERICA'!F32 -> Selección | O22: ='COPA AMERICA'!G32 -> Pts | P22: ='COPA AMERICA'!H32 -> J | Q22: ='COPA AMERICA'!I32 -> G | R22: ='COPA AMERICA'!J32 -> E | S22: ='COPA AMERICA'!K32 -> P | T22: ='COPA AMERICA'!L32 -> GF | ... V22: ='COPA AMERICA'!N32 -> DG
M23: ='COPA AMERICA'!E33 -> 1 | N23: ='COPA AMERICA'!F33 -> Perú | O23: ='COPA AMERICA'!G33 -> 4 | P23: ='COPA AMERICA'!H33 -> 3 | Q23: ='COPA AMERICA'!I33 -> 1 | R23: ='COPA AMERICA'!J33 -> 1 | S23: ='COPA AMERICA'!K33 -> 1 | T23: ='COPA AMERICA'!L33 -> 3 | ... V23: ='COPA AMERICA'!N33 -> -3
M24: ='COPA AMERICA'!E34 -> 2 | N24: ='COPA AMERICA'!F34 -> Paraguay | O24: ='COPA AMERICA'!G34 -> 2 | P24: ='COPA AMERICA'!H34 -> 3 | Q24: ='COPA AMERICA'!I34 -> 0 | R24: ='COPA AMERICA'!J34 -> 2 | S24: ='COPA AMERICA'!K34 -> 1 | T24: ='COPA AMERICA'!L34 -> 3 | ... V24: ='COPA AMERICA'!N34 -> -1
M25: ='COPA AMERICA'!E35 -> 3 | N25: ='COPA AMERICA'!F35 -> Ecuador | O25: ='COPA AMERICA'!G35 -> 1 | P25: ='COPA AMERICA'!H35 -> 3 | Q25: ='COPA AMERICA'!I35 -> 0 | R25: ='COPA AMERICA'!J35 -> 1 | S25: ='COPA AMERICA'!K35 -> 2 | T25: ='COPA AMERICA'!L35 -> 2 | ... V25: ='COPA AMERICA'!N35 -> -5
C26: CUARTOS -------------------> | G26: SEMIFINALES --------------------------------------------------> | Q26: FINAL | AB26: <------------------------------------------------------ SEMIFINALES | AH26: <----------------- CUARTOS
C28: ='COPA AMERICA'!I39 -> Brasil | D28: =IF(ISBLANK('COPA AMERICA'!K39),"",'COPA AMERICA'!K39) -> 0 | E28: =IF(ISBLANK('COPA AMERICA'!J39),"","("&'COPA AMERICA'!J39&")") | AD28: =IF(ISBLANK('COPA AMERICA'!J41),"","("&'COPA AMERICA'!J41&")") | AE28: =IF(ISBLANK('COPA AMERICA'!K41),"",'COPA AMERICA'!K41) -> 0 | AF28: ='COPA AMERICA'!I41 -> Colombia
C29: ='COPA AMERICA'!N39 -> Paraguay | D29: =IF(ISBLANK('COPA AMERICA'!L39),"",'COPA AMERICA'!L39) -> 0 | E29: =IF(ISBLANK('COPA AMERICA'!M39),"","("&'COPA AMERICA'!M39&")") | AD29: =IF(ISBLANK('COPA AMERICA'!M41),"","("&'COPA AMERICA'!M41&")") | AE29: =IF(ISBLANK('COPA AMERICA'!L41),"",'COPA AMERICA'!L41) -> 0 | AF29: ='COPA AMERICA'!N41 -> Chile
Q30: 3º y 4º puesto
O31: ='COPA AMERICA'!I49 -> LS1 | P31: =IF(ISBLANK('COPA AMERICA'!J49),"","("&'COPA AMERICA'!J49&")") | Q31: =IF(ISBLANK('COPA AMERICA'!K49),"",'COPA AMERICA'!K49) | R31: =IF(ISBLANK('COPA AMERICA'!L49),"",'COPA AMERICA'!L49) | S31: =IF(ISBLANK('COPA AMERICA'!M49),"","("&'COPA AMERICA'!M49&")") | T31: ='COPA AMERICA'!N49 -> LS2
H33: ='COPA AMERICA'!I45 -> WC1 | I33: =IF(ISBLANK('COPA AMERICA'!K45),"",'COPA AMERICA'!K45) -> 0 | J33: =IF(ISBLANK('COPA AMERICA'!J45),"","("&'COPA AMERICA'!J45&")") | Q33: Final | Z33: =IF(ISBLANK('COPA AMERICA'!J46),"","("&'COPA AMERICA'!J46&")") | AA33: =IF(ISBLANK('COPA AMERICA'!K46),"",'COPA AMERICA'!K46) -> 0 | AB33: ='COPA AMERICA'!I46 -> WC3
H34: ='COPA AMERICA'!N45 -> WC2 | I34: =IF(ISBLANK('COPA AMERICA'!L45),"",'COPA AMERICA'!L45) -> 0 | J34: =IF(ISBLANK('COPA AMERICA'!M45),"","("&'COPA AMERICA'!M45&")") | O34: ='COPA AMERICA'!I52 -> WS1 | P34: =IF(ISBLANK('COPA AMERICA'!J52),"","("&'COPA AMERICA'!J52&")") | Q34: =IF(ISBLANK('COPA AMERICA'!K52),"",'COPA AMERICA'!K52) | R34: =IF(ISBLANK('COPA AMERICA'!L52),"",'COPA AMERICA'!L52) | S34: =IF(ISBLANK('COPA AMERICA'!M52),"","("&'COPA AMERICA'!M52&")") | T34: ='COPA AMERICA'!N52 -> WS2 | Z34: =IF(ISBLANK('COPA AMERICA'!M46),"","("&'COPA AMERICA'!M46&")") | AA34: =IF(ISBLANK('COPA AMERICA'!L46),"",'COPA AMERICA'!L46) -> 0 | AB34: ='COPA AMERICA'!N46 -> WC4
C38: ='COPA AMERICA'!I40 -> Venezuela | D38: =IF(ISBLANK('COPA AMERICA'!K40),"",'COPA AMERICA'!K40) -> 0 | E38: =IF(ISBLANK('COPA AMERICA'!J40),"","("&'COPA AMERICA'!J40&")") | AD38: =IF(ISBLANK('COPA AMERICA'!J42),"","("&'COPA AMERICA'!J42&")") | AE38: =IF(ISBLANK('COPA AMERICA'!K42),"",'COPA AMERICA'!K42) -> 0 | AF38: ='COPA AMERICA'!I42 -> Uruguay
C39: ='COPA AMERICA'!N40 -> Argentina | D39: =IF(ISBLANK('COPA AMERICA'!L40),"",'COPA AMERICA'!L40) -> 0 | E39: =IF(ISBLANK('COPA AMERICA'!M40),"","("&'COPA AMERICA'!M40&")") | AD39: =IF(ISBLANK('COPA AMERICA'!M42),"","("&'COPA AMERICA'!M42&")") | AE39: =IF(ISBLANK('COPA AMERICA'!L42),"",'COPA AMERICA'!L42) -> 0 | AF39: ='COPA AMERICA'!N42 -> Perú
O48: =IF('COPA AMERICA'!I55="WF","1º",IF('COPA AMERICA'!I55="","1º",CONCATENATE("1º",CHAR(10),'COPA AMERICA'!I55))) -> 1º
K51: =IF('COPA AMERICA'!I56="LF","2º",IF('COPA AMERICA'!I56="","2º",CONCATENATE("2º",CHAR(10),'COPA AMERICA'!I56))) -> 2º
V52: =IF('COPA AMERICA'!I57="W34","3º",IF('COPA AMERICA'!I57="","3º",CONCATENATE("3º",CHAR(10),'COPA AMERICA'!I57))) -> 3º
K60: ⚽️ | N60: =IF('COPA AMERICA'!I59="Escribe un Jugador","Por definir",IF('COPA AMERICA'!I59="","Por definir",'COPA AMERICA'!I59)) -> Por definir
K62: 🏆 | N62: =IF('COPA AMERICA'!I60="Escribe un Jugador","Por definir",IF('COPA AMERICA'!I60="","Por definir",'COPA AMERICA'!I60)) -> Por definir
K64: 🧤 | N64: =IF('COPA AMERICA'!I61="Escribe un Jugador","Por definir",IF('COPA AMERICA'!I61="","Por definir",'COPA AMERICA'!I61)) -> Por definir

Sheet Equipos
A1: OK | B1: NombreEquipo | C1: Grupo | D1: Rank | F1: GRUPOS
A2: 1 | B2: =VLOOKUP(Tabla3[[#This Row],[OK]],$G$2:$H$13,2,0) -> Brasil | C2: A | D2: 1 | F2: A | G2: 1 | H2: Brasil | MAL2: matejero
A3: 3 | B3: =VLOOKUP(Tabla3[[#This Row],[OK]],$G$2:$H$13,2,0) -> Bolivia | C3: A | D3: 2 | F3: B | G3: 2 | H3: Argentina
A4: 12 | B4: =VLOOKUP(Tabla3[[#This Row],[OK]],$G$2:$H$13,2,0) -> Venezuela | C4: A | D4: 3 | F4: C | G4: 3 | H4: Bolivia
A5: 10 | B5: =VLOOKUP(Tabla3[[#This Row],[OK]],$G$2:$H$13,2,0) -> Perú | C5: A | D5: 4 | G5: 4 | H5: Catar
A6: 2 | B6: =VLOOKUP(Tabla3[[#This Row],[OK]],$G$2:$H$13,2,0) -> Argentina | C6: B | D6: 5 | G6: 5 | H6: Chile
A7: 6 | B7: =VLOOKUP(Tabla3[[#This Row],[OK]],$G$2:$H$13,2,0) -> Colombia | C7: B | D7: 6 | G7: 6 | H7: Colombia
A8: 9 | B8: =VLOOKUP(Tabla3[[#This Row],[OK]],$G$2:$H$13,2,0) -> Paraguay | C8: B | D8: 7 | G8: 7 | H8: Ecuador
A9: 4 | B9: =VLOOKUP(Tabla3[[#This Row],[OK]],$G$2:$H$13,2,0) -> Catar | C9: B | D9: 8 | G9: 8 | H9: Japón
A10: 11 | B10: =VLOOKUP(Tabla3[[#This Row],[OK]],$G$2:$H$13,2,0) -> Uruguay | C10: C | D10: 9 | G10: 9 | H10: Paraguay
A11: 7 | B11: =VLOOKUP(Tabla3[[#This Row],[OK]],$G$2:$H$13,2,0) -> Ecuador | C11: C | D11: 10 | G11: 10 | H11: Perú
A12: 8 | B12: =VLOOKUP(Tabla3[[#This Row],[OK]],$G$2:$H$13,2,0) -> Japón | C12: C | D12: 11 | G12: 11 | H12: Uruguay
A13: 5 | B13: =VLOOKUP(Tabla3[[#This Row],[OK]],$G$2:$H$13,2,0) -> Chile | C13: C | D13: 12 | G13: 12 | H13: Venezuela
R15: Pontos
LS28: matejero | MAL28: matejero

Sheet Creditos
